Workbook

Sheet CombinedCompleted_InDev_Assays
A1: Combined list of available targeted assays
B2: Assay Type by color:
B3: immuno-PRM MS
B4: IMAC targeted MS
B5: direct targeted MS
N6: Multiplexed Targeted Panels
A7: Completed or In Development | B7: Assay Type | C7: Gene Symbol (HGNC, genenames.org) | D7: Alternate Gene Symbols | E7: Target protein name | F7: UniProt ID (& link) | G7: Peptide Modification detected | H7: Modification site | I7: Assay Species | J7: NCI CPTAC Assay Portal ID (& link) | K7: FHCRC Antibody ID | L7: NCI CPTAC Antibody Portal ID (& link) | M7: Reference/Notes | N7: DDR MASTER Panel | O7: IO MASTER Panel | P7: RAS Panel (1 & 2 combined) | Q7: ADC Panel | R7: UCEC Panel | S7: DDR IMAC Panel | T7: IO-4 Panel
A8: Completed | B8: immuno-PRM MS | C8: ACADSB | E8: acyl-CoA dehydrogenase short/branched chain | F8: P45954 | G8: non-modified | I8: Human | K8: EB2120-7G9-H2/K2
A9: Completed | B9: immuno-PRM MS | C9: ACADSB | E9: acyl-CoA dehydrogenase short/branched chain | F9: P45954 | G9: non-modified | I9: Human | K9: RSAP14m-1B1d
A10: Completed | B10: immuno-PRM MS | C10: ACOT7 | D10: BACH, ACH1, ACT, CTE-II, LACH1, MGC1126, hBACH | E10: acyl-CoA thioesterase 7 | F10: O00154 | G10: non-modified | I10: Human | K10: EB2121-2D2-H1/K1
A11: Completed | B11: immuno-PRM MS | C11: ACOT7 | E11: Cytosolic acyl coenzyme A thioester hydrolase | F11: O00154 | G11: non-modified | I11: Human | K11: HWAP4
A12: Completed | B12: immuno-PRM MS | C12: ACT | D12: NEM3 | E12: Actin; ACTA2 ACTA1 ACTB ACTG1 ACTC1 ACTG2 | F12: Q562L2 | G12: non-modified | I12: Human | K12: EB0957-6F5-H1/K1 | N12: 1 | Q12: 1 | R12: 1
A13: Completed | B13: immuno-PRM MS | C13: ACTN4 | E13: Alpha-actinin-4 | F13: O43707 | G13: non-modified | I13: Human | K13: HWAP4
A14: Completed | B14: immuno-PRM MS | C14: ACTN4 | E14: Alpha-actinin-4 | F14: O43707 | G14: non-modified | I14: Human | K14: MGP10-1A7b
A15: Completed | B15: immuno-PRM MS | C15: ADA | E15: adenosine deaminase | F15: P00813 | G15: non-modified | I15: Human | K15: EB0150D-R1H6-H2/K2 | N15: 1 | O15: 1
A16: Completed | B16: immuno-PRM MS | C16: ADA | E16: adenosine deaminase | F16: P00813 | G16: non-modified | I16: Human | K16: EB0150D-R1H6-H2/K2 | N16: 1 | O16: 1
A17: Completed | B17: immuno-PRM MS | C17: ADA17 | D17: cSVP, CD156B | E17: ADAM17 metalloprotease domain 17 | F17: P78536 | G17: non-modified | I17: Human | K17: FHC-29-83-17 | O17: 1
A18: Completed | B18: immuno-PRM MS | C18: AFP | D18: FETA | E18: Alpha-fetoprotein | F18: P02771 | G18: non-modified | I18: Human | K18: CPTAC-23a-48-7
A19: Completed | B19: immuno-PRM MS | C19: AIFM1 | D19: AIF, PDCD8 | E19: apoptosis inducing factor mitochondria associated 1 | F19: O95831 | G19: non-modified | I19: Human | K19: EB2122A-1F6-H1/K2
A20: Completed | B20: immuno-PRM MS | C20: AIFM1 | D20: AIF, PDCD8 | E20: apoptosis inducing factor mitochondria associated 1 | F20: O95831 | G20: non-modified | I20: Human | K20: RSAP14m-1F2d
A21: Completed | B21: immuno-PRM MS | C21: AIFM1 | D21: AIF, PDCD8 | E21: apoptosis inducing factor mitochondria associated 1 | F21: O95831 | G21: non-modified | I21: Human | K21: EB2122B-2H9-H1/K1
A22: Completed | B22: immuno-PRM MS | C22: AIFM1 | D22: AIF, PDCD8 | E22: apoptosis inducing factor mitochondria associated 1 | F22: O95831 | G22: non-modified | I22: Human | K22: RSAP14m-2B11c
A23: Completed | B23: immuno-PRM MS | C23: AKT1 | D23: RAC, PKB, PRKBA, AKT | E23: RAC-alpha serine/threonine-protein kinase | F23: P31749 | G23: non-modified | I23: Human | K23: FSAI105-1C11 | P23: 1 | Q23: 1 | R23: 1
A24: Completed | B24: immuno-PRM MS | C24: AKT1 | D24: RAC, PKB, PRKBA, AKT | E24: RAC-alpha serine/threonine-protein kinase | F24: P31749 | G24: phosphorylation | H24: pS473 | I24: Human | K24: FSAI086-9H8 | P24: 1 | Q24: 1
A25: Completed | B25: immuno-PRM MS | C25: AKT1 | D25: RAC, PKB, PRKBA, AKT | E25: RAC-alpha serine/threonine-protein kinase | F25: P31749 | G25: non-modified | I25: Human | K25: FSAI086-9H8 | P25: 1 | Q25: 1
A26: Completed | B26: immuno-PRM MS | C26: AKT1 | D26: RAC, PKB, PRKBA, AKT | E26: RAC-alpha serine/threonine-protein kinase | F26: P31749 | G26: non-modified | I26: Human | K26: FSAI105-12F5 | P26: 1 | Q26: 1 | R26: 1
A27: Completed | B27: immuno-PRM MS | C27: AKT1 | D27: RAC, PKB, PRKBA, AKT | E27: RAC-alpha serine/threonine-protein kinase | F27: P31749 | G27: phosphorylation | H27: pT308 | I27: Human | K27: LBR-101-12-7 | P27: 1 | Q27: 1
A28: Completed | B28: immuno-PRM MS | C28: AKT1 | D28: RAC, PKB, PRKBA, AKT | E28: RAC-alpha serine/threonine-protein kinase | F28: P31749 | G28: phosphorylation | H28: pT308 | I28: Human | K28: FSAI106-2E2
A29: Completed | B29: immuno-PRM MS | C29: AKT1 | D29: RAC, PKB, PRKBA, AKT | E29: RAC-alpha serine/threonine-protein kinase | F29: P31749 | G29: non-modified | I29: Human | K29: LBR-101-4-2 | P29: 1 | Q29: 1
A30: Completed | B30: immuno-PRM MS | C30: AKT2 | E30: activating transcription factor 2 | F30: P31751 | G30: non-modified | I30: Human | K30: FSAI084-6H8 | P30: 1 | Q30: 1
A31: Completed | B31: immuno-PRM MS | C31: AKT2 | E31: activating transcription factor 2 | F31: P31751 | G31: phosphorylation | H31: pS473 | I31: Human | K31: LBR-104-10-4 | P31: 1 | Q31: 1
A32: Completed | B32: immuno-PRM MS | C32: AKT2 | E32: activating transcription factor 2 | F32: P31751 | G32: non-modified | I32: Human | K32: LBR-104-10-4 | P32: 1 | Q32: 1
A33: Completed | B33: immuno-PRM MS | C33: AKT2 | E33: activating transcription factor 2 | F33: P31751 | G33: non-modified | I33: Human | K33: FSAI083-1G9, FSAI083-2D10
A34: Completed | B34: immuno-PRM MS | C34: AKT2 | E34: activating transcription factor 2 | F34: P31751 | G34: non-modified | I34: Human | K34: LBR-104-10-4 | P34: 1 | Q34: 1
A35: Completed | B35: immuno-PRM MS | C35: AKT3 | D35: PKBG, RAC-gamma, PRKBG | E35: RAC-gamma serine/threonine-protein kinase | F35: Q9Y243 | G35: non-modified | I35: Human | K35: FSAI177-4B11 | P35: 1 | Q35: 1
A36: Completed | B36: immuno-PRM MS | C36: AKT3 | D36: PKBG, RAC-gamma, PRKBG | E36: RAC-gamma serine/threonine-protein kinase | F36: Q9Y243 | G36: non-modified | I36: Human | K36: FSAI177-4D10, FSAI177-3D8 | P36: 1 | Q36: 1
A37: Completed | B37: immuno-PRM MS | C37: AKT3 | D37: PKBG, RAC-gamma, PRKBG | E37: RAC-gamma serine/threonine-protein kinase | F37: Q9Y243 | G37: phosphorylation | H37: pS472 | I37: Human | K37: FSAI086-9H8 | P37: 1 | Q37: 1
A38: Completed | B38: immuno-PRM MS | C38: AKT3 | D38: PKBG, RAC-gamma, PRKBG | E38: RAC-gamma serine/threonine-protein kinase | F38: Q9Y243 | G38: non-modified | I38: Human | K38: FSAI086-9H8 | P38: 1 | Q38: 1
A39: Completed | B39: immuno-PRM MS | C39: AKT3 | D39: PKBG, RAC-gamma, PRKBG | E39: RAC-gamma serine/threonine-protein kinase | F39: Q9Y243 | G39: non-modified | I39: Human | K39: FSAI086-9H8 | P39: 1 | Q39: 1
A40: Completed | B40: immuno-PRM MS | C40: ALCAM | D40: CD166, MEMD | E40: activated leukocyte cell adhesion molecule | F40: Q13740 | G40: non-modified | I40: Human | K40: EB0975A-5C8-H2/K1 | O40: 1
...

Sheet IO4_Jake
A1: Gene Symbol | B1: Accession ID | C1: Heavy Tryptic Peptide Modified Sequence | D1: Heavy Tryptic Peptide Modified Sequence | E1: dMRM available | F1: dMRM inDev | H1: Project | I1: IPI accession number | J1: GO site
A2: AKT1 | B2: P31749 | C2: LSPPFKPQVTSETDTR[+10] | D2: LSPPFKPQVTSETDTR | E2: =_xlfn.XLOOKUP(D2,'DirectMRM_Available (web)'!$U$4:$U$603,'DirectMRM_Available (web)'!$U$4:$U$603) -> #N/A | F2: =_xlfn.XLOOKUP(D2,'DirectMRM_InDev(web)'!$U$4:$U$38,'DirectMRM_InDev(web)'!$U$4:$U$38) -> #N/A | H2: Apollo
A3: SMAD3 | B3: P84022 | C3: AITTQNVNTK[+8] | D3: AITTQNVNTK | E3: =_xlfn.XLOOKUP(D3,'DirectMRM_Available (web)'!$U$4:$U$603,'DirectMRM_Available (web)'!$U$4:$U$603) -> #N/A | F3: =_xlfn.XLOOKUP(D3,'DirectMRM_InDev(web)'!$U$4:$U$38,'DirectMRM_InDev(web)'!$U$4:$U$38) -> #N/A | H3: Apollo
A4: STAB1 | B4: Q9NY15 | C4: ELPDQITQDC[+57]R[+10] | D4: ELPDQITQD(Cam)R | E4: =_xlfn.XLOOKUP(D4,'DirectMRM_Available (web)'!$U$4:$U$603,'DirectMRM_Available (web)'!$U$4:$U$603) -> #N/A | F4: =_xlfn.XLOOKUP(D4,'DirectMRM_InDev(web)'!$U$4:$U$38,'DirectMRM_InDev(web)'!$U$4:$U$38) -> #N/A | H4: Apollo
A5: TGFBI | B5: Q15582 | C5: EGVYTVFAPTNEAFR[+10] | D5: EGVYTVFAPTNEAFR | E5: =_xlfn.XLOOKUP(D5,'DirectMRM_Available (web)'!$U$4:$U$603,'DirectMRM_Available (web)'!$U$4:$U$603) -> #N/A | F5: =_xlfn.XLOOKUP(D5,'DirectMRM_InDev(web)'!$U$4:$U$38,'DirectMRM_InDev(web)'!$U$4:$U$38) -> #N/A | H5: Apollo
A6: TGFBR3 | B6: Q03167 | C6: GTTGLPQEVHVLNLR[+10] | D6: GTTGLPQEVHVLNLR | E6: =_xlfn.XLOOKUP(D6,'DirectMRM_Available (web)'!$U$4:$U$603,'DirectMRM_Available (web)'!$U$4:$U$603) -> #N/A | F6: =_xlfn.XLOOKUP(D6,'DirectMRM_InDev(web)'!$U$4:$U$38,'DirectMRM_InDev(web)'!$U$4:$U$38) -> #N/A | H6: Apollo
A7: C1R | B7: P00736 | C7: QDAC[+57]QGDSGGVFAVR[+10] | D7: QDA(Cam)QGDSGGVFAVR | E7: =_xlfn.XLOOKUP(D7,'DirectMRM_Available (web)'!$U$4:$U$603,'DirectMRM_Available (web)'!$U$4:$U$603) -> #N/A | F7: =_xlfn.XLOOKUP(D7,'DirectMRM_InDev(web)'!$U$4:$U$38,'DirectMRM_InDev(web)'!$U$4:$U$38) -> #N/A | H7: Apollo
A8: CFB | B8: P00751 | C8: DISEVVTPR[+10] | D8: DISEVVTPR | E8: =_xlfn.XLOOKUP(D8,'DirectMRM_Available (web)'!$U$4:$U$603,'DirectMRM_Available (web)'!$U$4:$U$603) -> #N/A | F8: =_xlfn.XLOOKUP(D8,'DirectMRM_InDev(web)'!$U$4:$U$38,'DirectMRM_InDev(web)'!$U$4:$U$38) -> #N/A | H8: Apollo
A9: SEMA4D | B9: Q92854 | C9: TVFQVVAK[+8] | D9: TVFQVVAK | E9: =_xlfn.XLOOKUP(D9,'DirectMRM_Available (web)'!$U$4:$U$603,'DirectMRM_Available (web)'!$U$4:$U$603) -> #N/A | F9: =_xlfn.XLOOKUP(D9,'DirectMRM_InDev(web)'!$U$4:$U$38,'DirectMRM_InDev(web)'!$U$4:$U$38) -> #N/A | G9: 1 | H9: Apollo
A10: SMAD1 | B10: Q15797 | C10: GDVQAVAYEEPK[+8] | D10: GDVQAVAYEEPK | E10: =_xlfn.XLOOKUP(D10,'DirectMRM_Available (web)'!$U$4:$U$603,'DirectMRM_Available (web)'!$U$4:$U$603) -> #N/A | F10: =_xlfn.XLOOKUP(D10,'DirectMRM_InDev(web)'!$U$4:$U$38,'DirectMRM_InDev(web)'!$U$4:$U$38) -> #N/A | H10: Apollo
A11: IFI44L | B11: Q53G44 | C11: DYR[+10]PYADLVSEIR[+10] | D11: DYRPYADLVSEIR | E11: =_xlfn.XLOOKUP(D11,'DirectMRM_Available (web)'!$U$4:$U$603,'DirectMRM_Available (web)'!$U$4:$U$603) -> #N/A | F11: =_xlfn.XLOOKUP(D11,'DirectMRM_InDev(web)'!$U$4:$U$38,'DirectMRM_InDev(web)'!$U$4:$U$38) -> #N/A | H11: Apollo
A12: ISG20 | B12: Q96AZ6 | C12: ATMELYQISQR[+10] | D12: ATMELYQISQR | E12: =_xlfn.XLOOKUP(D12,'DirectMRM_Available (web)'!$U$4:$U$603,'DirectMRM_Available (web)'!$U$4:$U$603) -> #N/A | F12: =_xlfn.XLOOKUP(D12,'DirectMRM_InDev(web)'!$U$4:$U$38,'DirectMRM_InDev(web)'!$U$4:$U$38) -> #N/A | H12: Apollo
A13: KRT1 | B13: P04264 | C13: SLVNLGGSK[+8] | D13: SLVNLGGSK | E13: =_xlfn.XLOOKUP(D13,'DirectMRM_Available (web)'!$U$4:$U$603,'DirectMRM_Available (web)'!$U$4:$U$603) -> #N/A | F13: =_xlfn.XLOOKUP(D13,'DirectMRM_InDev(web)'!$U$4:$U$38,'DirectMRM_InDev(web)'!$U$4:$U$38) -> #N/A | H13: Apollo
A14: PSME2 | B14: Q9UL46 | C14: ETHVMDYR[+10] | D14: ETHVMDYR | E14: =_xlfn.XLOOKUP(D14,'DirectMRM_Available (web)'!$U$4:$U$603,'DirectMRM_Available (web)'!$U$4:$U$603) -> #N/A | F14: =_xlfn.XLOOKUP(D14,'DirectMRM_InDev(web)'!$U$4:$U$38,'DirectMRM_InDev(web)'!$U$4:$U$38) -> #N/A | G14: 1 | H14: Apollo
A15: C4BPB | B15: P20851 | C15: LIQEAPKPEC[+57]EK[+8] | D15: LIQEAPKPE(Cam)EK | E15: =_xlfn.XLOOKUP(D15,'DirectMRM_Available (web)'!$U$4:$U$603,'DirectMRM_Available (web)'!$U$4:$U$603) -> #N/A | F15: =_xlfn.XLOOKUP(D15,'DirectMRM_InDev(web)'!$U$4:$U$38,'DirectMRM_InDev(web)'!$U$4:$U$38) -> #N/A | G15: 1 | H15: Apollo
A16: CASP2 | B16: P42575 | C16: SGGDVDHSTLVTLFK[+8] | D16: SGGDVDHSTLVTLFK | E16: =_xlfn.XLOOKUP(D16,'DirectMRM_Available (web)'!$U$4:$U$603,'DirectMRM_Available (web)'!$U$4:$U$603) -> #N/A | F16: =_xlfn.XLOOKUP(D16,'DirectMRM_InDev(web)'!$U$4:$U$38,'DirectMRM_InDev(web)'!$U$4:$U$38) -> #N/A | G16: 1 | H16: Apollo
A17: IFIT3 | B17: O14879 | C17: AIELFQR[+10] | D17: AIELFQR | E17: =_xlfn.XLOOKUP(D17,'DirectMRM_Available (web)'!$U$4:$U$603,'DirectMRM_Available (web)'!$U$4:$U$603) -> #N/A | F17: =_xlfn.XLOOKUP(D17,'DirectMRM_InDev(web)'!$U$4:$U$38,'DirectMRM_InDev(web)'!$U$4:$U$38) -> #N/A | H17: Apollo
A18: NCF4 | B18: Q15080 | C18: EDIALNYR[+10] | D18: EDIALNYR | E18: =_xlfn.XLOOKUP(D18,'DirectMRM_Available (web)'!$U$4:$U$603,'DirectMRM_Available (web)'!$U$4:$U$603) -> #N/A | F18: =_xlfn.XLOOKUP(D18,'DirectMRM_InDev(web)'!$U$4:$U$38,'DirectMRM_InDev(web)'!$U$4:$U$38) -> #N/A | G18: 1 | H18: Apollo
A19: BID | B19: P55957 | C19: IEADSESQEDIIR[+10] | D19: IEADSESQEDIIR | E19: =_xlfn.XLOOKUP(D19,'DirectMRM_Available (web)'!$U$4:$U$603,'DirectMRM_Available (web)'!$U$4:$U$603) -> #N/A | F19: =_xlfn.XLOOKUP(D19,'DirectMRM_InDev(web)'!$U$4:$U$38,'DirectMRM_InDev(web)'!$U$4:$U$38) -> #N/A | G19: 1 | H19: Apollo
A20: C8G | B20: P07360 | C20: QLYGDTGVLGR[+10] | D20: QLYGDTGVLGR | E20: =_xlfn.XLOOKUP(D20,'DirectMRM_Available (web)'!$U$4:$U$603,'DirectMRM_Available (web)'!$U$4:$U$603) -> #N/A | F20: =_xlfn.XLOOKUP(D20,'DirectMRM_InDev(web)'!$U$4:$U$38,'DirectMRM_InDev(web)'!$U$4:$U$38) -> #N/A | H20: Apollo
A21: CAV1 | B21: Q03135 | C21: HLNDDVVK[+8] | D21: HLNDDVVK | E21: =_xlfn.XLOOKUP(D21,'DirectMRM_Available (web)'!$U$4:$U$603,'DirectMRM_Available (web)'!$U$4:$U$603) -> #N/A | F21: =_xlfn.XLOOKUP(D21,'DirectMRM_InDev(web)'!$U$4:$U$38,'DirectMRM_InDev(web)'!$U$4:$U$38) -> #N/A | H21: Apollo
A22: IL6ST | B22: P40189 | C22: ILDYEVTLTR[+10] | D22: ILDYEVTLTR | E22: =_xlfn.XLOOKUP(D22,'DirectMRM_Available (web)'!$U$4:$U$603,'DirectMRM_Available (web)'!$U$4:$U$603) -> #N/A | F22: =_xlfn.XLOOKUP(D22,'DirectMRM_InDev(web)'!$U$4:$U$38,'DirectMRM_InDev(web)'!$U$4:$U$38) -> #N/A | H22: Apollo
A23: BCL2L11 | B23: O43521 | C23: IGDEFNAYYAR[+10] | D23: IGDEFNAYYAR | E23: =_xlfn.XLOOKUP(D23,'DirectMRM_Available (web)'!$U$4:$U$603,'DirectMRM_Available (web)'!$U$4:$U$603) -> #N/A | F23: =_xlfn.XLOOKUP(D23,'DirectMRM_InDev(web)'!$U$4:$U$38,'DirectMRM_InDev(web)'!$U$4:$U$38) -> #N/A | H23: Apollo
A24: CTSS | B24: P25774 | C24: LVSLSAQNLVDC[+57]STEK[+8] | D24: LVSLSAQNLVD(Cam)STEK | E24: =_xlfn.XLOOKUP(D24,'DirectMRM_Available (web)'!$U$4:$U$603,'DirectMRM_Available (web)'!$U$4:$U$603) -> #N/A | F24: =_xlfn.XLOOKUP(D24,'DirectMRM_InDev(web)'!$U$4:$U$38,'DirectMRM_InDev(web)'!$U$4:$U$38) -> #N/A | H24: Apollo
A25: FAS | B25: P25445 | C25: IQTIILK[+8] | D25: IQTIILK | E25: =_xlfn.XLOOKUP(D25,'DirectMRM_Available (web)'!$U$4:$U$603,'DirectMRM_Available (web)'!$U$4:$U$603) -> #N/A | F25: =_xlfn.XLOOKUP(D25,'DirectMRM_InDev(web)'!$U$4:$U$38,'DirectMRM_InDev(web)'!$U$4:$U$38) -> #N/A | H25: Apollo
A26: TNFAIP8 | B26: O95379 | C26: EVATDVFNSK[+8] | D26: EVATDVFNSK | E26: =_xlfn.XLOOKUP(D26,'DirectMRM_Available (web)'!$U$4:$U$603,'DirectMRM_Available (web)'!$U$4:$U$603) -> #N/A | F26: =_xlfn.XLOOKUP(D26,'DirectMRM_InDev(web)'!$U$4:$U$38,'DirectMRM_InDev(web)'!$U$4:$U$38) -> #N/A | H26: Apollo
A27: CREBBP | B27: Q92793 | C27: SPLSQGDSSAPSLPK[+8] | D27: SPLSQGDSSAPSLPK | E27: =_xlfn.XLOOKUP(D27,'DirectMRM_Available (web)'!$U$4:$U$603,'DirectMRM_Available (web)'!$U$4:$U$603) -> #N/A | F27: =_xlfn.XLOOKUP(D27,'DirectMRM_InDev(web)'!$U$4:$U$38,'DirectMRM_InDev(web)'!$U$4:$U$38) -> #N/A | G27: 1 | H27: Apollo
A28: GZMA | B28: P12544 | C28: YVTILHLPK[+8] | D28: YVTILHLPK | E28: =_xlfn.XLOOKUP(D28,'DirectMRM_Available (web)'!$U$4:$U$603,'DirectMRM_Available (web)'!$U$4:$U$603) -> #N/A | F28: =_xlfn.XLOOKUP(D28,'DirectMRM_InDev(web)'!$U$4:$U$38,'DirectMRM_InDev(web)'!$U$4:$U$38) -> #N/A | H28: Apollo
A29: IFI35 | B29: P80217 | C29: VAEQVLQQK[+8] | D29: VAEQVLQQK | E29: =_xlfn.XLOOKUP(D29,'DirectMRM_Available (web)'!$U$4:$U$603,'DirectMRM_Available (web)'!$U$4:$U$603) -> #N/A | F29: =_xlfn.XLOOKUP(D29,'DirectMRM_InDev(web)'!$U$4:$U$38,'DirectMRM_InDev(web)'!$U$4:$U$38) -> #N/A | H29: Apollo
A30: IRF7 | B30: Q92985 | C30: GGGPPPEAETAER[+10] | D30: GGGPPPEAETAER | E30: =_xlfn.XLOOKUP(D30,'DirectMRM_Available (web)'!$U$4:$U$603,'DirectMRM_Available (web)'!$U$4:$U$603) -> #N/A | F30: =_xlfn.XLOOKUP(D30,'DirectMRM_InDev(web)'!$U$4:$U$38,'DirectMRM_InDev(web)'!$U$4:$U$38) -> #N/A | H30: Apollo
A31: ELANE | B31: P08246 | C31: VVLGAHNLSR[+10] | D31: VVLGAHNLSR | E31: =_xlfn.XLOOKUP(D31,'DirectMRM_Available (web)'!$U$4:$U$603,'DirectMRM_Available (web)'!$U$4:$U$603) -> #N/A | F31: =_xlfn.XLOOKUP(D31,'DirectMRM_InDev(web)'!$U$4:$U$38,'DirectMRM_InDev(web)'!$U$4:$U$38) -> #N/A | G31: 1 | H31: Apollo
A32: PSMB2 | B32: P49721 | C32: VAASNIVQMK[+8] | D32: VAASNIVQMK | E32: =_xlfn.XLOOKUP(D32,'DirectMRM_Available (web)'!$U$4:$U$603,'DirectMRM_Available (web)'!$U$4:$U$603) -> #N/A | F32: =_xlfn.XLOOKUP(D32,'DirectMRM_InDev(web)'!$U$4:$U$38,'DirectMRM_InDev(web)'!$U$4:$U$38) -> #N/A | G32: 1 | H32: Apollo
A33: PSME2 | B33: Q9UL46 | C33: AMVLDLR[+10] | D33: AMVLDLR | E33: =_xlfn.XLOOKUP(D33,'DirectMRM_Available (web)'!$U$4:$U$603,'DirectMRM_Available (web)'!$U$4:$U$603) -> #N/A | F33: =_xlfn.XLOOKUP(D33,'DirectMRM_InDev(web)'!$U$4:$U$38,'DirectMRM_InDev(web)'!$U$4:$U$38) -> #N/A | H33: Apollo
A34: RIPK2 | B34: O43353 | C34: TQNILLDNEFHVK[+8] | D34: TQNILLDNEFHVK | E34: =_xlfn.XLOOKUP(D34,'DirectMRM_Available (web)'!$U$4:$U$603,'DirectMRM_Available (web)'!$U$4:$U$603) -> #N/A | F34: =_xlfn.XLOOKUP(D34,'DirectMRM_InDev(web)'!$U$4:$U$38,'DirectMRM_InDev(web)'!$U$4:$U$38) -> #N/A | G34: 1 | H34: Apollo
A35: HCLS1 | B35: P14317 | C35: EHPVPLLPIR[+10] | D35: EHPVPLLPIR | E35: =_xlfn.XLOOKUP(D35,'DirectMRM_Available (web)'!$U$4:$U$603,'DirectMRM_Available (web)'!$U$4:$U$603) -> #N/A | F35: =_xlfn.XLOOKUP(D35,'DirectMRM_InDev(web)'!$U$4:$U$38,'DirectMRM_InDev(web)'!$U$4:$U$38) -> #N/A | H35: Apollo
A36: IFI44 | B36: Q8TCB0 | C36: YNSPTNFQIDGR[+10] | D36: YNSPTNFQIDGR | E36: =_xlfn.XLOOKUP(D36,'DirectMRM_Available (web)'!$U$4:$U$603,'DirectMRM_Available (web)'!$U$4:$U$603) -> #N/A | F36: =_xlfn.XLOOKUP(D36,'DirectMRM_InDev(web)'!$U$4:$U$38,'DirectMRM_InDev(web)'!$U$4:$U$38) -> #N/A | H36: Apollo
A37: PECAM1 | B37: P16284 | C37: AVPDAVESR[+10] | D37: AVPDAVESR | E37: =_xlfn.XLOOKUP(D37,'DirectMRM_Available (web)'!$U$4:$U$603,'DirectMRM_Available (web)'!$U$4:$U$603) -> #N/A | F37: =_xlfn.XLOOKUP(D37,'DirectMRM_InDev(web)'!$U$4:$U$38,'DirectMRM_InDev(web)'!$U$4:$U$38) -> #N/A | H37: Apollo
A38: PSMB8 | B38: P28062 | C38: VESTDVSDLLHQYR[+10] | D38: VESTDVSDLLHQYR | E38: =_xlfn.XLOOKUP(D38,'DirectMRM_Available (web)'!$U$4:$U$603,'DirectMRM_Available (web)'!$U$4:$U$603) -> #N/A | F38: =_xlfn.XLOOKUP(D38,'DirectMRM_InDev(web)'!$U$4:$U$38,'DirectMRM_InDev(web)'!$U$4:$U$38) -> #N/A | G38: 1 | H38: Apollo
A39: CCR1 | B39: P32246 | C39: VAVHLVK[+8] | D39: VAVHLVK | E39: =_xlfn.XLOOKUP(D39,'DirectMRM_Available (web)'!$U$4:$U$603,'DirectMRM_Available (web)'!$U$4:$U$603) -> #N/A | F39: =_xlfn.XLOOKUP(D39,'DirectMRM_InDev(web)'!$U$4:$U$38,'DirectMRM_InDev(web)'!$U$4:$U$38) -> #N/A | H39: Apollo
A40: HLA-DMB | B40: P28068 | C40: TR[+10]PPSVQVAK[+8] | D40: TRPPSVQVAK | E40: =_xlfn.XLOOKUP(D40,'DirectMRM_Available (web)'!$U$4:$U$603,'DirectMRM_Available (web)'!$U$4:$U$603) -> #N/A | F40: =_xlfn.XLOOKUP(D40,'DirectMRM_InDev(web)'!$U$4:$U$38,'DirectMRM_InDev(web)'!$U$4:$U$38) -> #N/A | H40: Apollo
...

Sheet DirectMRM_Available (web)
A1: Unmodified targets quantifiable by direct MRM assays in neat cell lysates
A3: Gene Symbol (HGNC, genenames.org) | B3: Alternate Gene Symbols | C3: Target protein name | D3: UniProt ID (& link) | E3: Peptide Modification detected | F3: Modification site | G3: Assay Species | H3: NCI CPTAC Assay Portal ID (& link) | I3: Reference | L3: Assay Type | M3: GeneIDs | N3: HGNC Gene symbol | O3: Alias Gene Symbols | P3: Human protein target name (UniProt) | Q3: Assay Completion Status | R3: List on Website? | S3: Project | T3: Targeted peptide analyte (Skyline notation) Peptide Sequence ([+80] indicates phosphorylation, [+114] indicates ubiquitination, and [+57] indicates carbamidomethylated Cys); For the RAS targets: BOLD font = non-phosphorylated version of phospho target); (yellow highlighting indicates RAS targets to which mAbs are being generated by >1 Ab companies) | U3: Peptide Modified Sequence Annotated | V3: Non Modified Peptide Sequence | W3: Extended Peptide Sequence (analyte peptide sequence inside periods and/or ^) | X3: Peptide notes | Y3: DDR1 Panel | Z3: DDR2 Panel | AA3: DDR3 Panel | AB3: IO-1 Panel | AC3: IO-2 Panel | AD3: IO-3 Panel | AE3: IO-4 Panel | AF3: dMRM Predictor panel | AG3: Cluster 3 panel | AH3: Ras-MAPK 1 Panel | AI3: Ras-MAPK 2 Panel | AJ3: HER2+ Normalization Panel | AK3: PTRC global prediction model | AL3: PTRC phospho prediction model | AM3: Type of peptide (e.g. Immunogen or Counterscreen, esp. for HLA Apollo peps) | AN3: Targeted peptide modification site | AO3: UniProt Accession ID (no link) | AP3: UniProt Accession URL | AQ3: IPIaccessionID | AR3: Light peptide rec'd (Sender, vendor, purified or crude) | AS3: Heavy peptide rec'd (Sender, vendor, purified or crude) | AT3: Light peptide vendor Order Confirmation # | AU3: Light peptide vendor Array # | AV3: Heavy peptide vendor Order Confirmation # | AW3: Heavy peptide vendor Array # | AX3: Date free peptide was sent to Xiuwen (Excel Biopharm) | AY3: Transitions | AZ3: Antibody ID (including primary clone and subclone #s or specific heavy and light chain combination) | BA3: Backup Antibody ID(s) | BB3: Specific or Total mAb? | BC3: Multiple Abs listed for this target | BD3: Ab company | BE3: Mouse or rabbit mAb | BF3: CPTAC Assay Portal ID | BG3: CPTC McAb clone ID on Antibody Portal (http://antibodies.cancer.gov) | BH3: Immuno-MRM initiation date | BI3: Date of purified mAb delivery (1st production) | BJ3: 2nd Production run completed | BK3: Estimated date of mAb project completion (date we get hybridoma or cDNA) | BL3: Approx. date of purified mAb delivery | BM3: Date of purified mAb delivery for 2nd production run | BN3: IP or MTA agreement (NCI ID, FH ID, date, initials of cooperating institutions) | BO3: Reference | BP3: Other notes
A4: AARS | B4: CMT2N, AlaRS | C4: alanyl-tRNA synthetase | D4: P49588 | E4: Non-modified | G4: Human | H4: CPTAC-2 | I4: Kennedy JJ et al, Nature Methods (2014) Feb;11(2):149-55. | K4: =IF(A4=N4,1,0) -> 1 | L4: Direct MRM | M4: 16 | N4: AARS | O4: CMT2N, AlaRS | P4: alanyl-tRNA synthetase | Q4: Completed | R4: X | S4: GO | T4: AVFDETYPDPVR | U4: AVFDETYPDPVR | V4: AVFDETYPDPVR | AO4: P49588 | AP4: P49588 | AQ4: IPI00027442 | AR4: Pure | AS4: Pure | BF4: CPTAC-2 | BP4: Site 1 specific; submitted to Assay Portal byFred Hutchinson Cancer Research Center
A5: AARS | B5: CMT2N, AlaRS | C5: alanyl-tRNA synthetase | D5: P49588 | E5: Non-modified | G5: Human | H5: CPTAC-1 | I5: Kennedy JJ et al, Nature Methods (2014) Feb;11(2):149-55. | K5: =IF(A5=N5,1,0) -> 1 | L5: Direct MRM | M5: 16 | N5: AARS | O5: CMT2N, AlaRS | P5: alanyl-tRNA synthetase | Q5: Completed | R5: X | S5: GO | T5: TITVALADGGRPDNTGR | U5: TITVALADGGRPDNTGR | V5: TITVALADGGRPDNTGR | AO5: P49588 | AP5: P49588 | AQ5: IPI00027442 | AR5: Pure | AS5: Pure | BF5: CPTAC-1 | BP5: Site 1 specific; submitted to Assay Portal byFred Hutchinson Cancer Research Center
A6: ABAT | B6: GABAT | C6: 4-aminobutyrate aminotransferase | D6: P80404 | E6: Non-modified | G6: Human | H6: CPTAC-3 | I6: Kennedy JJ et al, Nature Methods (2014) Feb;11(2):149-55. | K6: =IF(A6=N6,1,0) -> 1 | L6: Direct MRM | M6: 18 | N6: ABAT | O6: GABAT | P6: 4-aminobutyrate aminotransferase | Q6: Completed | R6: X | S6: GO | T6: ALLTGLLDLQAR | U6: ALLTGLLDLQAR | V6: ALLTGLLDLQAR | AO6: P80404 | AP6: P80404 | AQ6: IPI00009532 | AR6: Pure | AS6: Pure | BF6: CPTAC-3 | BP6: Site 1 specific; submitted to Assay Portal byFred Hutchinson Cancer Research Center
A7: ABAT | B7: GABAT | C7: 4-aminobutyrate aminotransferase | D7: P80404 | E7: Non-modified | G7: Human | H7: CPTAC-4 | I7: Kennedy JJ et al, Nature Methods (2014) Feb;11(2):149-55. | K7: =IF(A7=N7,1,0) -> 1 | L7: Direct MRM | M7: 18 | N7: ABAT | O7: GABAT | P7: 4-aminobutyrate aminotransferase | Q7: Completed | R7: X | S7: GO | T7: GTFC[+57]SFDTPDDSIR | U7: GTF(Cam)SFDTPDDSIR | V7: GTFCSFDTPDDSIR | AO7: P80404 | AP7: P80404 | AQ7: IPI00009532 | AR7: Pure | AS7: Pure | BF7: CPTAC-4 | BP7: Site 1 specific; submitted to Assay Portal byFred Hutchinson Cancer Research Center
A8: ABCD3 | B8: PMP70, ZWS2 | C8: ATP-binding cassette, sub-family D (ALD), member 3 | D8: P28288 | E8: Non-modified | G8: Human | H8: CPTAC-157 | I8: Kennedy JJ et al, Nature Methods (2014) Feb;11(2):149-55. | K8: =IF(A8=N8,1,0) -> 1 | L8: Direct MRM | M8: 5825 | N8: ABCD3 | O8: PMP70, ZWS2 | P8: ATP-binding cassette, sub-family D (ALD), member 3 | Q8: Completed | R8: X | S8: GO | T8: VLGELWPLFGGR | U8: VLGELWPLFGGR | V8: VLGELWPLFGGR | AO8: P28288 | AP8: P28288 | AQ8: IPI00002372 | AR8: Pure | AS8: Pure | BF8: CPTAC-157 | BP8: Interlaboratory; submitted to Assay Portal byFred Hutchinson Cancer Research Center
A9: ABCF1 | B9: EST123147 | C9: ATP-binding cassette, sub-family F (GCN20), member 1 | D9: Q8NE71 | E9: Non-modified | G9: Human | H9: CPTAC-302 | I9: Kennedy JJ et al, Nature Methods (2014) Feb;11(2):149-55. | K9: =IF(A9=N9,1,0) -> 1 | L9: Direct MRM | M9: 23 | N9: ABCF1 | O9: EST123147 | P9: ATP-binding cassette, sub-family F (GCN20), member 1 | Q9: Completed | R9: X | S9: GO | T9: IGFFNQQYAEQLR | U9: IGFFNQQYAEQLR | V9: IGFFNQQYAEQLR | AO9: Q8NE71 | AP9: Q8NE71 | AQ9: IPI00013495 | AR9: Pure | AS9: Pure | BF9: CPTAC-302 | BP9: Site 2 specific; submitted to Assay Portal byBroad Institute and FHCRC
A10: ABCF1 | B10: EST123147 | C10: ATP-binding cassette, sub-family F (GCN20), member 1 | D10: Q8NE71 | E10: Non-modified | G10: Human | H10: CPTAC-301 | I10: Kennedy JJ et al, Nature Methods (2014) Feb;11(2):149-55. | K10: =IF(A10=N10,1,0) -> 1 | L10: Direct MRM | M10: 23 | N10: ABCF1 | O10: EST123147 | P10: ATP-binding cassette, sub-family F (GCN20), member 1 | Q10: Completed | R10: X | S10: GO | T10: STLLLLLTGK | U10: STLLLLLTGK | V10: STLLLLLTGK | AO10: Q8NE71 | AP10: Q8NE71 | AQ10: IPI00013495 | AR10: Pure | AS10: Pure | BF10: CPTAC-301 | BP10: Site 2 specific; submitted to Assay Portal byBroad Institute and FHCRC
A11: ACAA2 | B11: DSAEC | C11: acetyl-Coenzyme A acyltransferase 2 | D11: P42765 | E11: Non-modified | G11: Human | H11: CPTAC-158 | I11: Kennedy JJ et al, Nature Methods (2014) Feb;11(2):149-55. | K11: =IF(A11=N11,1,0) -> 1 | L11: Direct MRM | M11: 10449 | N11: ACAA2 | O11: DSAEC | P11: acetyl-Coenzyme A acyltransferase 2 | Q11: Completed | R11: X | S11: GO | T11: DFTATDLSEFAAK | U11: DFTATDLSEFAAK | V11: DFTATDLSEFAAK | AO11: P42765 | AP11: P42765 | AQ11: IPI00001539 | AR11: Pure | AS11: Pure | BF11: CPTAC-158 | BP11: Interlaboratory; submitted to Assay Portal byFred Hutchinson Cancer Research Center
A12: ACAA2 | B12: DSAEC | C12: acetyl-Coenzyme A acyltransferase 2 | D12: P42765 | E12: Non-modified | G12: Human | H12: CPTAC-159 | I12: Kennedy JJ et al, Nature Methods (2014) Feb;11(2):149-55. | K12: =IF(A12=N12,1,0) -> 1 | L12: Direct MRM | M12: 10449 | N12: ACAA2 | O12: DSAEC | P12: acetyl-Coenzyme A acyltransferase 2 | Q12: Completed | R12: X | S12: GO | T12: TNVNGGAIALGHPLGGSGSR | U12: TNVNGGAIALGHPLGGSGSR | V12: TNVNGGAIALGHPLGGSGSR | AO12: P42765 | AP12: P42765 | AQ12: IPI00001539 | AR12: Pure | AS12: Pure | BF12: CPTAC-159 | BP12: Interlaboratory; submitted to Assay Portal byFred Hutchinson Cancer Research Center
A13: ACADVL | B13: VLCAD, LCACD, ACAD6 | C13: acyl-Coenzyme A dehydrogenase, very long chain | D13: P49748 | E13: Non-modified | G13: Human | H13: CPTAC-454 | I13: Kennedy JJ et al, Nature Methods (2014) Feb;11(2):149-55. | K13: =IF(A13=N13,1,0) -> 1 | L13: Direct MRM | M13: 37 | N13: ACADVL | O13: VLCAD, LCACD, ACAD6 | P13: acyl-Coenzyme A dehydrogenase, very long chain | Q13: Completed | R13: X | S13: GO | T13: ASNTAEVFFDGVR | U13: ASNTAEVFFDGVR | V13: ASNTAEVFFDGVR | AO13: P49748 | AP13: P49748 | AQ13: IPI00028031 | AR13: Pure | AS13: Pure | BF13: CPTAC-454 | BP13: Site 3 specific; submitted to Assay Portal bySeoul National University / Korea Institute of Science and Technology and FHCRC
A14: ACADVL | B14: VLCAD, LCACD, ACAD6 | C14: acyl-Coenzyme A dehydrogenase, very long chain | D14: P49748 | E14: Non-modified | G14: Human | H14: CPTAC-455 | I14: Kennedy JJ et al, Nature Methods (2014) Feb;11(2):149-55. | K14: =IF(A14=N14,1,0) -> 1 | L14: Direct MRM | M14: 37 | N14: ACADVL | O14: VLCAD, LCACD, ACAD6 | P14: acyl-Coenzyme A dehydrogenase, very long chain | Q14: Completed | R14: X | S14: GO | T14: VPSENVLGEVGSGFK | U14: VPSENVLGEVGSGFK | V14: VPSENVLGEVGSGFK | AO14: P49748 | AP14: P49748 | AQ14: IPI00028031 | AR14: Pure | AS14: Pure | BF14: CPTAC-455 | BP14: Site 3 specific; submitted to Assay Portal bySeoul National University / Korea Institute of Science and Technology and FHCRC
A15: ACOT7 | B15: BACH, ACH1, ACT, CTE-II, LACH1, MGC1126, hBACH | C15: acyl-CoA thioesterase 7 | D15: O00154 | E15: Non-modified | G15: Human | H15: CPTAC-304 | I15: Kennedy JJ et al, Nature Methods (2014) Feb;11(2):149-55. | K15: =IF(A15=N15,1,0) -> 1 | L15: Direct MRM | M15: 11332 | N15: ACOT7 | O15: BACH, ACH1, ACT, CTE-II, LACH1, MGC1126, hBACH | P15: acyl-CoA thioesterase 7 | Q15: Completed | R15: X | S15: GO | T15: AASAFFTYVSLSQEGR | U15: AASAFFTYVSLSQEGR | V15: AASAFFTYVSLSQEGR | AO15: O00154 | AP15: O00154 | AQ15: IPI00010415 | AR15: Pure | AS15: Pure | BF15: CPTAC-304 | BP15: Site 2 specific; submitted to Assay Portal byBroad Institute and FHCRC
A16: ACOT7 | B16: BACH, ACH1, ACT, CTE-II, LACH1, MGC1126, hBACH | C16: acyl-CoA thioesterase 7 | D16: O00154 | E16: Non-modified | G16: Human | H16: CPTAC-303 | I16: Kennedy JJ et al, Nature Methods (2014) Feb;11(2):149-55. | K16: =IF(A16=N16,1,0) -> 1 | L16: Direct MRM | M16: 11332 | N16: ACOT7 | O16: BACH, ACH1, ACT, CTE-II, LACH1, MGC1126, hBACH | P16: acyl-CoA thioesterase 7 | Q16: Completed | R16: X | S16: GO | T16: VLEVPPVVYSR | U16: VLEVPPVVYSR | V16: VLEVPPVVYSR | W16: NVDK.VLEVPPVVYSR.QEQE | AK16: 1 | AO16: O00154 | AP16: O00154 | AQ16: IPI00010415 | AR16: Pure | AS16: Pure | BF16: CPTAC-303 | BP16: Site 2 specific; submitted to Assay Portal byBroad Institute and FHCRC
A17: ACSF2 | B17: FLJ20920, ACSMW | C17: Acyl-CoA synthetase family member 2, mitochondrial | D17: Q96CM8 | E17: Non-modified | G17: Human | H17: CPTAC-5 | I17: Kennedy JJ et al, Nature Methods (2014) Feb;11(2):149-55. | K17: =IF(A17=N17,1,0) -> 1 | L17: Direct MRM | M17: 80221 | N17: ACSF2 | O17: FLJ20920, ACSMW | P17: Acyl-CoA synthetase family member 2, mitochondrial | Q17: Completed | R17: X | S17: GO | T17: TQQYYNVLK | U17: TQQYYNVLK | V17: TQQYYNVLK | AO17: Q96CM8 | AP17: Q96CM8 | AQ17: IPI00304071 | AR17: Pure | AS17: Pure | BF17: CPTAC-5 | BP17: Site 1 specific; submitted to Assay Portal byFred Hutchinson Cancer Research Center
A18: ACSF2 | B18: FLJ20920, ACSMW | C18: Acyl-CoA synthetase family member 2, mitochondrial | D18: Q96CM8 | E18: Non-modified | G18: Human | H18: CPTAC-6 | I18: Kennedy JJ et al, Nature Methods (2014) Feb;11(2):149-55. | K18: =IF(A18=N18,1,0) -> 1 | L18: Direct MRM | M18: 80221 | N18: ACSF2 | O18: FLJ20920, ACSMW | P18: Acyl-CoA synthetase family member 2, mitochondrial | Q18: Completed | R18: X | S18: GO | T18: YIVFVTNYPLTISGK | U18: YIVFVTNYPLTISGK | V18: YIVFVTNYPLTISGK | AO18: Q96CM8 | AP18: Q96CM8 | AQ18: IPI00304071 | AR18: Pure | AS18: Pure | BF18: CPTAC-6 | BP18: Site 1 specific; submitted to Assay Portal byFred Hutchinson Cancer Research Center
A19: ACSL1 | B19: LACS2, LACS, ACS1, LACS1, FACL1 | C19: acyl-CoA synthetase long-chain family member 1 | D19: P33121 | E19: Non-modified | G19: Human | H19: CPTAC-305 | I19: Kennedy JJ et al, Nature Methods (2014) Feb;11(2):149-55. | K19: =IF(A19=N19,1,0) -> 1 | L19: Direct MRM | M19: 2180 | N19: ACSL1 | O19: LACS2, LACS, ACS1, LACS1, FACL1 | P19: acyl-CoA synthetase long-chain family member 1 | Q19: Completed | R19: X | S19: GO | T19: IGFFQGDIR | U19: IGFFQGDIR | V19: IGFFQGDIR | AO19: P33121 | AP19: P33121 | AQ19: IPI00012728 | AR19: Pure | AS19: Pure | BF19: CPTAC-305 | BP19: Site 2 specific; submitted to Assay Portal byBroad Institute and FHCRC
A20: ACSL1 | B20: LACS2, LACS, ACS1, LACS1, FACL1 | C20: acyl-CoA synthetase long-chain family member 1 | D20: P33121 | E20: Non-modified | G20: Human | H20: CPTAC-306 | I20: Kennedy JJ et al, Nature Methods (2014) Feb;11(2):149-55. | K20: =IF(A20=N20,1,0) -> 1 | L20: Direct MRM | M20: 2180 | N20: ACSL1 | O20: LACS2, LACS, ACS1, LACS1, FACL1 | P20: acyl-CoA synthetase long-chain family member 1 | Q20: Completed | R20: X | S20: GO | T20: VLQPTVFPVVPR | U20: VLQPTVFPVVPR | V20: VLQPTVFPVVPR | AO20: P33121 | AP20: P33121 | AQ20: IPI00012728 | AR20: Pure | AS20: Pure | BF20: CPTAC-306 | BP20: Site 2 specific; submitted to Assay Portal byBroad Institute and FHCRC
A21: ACTN4 | C21: actinin, alpha 4 | D21: O43707 | E21: Non-modified | G21: Human | H21: CPTAC-8 | I21: Kennedy JJ et al, Nature Methods (2014) Feb;11(2):149-55. | K21: =IF(A21=N21,1,0) -> 1 | L21: Direct MRM | M21: 81 | N21: ACTN4 | P21: actinin, alpha 4 | Q21: Completed | R21: X | S21: GO | T21: ETTDTDTADQVIASFK | U21: ETTDTDTADQVIASFK | V21: ETTDTDTADQVIASFK | AO21: O43707 | AP21: O43707 | AQ21: IPI00013808 | AR21: Pure | AS21: Pure | BF21: CPTAC-8 | BP21: Site 1 specific; submitted to Assay Portal byFred Hutchinson Cancer Research Center
A22: ACTN4 | C22: actinin, alpha 4 | D22: O43707 | E22: Non-modified | G22: Human | H22: CPTAC-7 | I22: Kennedy JJ et al, Nature Methods (2014) Feb;11(2):149-55. | K22: =IF(A22=N22,1,0) -> 1 | L22: Direct MRM | M22: 81 | N22: ACTN4 | P22: actinin, alpha 4 | Q22: Completed | R22: X | S22: GO | T22: NVNVQNFHISWK | U22: NVNVQNFHISWK | V22: NVNVQNFHISWK | AO22: O43707 | AP22: O43707 | AQ22: IPI00013808 | AR22: Pure | AS22: Pure | BF22: CPTAC-7 | BP22: Site 1 specific; submitted to Assay Portal byFred Hutchinson Cancer Research Center
A23: ACTR3 | B23: ARP3 | C23: ARP3 actin-related protein 3 homolog (yeast) | D23: P61158 | E23: Non-modified | G23: Human | H23: CPTAC-161 | I23: Kennedy JJ et al, Nature Methods (2014) Feb;11(2):149-55. | K23: =IF(A23=N23,1,0) -> 1 | L23: Direct MRM | M23: 10096 | N23: ACTR3 | O23: ARP3 | P23: ARP3 actin-related protein 3 homolog (yeast) | Q23: Completed | R23: X | S23: GO | T23: AEPEDHYFLLTEPPLNTPENR | U23: AEPEDHYFLLTEPPLNTPENR | V23: AEPEDHYFLLTEPPLNTPENR | AO23: P61158 | AP23: P61158 | AQ23: IPI00028091 | AR23: Pure | AS23: Pure | BF23: CPTAC-161 | BP23: Interlaboratory; submitted to Assay Portal byFred Hutchinson Cancer Research Center
A24: ACTR3 | B24: ARP3 | C24: ARP3 actin-related protein 3 homolog (yeast) | D24: P61158 | E24: Non-modified | G24: Human | H24: CPTAC-160 | I24: Kennedy JJ et al, Nature Methods (2014) Feb;11(2):149-55. | K24: =IF(A24=N24,1,0) -> 1 | L24: Direct MRM | M24: 10096 | N24: ACTR3 | O24: ARP3 | P24: ARP3 actin-related protein 3 homolog (yeast) | Q24: Completed | R24: X | S24: GO | T24: GVDDLDFFIGDEAIEKPTYATK | U24: GVDDLDFFIGDEAIEKPTYATK | V24: GVDDLDFFIGDEAIEKPTYATK | AO24: P61158 | AP24: P61158 | AQ24: IPI00028091 | AR24: Pure | AS24: Pure | BF24: CPTAC-160 | BP24: Interlaboratory; submitted to Assay Portal byFred Hutchinson Cancer Research Center
A25: ADK | B25: AK | C25: adenylate kinase | D25: P55263 | E25: Non-modified | G25: Human | H25: CPTAC-162 | I25: Kennedy JJ et al, Nature Methods (2014) Feb;11(2):149-55. | K25: =IF(A25=N25,1,0) -> 1 | L25: Direct MRM | M25: 132 | N25: ADK | O25: AK | P25: adenylate kinase | Q25: Completed | R25: X | S25: GO | T25: SLIANLAAANC[+57]YK | U25: SLIANLAAAN(Cam)YK | V25: SLIANLAAANCYK | AO25: P55263 | AP25: P55263 | AQ25: IPI00234368 | AR25: Pure | AS25: Pure | BF25: CPTAC-162 | BP25: Interlaboratory; submitted to Assay Portal byFred Hutchinson Cancer Research Center
A26: ADSS | C26: adenylosuccinate synthase | D26: P30520 | E26: Non-modified | G26: Human | H26: CPTAC-164 | I26: Kennedy JJ et al, Nature Methods (2014) Feb;11(2):149-55. | K26: =IF(A26=N26,1,0) -> 1 | L26: Direct MRM | M26: 159 | N26: ADSS | P26: adenylosuccinate synthase | Q26: Completed | R26: X | S26: GO | T26: FIEDELQIPVK | U26: FIEDELQIPVK | V26: FIEDELQIPVK | AO26: P30520 | AP26: P30520 | AQ26: IPI00026833 | AR26: Pure | AS26: Pure | BF26: CPTAC-164 | BP26: Interlaboratory; submitted to Assay Portal byFred Hutchinson Cancer Research Center
A27: ADSS | C27: adenylosuccinate synthase | D27: P30520 | E27: Non-modified | G27: Human | H27: CPTAC-163 | I27: Kennedy JJ et al, Nature Methods (2014) Feb;11(2):149-55. | K27: =IF(A27=N27,1,0) -> 1 | L27: Direct MRM | M27: 159 | N27: ADSS | P27: adenylosuccinate synthase | Q27: Completed | R27: X | S27: GO | T27: VVDLLAQDADIVC[+57]R | U27: VVDLLAQDADIV(Cam)R | V27: VVDLLAQDADIVCR | AO27: P30520 | AP27: P30520 | AQ27: IPI00026833 | AR27: Pure | AS27: Pure | BF27: CPTAC-163 | BP27: Interlaboratory; submitted to Assay Portal byFred Hutchinson Cancer Research Center
A28: AGR2 | B28: XAG-2, HAG-2, AG2, PDIA17 | C28: anterior gradient homolog 2 (Xenopus laevis) | D28: O95994 | E28: Non-modified | G28: Human | H28: CPTAC-456 | I28: Kennedy JJ et al, Nature Methods (2014) Feb;11(2):149-55. | K28: =IF(A28=N28,1,0) -> 1 | L28: Direct MRM | M28: 10551 | N28: AGR2 | O28: XAG-2, HAG-2, AG2, PDIA17 | P28: anterior gradient homolog 2 (Xenopus laevis) | Q28: Completed | R28: X | S28: GO | T28: HLSPDGQYVPR | U28: HLSPDGQYVPR | V28: HLSPDGQYVPR | AO28: O95994 | AP28: O95994 | AQ28: IPI00007427 | AR28: Pure | AS28: Pure | BF28: CPTAC-456 | BP28: Site 3 specific; submitted to Assay Portal bySeoul National University / Korea Institute of Science and Technology and FHCRC
A29: AHNAK | B29: MGC5395 | C29: AHNAK nucleoprotein | D29: Q09666 | E29: Non-modified | G29: Human | H29: CPTAC-458 | I29: Kennedy JJ et al, Nature Methods (2014) Feb;11(2):149-55. | K29: =IF(A29=N29,1,0) -> 1 | L29: Direct MRM | M29: 79026 | N29: AHNAK | O29: MGC5395 | P29: AHNAK nucleoprotein | Q29: Completed | R29: X | S29: GO | T29: ISAPNVDFNLEGPK | U29: ISAPNVDFNLEGPK | V29: ISAPNVDFNLEGPK | AO29: Q09666 | AP29: Q09666 | AQ29: IPI00021812 | AR29: Pure | AS29: Pure | BF29: CPTAC-458 | BP29: Site 3 specific; submitted to Assay Portal bySeoul National University / Korea Institute of Science and Technology and FHCRC
A30: AHNAK | B30: MGC5395 | C30: AHNAK nucleoprotein | D30: Q09666 | E30: Non-modified | G30: Human | H30: CPTAC-457 | I30: Kennedy JJ et al, Nature Methods (2014) Feb;11(2):149-55. | K30: =IF(A30=N30,1,0) -> 1 | L30: Direct MRM | M30: 79026 | N30: AHNAK | O30: MGC5395 | P30: AHNAK nucleoprotein | Q30: Completed | R30: X | S30: GO | T30: VDIEAPDVSLEGPEGK | U30: VDIEAPDVSLEGPEGK | V30: VDIEAPDVSLEGPEGK | AO30: Q09666 | AP30: Q09666 | AQ30: IPI00021812 | AR30: Pure | AS30: Pure | BF30: CPTAC-457 | BP30: Site 3 specific; submitted to Assay Portal bySeoul National University / Korea Institute of Science and Technology and FHCRC
A31: AIP | B31: XAP2, ARA9, FKBP16 | C31: aryl hydrocarbon receptor interacting protein | D31: O00170 | E31: Non-modified | G31: Human | H31: CPTAC-308 | I31: Kennedy JJ et al, Nature Methods (2014) Feb;11(2):149-55. | K31: =IF(A31=N31,1,0) -> 1 | L31: Direct MRM | M31: 9049 | N31: AIP | O31: XAP2, ARA9, FKBP16 | P31: aryl hydrocarbon receptor interacting protein | Q31: Completed | R31: X | S31: GO | T31: VLELDPALAPVVSR | U31: VLELDPALAPVVSR | V31: VLELDPALAPVVSR | AO31: O00170 | AP31: O00170 | AQ31: IPI00925804 | AR31: Pure | AS31: Pure | BF31: CPTAC-308 | BP31: Site 2 specific; submitted to Assay Portal byBroad Institute and FHCRC
A32: AIP | B32: XAP2, ARA9, FKBP16 | C32: aryl hydrocarbon receptor interacting protein | D32: O00170 | E32: Non-modified | G32: Human | H32: CPTAC-307 | I32: Kennedy JJ et al, Nature Methods (2014) Feb;11(2):149-55. | K32: =IF(A32=N32,1,0) -> 1 | L32: Direct MRM | M32: 9049 | N32: AIP | O32: XAP2, ARA9, FKBP16 | P32: aryl hydrocarbon receptor interacting protein | Q32: Completed | R32: X | S32: GO | T32: YYDAIAC[+57]LK | U32: YYDAIA(Cam)LK | V32: YYDAIACLK | AO32: O00170 | AP32: O00170 | AQ32: IPI00925804 | AR32: Pure | AS32: Pure | BF32: CPTAC-307 | BP32: Site 2 specific; submitted to Assay Portal byBroad Institute and FHCRC
A33: AKR1A1 | B33: ALR, DD3 | C33: aldo-keto reductase family 1, member A1 (aldehyde reductase) | D33: P14550 | E33: Non-modified | G33: Human | H33: CPTAC-10 | I33: Kennedy JJ et al, Nature Methods (2014) Feb;11(2):149-55. | K33: =IF(A33=N33,1,0) -> 1 | L33: Direct MRM | M33: 10327 | N33: AKR1A1 | O33: ALR, DD3 | P33: aldo-keto reductase family 1, member A1 (aldehyde reductase) | Q33: Completed | R33: X | S33: GO | T33: GLEVTAYSPLGSSDR | U33: GLEVTAYSPLGSSDR | V33: GLEVTAYSPLGSSDR | AO33: P14550 | AP33: P14550 | AQ33: IPI00220271 | AR33: Pure | AS33: Pure | BF33: CPTAC-10 | BP33: Site 1 specific; submitted to Assay Portal byFred Hutchinson Cancer Research Center
A34: AKR1A1 | B34: ALR, DD3 | C34: aldo-keto reductase family 1, member A1 (aldehyde reductase) | D34: P14550 | E34: Non-modified | G34: Human | H34: CPTAC-9 | I34: Kennedy JJ et al, Nature Methods (2014) Feb;11(2):149-55. | K34: =IF(A34=N34,1,0) -> 1 | L34: Direct MRM | M34: 10327 | N34: AKR1A1 | O34: ALR, DD3 | P34: aldo-keto reductase family 1, member A1 (aldehyde reductase) | Q34: Completed | R34: X | S34: GO | T34: GLVQALGLSNFNSR | U34: GLVQALGLSNFNSR | V34: GLVQALGLSNFNSR | AO34: P14550 | AP34: P14550 | AQ34: IPI00220271 | AR34: Pure | AS34: Pure | BF34: CPTAC-9 | BP34: Site 1 specific; submitted to Assay Portal byFred Hutchinson Cancer Research Center
A35: ALDH18A1 | B35: P5CS | C35: aldehyde dehydrogenase 18 family, member A1 | D35: P54886 | E35: Non-modified | G35: Human | H35: CPTAC-11 | I35: Kennedy JJ et al, Nature Methods (2014) Feb;11(2):149-55. | K35: =IF(A35=N35,1,0) -> 1 | L35: Direct MRM | M35: 5832 | N35: ALDH18A1 | O35: P5CS | P35: aldehyde dehydrogenase 18 family, member A1 | Q35: Completed | R35: X | S35: GO | T35: GPVGLEGLLTTK | U35: GPVGLEGLLTTK | V35: GPVGLEGLLTTK | AO35: P54886 | AP35: P54886 | AQ35: IPI00008982 | AR35: Pure | AS35: Pure | BF35: CPTAC-11 | BP35: Site 1 specific; submitted to Assay Portal byFred Hutchinson Cancer Research Center
A36: ALDH2 | C36: aldehyde dehydrogenase 2 family (mitochondrial) | D36: P05091 | E36: Non-modified | G36: Human | H36: CPTAC-12 | I36: Kennedy JJ et al, Nature Methods (2014) Feb;11(2):149-55. | K36: =IF(A36=N36,1,0) -> 1 | L36: Direct MRM | M36: 217 | N36: ALDH2 | P36: aldehyde dehydrogenase 2 family (mitochondrial) | Q36: Completed | R36: X | S36: GO | T36: VAEQTPLTALYVANLIK | U36: VAEQTPLTALYVANLIK | V36: VAEQTPLTALYVANLIK | AO36: P05091 | AP36: P05091 | AQ36: IPI00006663 | AR36: Pure | AS36: Pure | BF36: CPTAC-12 | BP36: Site 1 specific; submitted to Assay Portal byFred Hutchinson Cancer Research Center
A37: ALDH2 | C37: aldehyde dehydrogenase 2 family (mitochondrial) | D37: P05091 | E37: Non-modified | G37: Human | H37: CPTAC-13 | I37: Kennedy JJ et al, Nature Methods (2014) Feb;11(2):149-55. | K37: =IF(A37=N37,1,0) -> 1 | L37: Direct MRM | M37: 217 | N37: ALDH2 | P37: aldehyde dehydrogenase 2 family (mitochondrial) | Q37: Completed | R37: X | S37: GO | T37: VAFTGSTEIGR | U37: VAFTGSTEIGR | V37: VAFTGSTEIGR | AO37: P05091 | AP37: P05091 | AQ37: IPI00006663 | AR37: Pure | AS37: Pure | BF37: CPTAC-13 | BP37: Site 1 specific; submitted to Assay Portal byFred Hutchinson Cancer Research Center
A38: ALDH2 | C38: aldehyde dehydrogenase 2 family (mitochondrial) | D38: P05091 | E38: Non-modified | G38: Human | H38: CPTAC-14 | I38: Kennedy JJ et al, Nature Methods (2014) Feb;11(2):149-55. | K38: =IF(A38=N38,1,0) -> 1 | L38: Direct MRM | M38: 217 | N38: ALDH2 | P38: aldehyde dehydrogenase 2 family (mitochondrial) | Q38: Completed | R38: X | S38: GO | T38: VVGNPFDSK | U38: VVGNPFDSK | V38: VVGNPFDSK | AO38: P05091 | AP38: P05091 | AQ38: IPI00006663 | AR38: Pure | AS38: Pure | BF38: CPTAC-14 | BP38: Site 1 specific; submitted to Assay Portal byFred Hutchinson Cancer Research Center
A39: ALDH4A1 | B39: P5CDh | C39: aldehyde dehydrogenase 4 family, member A1 | D39: P30038 | E39: Non-modified | G39: Human | H39: CPTAC-165 | I39: Kennedy JJ et al, Nature Methods (2014) Feb;11(2):149-55. | K39: =IF(A39=N39,1,0) -> 1 | L39: Direct MRM | M39: 8659 | N39: ALDH4A1 | O39: P5CDh | P39: aldehyde dehydrogenase 4 family, member A1 | Q39: Completed | R39: X | S39: GO | T39: NAAGNFYINDK | U39: NAAGNFYINDK | V39: NAAGNFYINDK | AO39: P30038 | AP39: P30038 | AQ39: IPI00217871 | AR39: Pure | AS39: Pure | BF39: CPTAC-165 | BP39: Interlaboratory; submitted to Assay Portal byFred Hutchinson Cancer Research Center
A40: ALDH4A1 | B40: P5CDh | C40: aldehyde dehydrogenase 4 family, member A1 | D40: P30038 | E40: Non-modified | G40: Human | H40: CPTAC-166 | I40: Kennedy JJ et al, Nature Methods (2014) Feb;11(2):149-55. | K40: =IF(A40=N40,1,0) -> 1 | L40: Direct MRM | M40: 8659 | N40: ALDH4A1 | O40: P5CDh | P40: aldehyde dehydrogenase 4 family, member A1 | Q40: Completed | R40: X | S40: GO | T40: STGSIVGQQPFGGAR | U40: STGSIVGQQPFGGAR | V40: STGSIVGQQPFGGAR | AO40: P30038 | AP40: P30038 | AQ40: IPI00217871 | AR40: Pure | AS40: Pure | BF40: CPTAC-166 | BP40: Interlaboratory; submitted to Assay Portal byFred Hutchinson Cancer Research Center
A41: ALDH7A1 | B41: EPD, PDE | C41: aldehyde dehydrogenase 7 family, member A1 | D41: P49419 | E41: Non-modified | G41: Human | H41: CPTAC-15 | I41: Kennedy JJ et al, Nature Methods (2014) Feb;11(2):149-55. | K41: =IF(A41=N41,1,0) -> 1 | L41: Direct MRM | M41: 501 | N41: ALDH7A1 | O41: EPD, PDE | P41: aldehyde dehydrogenase 7 family, member A1 | Q41: Completed | R41: X | S41: GO | T41: GAPTTSLISVAVTK | U41: GAPTTSLISVAVTK | V41: GAPTTSLISVAVTK | AO41: P49419 | AP41: P49419 | AQ41: IPI00221234 | AR41: Pure | AS41: Pure | BF41: CPTAC-15 | BP41: Site 1 specific; submitted to Assay Portal byFred Hutchinson Cancer Research Center
...

Sheet DirectMRM_InDev(web)
A1: Unmodified targets quantifiable by direct MRM assays in neat cell lysates (In Development)
A3: Gene Symbol (HGNC, genenames.org) | B3: Alternate Gene Symbols | C3: Target protein name | D3: UniProt ID (& link) | E3: Peptide Modification detected | F3: Modification site | G3: Assay Species | H3: NCI CPTAC Assay Portal ID (& link) | I3: Reference | L3: Assay Type | M3: GeneIDs | N3: HGNC Gene symbol | O3: Alias Gene Symbols | P3: Human protein target name (UniProt) | Q3: Assay Completion Status | R3: List on Website? | S3: Project | T3: Targeted peptide analyte (Skyline notation) Peptide Sequence ([+80] indicates phosphorylation, [+114] indicates ubiquitination, and [+57] indicates carbamidomethylated Cys); For the RAS targets: BOLD font = non-phosphorylated version of phospho target); (yellow highlighting indicates RAS targets to which mAbs are being generated by >1 Ab companies) | U3: Peptide Modified Sequence Annotated | V3: Non Modified Peptide Sequence | W3: Extended Peptide Sequence (analyte peptide sequence inside periods and/or ^) | X3: Peptide notes | Y3: DDR1 Panel | Z3: DDR2 Panel | AA3: DDR3 Panel | AB3: IO-1 Panel | AC3: IO-2 Panel | AD3: IO-3 Panel | AE3: IO-4 Panel | AF3: IO-4 Jake | AG3: Ras-MAPK 1 Panel | AH3: Ras-MAPK 2 Panel | AI3: HER2+ Normalization Panel | AJ3: PTRC global prediction model | AK3: PTRC phospho prediction model | AL3: Type of peptide (e.g. Immunogen or Counterscreen, esp. for HLA Apollo peps) | AM3: Targeted peptide modification site | AN3: UniProt Accession ID (no link) | AO3: UniProt Accession URL | AP3: IPIaccessionID | AQ3: Light peptide rec'd (Sender, vendor, purified or crude) | AR3: Heavy peptide rec'd (Sender, vendor, purified or crude) | AS3: Light peptide vendor Order Confirmation # | AT3: Light peptide vendor Array # | AU3: Heavy peptide vendor Order Confirmation # | AV3: Heavy peptide vendor Array # | AW3: Date free peptide was sent to Xiuwen (Excel Biopharm) | AX3: Transitions | AY3: Antibody ID (including primary clone and subclone #s or specific heavy and light chain combination) | AZ3: Backup Antibody ID(s) | BA3: Specific or Total mAb? | BB3: Multiple Abs listed for this target | BC3: Ab company | BD3: Mouse or rabbit mAb | BE3: CPTAC Assay Portal ID | BF3: CPTC McAb clone ID on Antibody Portal (http://antibodies.cancer.gov) | BG3: Immuno-MRM initiation date | BH3: Date of purified mAb delivery (1st production) | BI3: 2nd Production run completed | BJ3: Estimated date of mAb project completion (date we get hybridoma or cDNA) | BK3: Approx. date of purified mAb delivery | BL3: Date of purified mAb delivery for 2nd production run | BM3: IP or MTA agreement (NCI ID, FH ID, date, initials of cooperating institutions) | BN3: Reference | BO3: Other notes
A4: CA2 | C4: carbonic anhydrase 2 | D4: P00918 | E4: Non-Modified | G4: Human | K4: =IF(A4=N4,"TRUE","FALSE") -> TRUE | L4: Direct MRM | N4: CA2 | P4: carbonic anhydrase 2 | Q4: Pending | R4: X | S4: CPTAC3-PredictionModel | T4: EPISVSSEQVLK | U4: EPISVSSEQVLK | V4: EPISVSSEQVLK | W4: VLK.EPISVSSEQVLK.FRK | AF4: =_xlfn.XLOOKUP(U4,IO4_Jake!$D$2:$D$398,IO4_Jake!$D$2:$D$398) -> #N/A | AJ4: 1 | AN4: P00918 | AO4: P00918 | BO4: Also in EDRN-AIMS
A5: CA2 | C5: carbonic anhydrase 2 | D5: P00918 | E5: Non-Modified | G5: Human | K5: =IF(A5=N5,"TRUE","FALSE") -> TRUE | L5: Direct MRM | N5: CA2 | P5: carbonic anhydrase 2 | Q5: Pending | R5: X | S5: CPTAC3-PredictionModel | T5: GGPLDGTYR | U5: GGPLDGTYR | V5: GGPLDGTYR | W5: AVLK.GGPLDGTYR.LIQ | AF5: =_xlfn.XLOOKUP(U5,IO4_Jake!$D$2:$D$398,IO4_Jake!$D$2:$D$398) -> #N/A | AJ5: 1 | AN5: P00918 | AO5: P00918
A6: CA2 | C6: carbonic anhydrase 2 | D6: P00918 | E6: Non-Modified | G6: Human | K6: =IF(A6=N6,"TRUE","FALSE") -> TRUE | L6: Direct MRM | N6: CA2 | P6: carbonic anhydrase 2 | Q6: Pending | R6: X | S6: CPTAC3-PredictionModel | T6: QSPVDIDTHTAK | U6: QSPVDIDTHTAK | V6: QSPVDIDTHTAK | W6: GER.QSPVDIDTHTAK.YDPSLK | AF6: =_xlfn.XLOOKUP(U6,IO4_Jake!$D$2:$D$398,IO4_Jake!$D$2:$D$398) -> #N/A | AJ6: 1 | AN6: P00918 | AO6: P00918
A7: COX6C | C7: cytochrome c oxidase subunit 6C | D7: P09669 | E7: Non-Modified | G7: Human | K7: =IF(A7=N7,"TRUE","FALSE") -> TRUE | L7: Direct MRM | N7: COX6C | P7: cytochrome c oxidase subunit 6C | Q7: Pending | R7: X | S7: CPTAC3-PredictionModel | T7: AGIFQSVK | U7: AGIFQSVK | V7: AGIFQSVK | W7: MRK.AGIFQSVK.// | AF7: =_xlfn.XLOOKUP(U7,IO4_Jake!$D$2:$D$398,IO4_Jake!$D$2:$D$398) -> #N/A | AJ7: 1 | AN7: P09669 | AO7: P09669
A8: COX6C | C8: cytochrome c oxidase subunit 6C | D8: P09669 | E8: Non-Modified | G8: Human | K8: =IF(A8=N8,"TRUE","FALSE") -> TRUE | L8: Direct MRM | N8: COX6C | P8: cytochrome c oxidase subunit 6C | Q8: Pending | R8: X | S8: CPTAC3-PredictionModel | T8: AYADFYR | U8: AYADFYR | V8: AYADFYR | W8: RKK.AYADFYR.NYDVMK | AF8: =_xlfn.XLOOKUP(U8,IO4_Jake!$D$2:$D$398,IO4_Jake!$D$2:$D$398) -> #N/A | AJ8: 1 | AN8: P09669 | AO8: P09669
A9: COX7A2 | C9: cytochrome c oxidase subunit 7A2 | D9: P14406 | E9: Non-Modified | G9: Human | K9: =IF(A9=N9,"TRUE","FALSE") -> TRUE | L9: Direct MRM | N9: COX7A2 | P9: cytochrome c oxidase subunit 7A2 | Q9: Pending | R9: X | S9: CPTAC3-PredictionModel | T9: GGVADALLYR | U9: GGVADALLYR | V9: GGVADALLYR | W9: YLK.GGVADALLYR.ATM | AF9: =_xlfn.XLOOKUP(U9,IO4_Jake!$D$2:$D$398,IO4_Jake!$D$2:$D$398) -> #N/A | AJ9: 1 | AN9: P14406 | AO9: P14406
A10: COX7A2 | C10: cytochrome c oxidase subunit 7A2 | D10: P14406 | E10: Non-Modified | G10: Human | K10: =IF(A10=N10,"TRUE","FALSE") -> TRUE | L10: Direct MRM | N10: COX7A2 | P10: cytochrome c oxidase subunit 7A2 | Q10: Pending | R10: X | S10: CPTAC3-PredictionModel | T10: LFQEDDEIPLYLK | U10: LFQEDDEIPLYLK | V10: LFQEDDEIPLYLK | W10: KQK.LFQEDDEIPLYLK.GGV | AF10: =_xlfn.XLOOKUP(U10,IO4_Jake!$D$2:$D$398,IO4_Jake!$D$2:$D$398) -> #N/A | AJ10: 1 | AN10: P14406 | AO10: P14406
A11: COX7C | C11: cytochrome c oxidase subunit 7C | D11: P15954 | E11: Non-Modified | G11: Human | K11: =IF(A11=N11,"TRUE","FALSE") -> TRUE | L11: Direct MRM | N11: COX7C | P11: cytochrome c oxidase subunit 7C | Q11: Pending | R11: X | S11: CPTAC3-PredictionModel | T11: SHYEEGPGK | U11: SHYEEGPGK | V11: SHYEEGPGK | W11: VRR.SHYEEGPGK.NLPFS | AF11: =_xlfn.XLOOKUP(U11,IO4_Jake!$D$2:$D$398,IO4_Jake!$D$2:$D$398) -> #N/A | AJ11: 1 | AN11: P15954 | AO11: P15954
A12: CPOX | C12: coproporphyrinogen oxidase | D12: P36551 | E12: Non-Modified | G12: Human | K12: =IF(A12=N12,"TRUE","FALSE") -> TRUE | L12: Direct MRM | N12: CPOX | P12: coproporphyrinogen oxidase | Q12: Pending | R12: X | S12: CPTAC3-PredictionModel | T12: AVVPSYIPLVK | U12: AVVPSYIPLVK | V12: AVVPSYIPLVK | W12: SCAR.AVVPSYIPLVK.KHCD | AF12: =_xlfn.XLOOKUP(U12,IO4_Jake!$D$2:$D$398,IO4_Jake!$D$2:$D$398) -> #N/A | AJ12: 1 | AN12: P36551 | AO12: P36551 | BO12: Also in EDRN-AIMS
A13: GLUD1 | C13: glutamate dehydrogenase 1 | D13: P00367 | E13: Non-Modified | G13: Human | K13: =IF(A13=N13,"TRUE","FALSE") -> TRUE | L13: Direct MRM | N13: GLUD1 | P13: glutamate dehydrogenase 1 | Q13: Pending | R13: X | S13: CPTAC3-PredictionModel | T13: HGGTIPIVPTAEFQDR | U13: HGGTIPIVPTAEFQDR | V13: HGGTIPIVPTAEFQDR | W13: FGK.HGGTIPIVPTAEFQDR.ISGASEK | AF13: =_xlfn.XLOOKUP(U13,IO4_Jake!$D$2:$D$398,IO4_Jake!$D$2:$D$398) -> #N/A | AJ13: 1 | AN13: P00367 | AO13: P00367 | BO13: Also in EDRN-AIMS
A14: GLUD1 | C14: glutamate dehydrogenase 1 | D14: P00367 | E14: Non-Modified | G14: Human | K14: =IF(A14=N14,"TRUE","FALSE") -> TRUE | L14: Direct MRM | N14: GLUD1 | P14: glutamate dehydrogenase 1 | Q14: Pending | R14: X | S14: CPTAC3-PredictionModel | T14: NYTDNELEK | U14: NYTDNELEK | V14: NYTDNELEK | W14: INPK.NYTDNELEK.ITR | AF14: =_xlfn.XLOOKUP(U14,IO4_Jake!$D$2:$D$398,IO4_Jake!$D$2:$D$398) -> #N/A | AJ14: 1 | AN14: P00367 | AO14: P00367
A15: IL4I1 | C15: interleukin 4 induced 1 | D15: Q96RQ9 | E15: Non-Modified | G15: Human | K15: =IF(A15=N15,"TRUE","FALSE") -> TRUE | L15: Direct MRM | N15: IL4I1 | P15: interleukin 4 induced 1 | Q15: Pending | R15: X | S15: CPTAC3-PredictionModel | T15: ADVVLLTASGPAVK | U15: ADVVLLTASGPAVK | V15: ADVVLLTASGPAVK | W15: VLK.ADVVLLTASGPAVK.RIT | AF15: =_xlfn.XLOOKUP(U15,IO4_Jake!$D$2:$D$398,IO4_Jake!$D$2:$D$398) -> #N/A | AJ15: 1 | AN15: Q96RQ9 | AO15: Q96RQ9
A16: IL4I1 | C16: interleukin 4 induced 1 | D16: Q96RQ9 | E16: Non-Modified | G16: Human | K16: =IF(A16=N16,"TRUE","FALSE") -> TRUE | L16: Direct MRM | N16: IL4I1 | P16: interleukin 4 induced 1 | Q16: Pending | R16: X | S16: CPTAC3-PredictionModel | T16: HMQEALR | U16: HMQEALR | V16: HMQEALR | W16: LPR.HMQEALR.RLH | AF16: =_xlfn.XLOOKUP(U16,IO4_Jake!$D$2:$D$398,IO4_Jake!$D$2:$D$398) -> #N/A | AJ16: 1 | AN16: Q96RQ9 | AO16: Q96RQ9
A17: IL4I1 | C17: interleukin 4 induced 1 | D17: Q96RQ9 | E17: Non-Modified | G17: Human | K17: =IF(A17=N17,"TRUE","FALSE") -> TRUE | L17: Direct MRM | N17: IL4I1 | P17: interleukin 4 induced 1 | Q17: Pending | R17: X | S17: CPTAC3-PredictionModel | T17: IYFAGEHTAYPHGWVETAVK | U17: IYFAGEHTAYPHGWVETAVK | V17: IYFAGEHTAYPHGWVETAVK | W17: YGR.IYFAGEHTAYPHGWVETAVK.SALR | AF17: =_xlfn.XLOOKUP(U17,IO4_Jake!$D$2:$D$398,IO4_Jake!$D$2:$D$398) -> #N/A | AJ17: 1 | AN17: Q96RQ9 | AO17: Q96RQ9
A18: IL4I1 | C18: interleukin 4 induced 1 | D18: Q96RQ9 | E18: Non-Modified | G18: Human | K18: =IF(A18=N18,"TRUE","FALSE") -> TRUE | L18: Direct MRM | N18: IL4I1 | P18: interleukin 4 induced 1 | Q18: Pending | R18: X | S18: CPTAC3-PredictionModel | T18: LGYALRPQEK | U18: LGYALRPQEK | V18: LGYALRPQEK | W18: VPEK.LGYALRPQEK.GHS | AF18: =_xlfn.XLOOKUP(U18,IO4_Jake!$D$2:$D$398,IO4_Jake!$D$2:$D$398) -> #N/A | AJ18: 1 | AN18: Q96RQ9 | AO18: Q96RQ9
A19: LDHA | C19: lactate dehydrogenase A | D19: P00338 | E19: Non-Modified | G19: Human | K19: =IF(A19=N19,"TRUE","FALSE") -> TRUE | L19: Direct MRM | N19: LDHA | P19: lactate dehydrogenase A | Q19: Pending | R19: X | S19: CPTAC3-PredictionModel | T19: FIIPNVVK | U19: FIIPNVVK | V19: FIIPNVVK | W19: IFK.FIIPNVVK.YSPN | AF19: =_xlfn.XLOOKUP(U19,IO4_Jake!$D$2:$D$398,IO4_Jake!$D$2:$D$398) -> #N/A | AJ19: 1 | AN19: P00338 | AO19: P00338
A20: LDHA | C20: lactate dehydrogenase A | D20: P00338 | E20: Non-Modified | G20: Human | K20: =IF(A20=N20,"TRUE","FALSE") -> TRUE | L20: Direct MRM | N20: LDHA | P20: lactate dehydrogenase A | Q20: Pending | R20: X | S20: CPTAC3-PredictionModel | T20: QVVESAYEVIK | U20: QVVESAYEVIK | V20: QVVESAYEVIK | W20: EVHK.QVVESAYEVIK.LKG | AF20: =_xlfn.XLOOKUP(U20,IO4_Jake!$D$2:$D$398,IO4_Jake!$D$2:$D$398) -> #N/A | AJ20: 1 | AN20: P00338 | AO20: P00338
A21: LDHA | C21: lactate dehydrogenase A | D21: P00338 | E21: Non-Modified | G21: Human | K21: =IF(A21=N21,"TRUE","FALSE") -> TRUE | L21: Direct MRM | N21: LDHA | P21: lactate dehydrogenase A | Q21: Pending | R21: X | S21: CPTAC3-PredictionModel | T21: SADTLWGIQK | U21: SADTLWGIQK | V21: SADTLWGIQK | W21: LKK.SADTLWGIQK.ELQF// | AF21: =_xlfn.XLOOKUP(U21,IO4_Jake!$D$2:$D$398,IO4_Jake!$D$2:$D$398) -> #N/A | AJ21: 1 | AN21: P00338 | AO21: P00338
A22: LGALS1 | C22: galectin 1 | D22: P09382 | E22: Non-Modified | G22: Human | K22: =IF(A22=N22,"TRUE","FALSE") -> TRUE | L22: Direct MRM | N22: LGALS1 | P22: galectin 1 | Q22: Pending | R22: X | S22: CPTAC3-PredictionModel | T22: DSNNLC[+57]LHFNPR | U22: DSNNL(Cam)LHFNPR | V22: DSNNLCLHFNPR | W22: LGK.DSNNLCLHFNPR.FNA | AF22: =_xlfn.XLOOKUP(U22,IO4_Jake!$D$2:$D$398,IO4_Jake!$D$2:$D$398) -> #N/A | AJ22: 1 | AN22: P09382 | AO22: P09382
A23: LGALS1 | C23: galectin 1 | D23: P09382 | E23: Non-Modified | G23: Human | K23: =IF(A23=N23,"TRUE","FALSE") -> TRUE | L23: Direct MRM | N23: LGALS1 | P23: galectin 1 | Q23: Pending | R23: X | S23: CPTAC3-PredictionModel | T23: FNAHGDANTIVC[+57]NSK | U23: FNAHGDANTIV(Cam)NSK | V23: FNAHGDANTIVCNSK | W23: FNPR.FNAHGDANTIVCNSK.DGG | AF23: =_xlfn.XLOOKUP(U23,IO4_Jake!$D$2:$D$398,IO4_Jake!$D$2:$D$398) -> #N/A | AJ23: 1 | AN23: P09382 | AO23: P09382
A24: LGALS1 | C24: galectin 1 | D24: P09382 | E24: Non-Modified | G24: Human | K24: =IF(A24=N24,"TRUE","FALSE") -> TRUE | L24: Direct MRM | N24: LGALS1 | P24: galectin 1 | Q24: Pending | R24: X | S24: CPTAC3-PredictionModel | T24: LNLEAINYMAADGDFK | U24: LNLEAINYMAADGDFK | V24: LNLEAINYMAADGDFK | W24: FPNR.LNLEAINYMAADGDFK.IK | AF24: =_xlfn.XLOOKUP(U24,IO4_Jake!$D$2:$D$398,IO4_Jake!$D$2:$D$398) -> #N/A | AJ24: 1 | AN24: P09382 | AO24: P09382 | BO24: Also in EDRN-AIMS
A25: TAB1 | B25: TAB1,MAP3K7IP1 | C25: TGF-beta-activated kinase 1 and MAP3K7-binding protein 1 | D25: Q9NWZ3 | E25: Non-Modified | G25: Human | K25: =IF(A25=N25,"TRUE","FALSE") -> TRUE | L25: Direct MRM | N25: TAB1 | O25: TAB1,MAP3K7IP1 | P25: TGF-beta-activated kinase 1 and MAP3K7-binding protein 1 | Q25: Pending | R25: X | S25: Apollo | T25: QTSLDAVAQAVVDR | U25: QTSLDAVAQAVVDR | V25: QTSLDAVAQAVVDR | W25: TEFAK.QTSLDAVAQAVVDR^.VKRIH | AE25: 1 | AF25: =_xlfn.XLOOKUP(U25,IO4_Jake!$D$2:$D$398,IO4_Jake!$D$2:$D$398) -> QTSLDAVAQAVVDR | AN25: Q9NWZ3 | AO25: Q9NWZ3
A26: TALDO1 | C26: transaldolase 1 | D26: P37837 | E26: Non-Modified | G26: Human | K26: =IF(A26=N26,"TRUE","FALSE") -> TRUE | L26: Direct MRM | N26: TALDO1 | P26: transaldolase 1 | Q26: Pending | R26: X | S26: CPTAC3-PredictionModel | T26: AAQASDLEK | U26: AAQASDLEK | V26: AAQASDLEK | W26: LVPVLSAK.AAQASDLEK.IHL | AF26: =_xlfn.XLOOKUP(U26,IO4_Jake!$D$2:$D$398,IO4_Jake!$D$2:$D$398) -> #N/A | AJ26: 1 | AN26: P37837 | AO26: P37837
A27: TALDO1 | C27: transaldolase 1 | D27: P37837 | E27: Non-Modified | G27: Human | K27: =IF(A27=N27,"TRUE","FALSE") -> TRUE | L27: Direct MRM | N27: TALDO1 | P27: transaldolase 1 | Q27: Pending | R27: X | S27: CPTAC3-PredictionModel | T27: ALAGC[+57]DFLTISPK | U27: ALAG(Cam)DFLTISPK | V27: ALAGCDFLTISPK | W27: GEIK.ALAGCDFLTISPK.LLG | AF27: =_xlfn.XLOOKUP(U27,IO4_Jake!$D$2:$D$398,IO4_Jake!$D$2:$D$398) -> #N/A | AJ27: 1 | AN27: P37837 | AO27: P37837
A28: TALDO1 | C28: transaldolase 1 | D28: P37837 | E28: Non-Modified | G28: Human | K28: =IF(A28=N28,"TRUE","FALSE") -> TRUE | L28: Direct MRM | N28: TALDO1 | P28: transaldolase 1 | Q28: Pending | R28: X | S28: CPTAC3-PredictionModel | T28: FAADAVK | U28: FAADAVK | V28: FAADAVK | W28: GIRK.FAADAVK.LER | AF28: =_xlfn.XLOOKUP(U28,IO4_Jake!$D$2:$D$398,IO4_Jake!$D$2:$D$398) -> #N/A | AJ28: 1 | AN28: P37837 | AO28: P37837
