Workbook

Sheet CombinedCompleted_InDev_Assays
A1: Combined list of available targeted assays
B2: Assay Type by color:
B3: immuno-PRM MS
B4: IMAC targeted MS
B5: direct targeted MS
N6: Multiplexed Targeted Panels
A7: Completed or In Development | B7: Assay Type | C7: Gene Symbol (HGNC, genenames.org) | D7: Alternate Gene Symbols | E7: Target protein name | F7: UniProt ID (& link) | G7: Peptide Modification detected | H7: Modification site | I7: Assay Species | J7: NCI CPTAC Assay Portal ID (& link) | K7: FHCRC Antibody ID | L7: NCI CPTAC Antibody Portal ID (& link) | M7: Reference/Notes | N7: DDR MASTER Panel | O7: IO MASTER Panel | P7: RAS Panel (1 & 2 combined) | Q7: ADC Panel | R7: UCEC Panel | S7: DDR IMAC Panel | T7: IO-4 Panel
A8: Completed | B8: immuno-PRM MS | C8: ACADSB | E8: acyl-CoA dehydrogenase short/branched chain | F8: P45954 | G8: non-modified | I8: Human | K8: EB2120-7G9-H2/K2
A9: Completed | B9: immuno-PRM MS | C9: ACADSB | E9: acyl-CoA dehydrogenase short/branched chain | F9: P45954 | G9: non-modified | I9: Human | K9: RSAP14m-1B1d
A10: Completed | B10: immuno-PRM MS | C10: ACOT7 | D10: BACH, ACH1, ACT, CTE-II, LACH1, MGC1126, hBACH | E10: acyl-CoA thioesterase 7 | F10: O00154 | G10: non-modified | I10: Human | K10: EB2121-2D2-H1/K1
A11: Completed | B11: immuno-PRM MS | C11: ACOT7 | E11: Cytosolic acyl coenzyme A thioester hydrolase | F11: O00154 | G11: non-modified | I11: Human | K11: HWAP4
A12: Completed | B12: immuno-PRM MS | C12: ACT | D12: NEM3 | E12: Actin; ACTA2 ACTA1 ACTB ACTG1 ACTC1 ACTG2 | F12: Q562L2 | G12: non-modified | I12: Human | K12: EB0957-6F5-H1/K1 | N12: 1 | Q12: 1 | R12: 1
A13: Completed | B13: immuno-PRM MS | C13: ACTN4 | E13: Alpha-actinin-4 | F13: O43707 | G13: non-modified | I13: Human | K13: HWAP4
A14: Completed | B14: immuno-PRM MS | C14: ACTN4 | E14: Alpha-actinin-4 | F14: O43707 | G14: non-modified | I14: Human | K14: MGP10-1A7b
A15: Completed | B15: immuno-PRM MS | C15: ADA | E15: adenosine deaminase | F15: P00813 | G15: non-modified | I15: Human | K15: EB0150D-R1H6-H2/K2 | N15: 1 | O15: 1
A16: Completed | B16: immuno-PRM MS | C16: ADA | E16: adenosine deaminase | F16: P00813 | G16: non-modified | I16: Human | K16: EB0150D-R1H6-H2/K2 | N16: 1 | O16: 1
A17: Completed | B17: immuno-PRM MS | C17: ADA17 | D17: cSVP, CD156B | E17: ADAM17 metalloprotease domain 17 | F17: P78536 | G17: non-modified | I17: Human | K17: FHC-29-83-17 | O17: 1
A18: Completed | B18: immuno-PRM MS | C18: AFP | D18: FETA | E18: Alpha-fetoprotein | F18: P02771 | G18: non-modified | I18: Human | K18: CPTAC-23a-48-7
A19: Completed | B19: immuno-PRM MS | C19: AIFM1 | D19: AIF, PDCD8 | E19: apoptosis inducing factor mitochondria associated 1 | F19: O95831 | G19: non-modified | I19: Human | K19: EB2122A-1F6-H1/K2
A20: Completed | B20: immuno-PRM MS | C20: AIFM1 | D20: AIF, PDCD8 | E20: apoptosis inducing factor mitochondria associated 1 | F20: O95831 | G20: non-modified | I20: Human | K20: RSAP14m-1F2d
A21: Completed | B21: immuno-PRM MS | C21: AIFM1 | D21: AIF, PDCD8 | E21: apoptosis inducing factor mitochondria associated 1 | F21: O95831 | G21: non-modified | I21: Human | K21: EB2122B-2H9-H1/K1
A22: Completed | B22: immuno-PRM MS | C22: AIFM1 | D22: AIF, PDCD8 | E22: apoptosis inducing factor mitochondria associated 1 | F22: O95831 | G22: non-modified | I22: Human | K22: RSAP14m-2B11c
A23: Completed | B23: immuno-PRM MS | C23: AKT1 | D23: RAC, PKB, PRKBA, AKT | E23: RAC-alpha serine/threonine-protein kinase | F23: P31749 | G23: non-modified | I23: Human | K23: FSAI105-1C11 | P23: 1 | Q23: 1 | R23: 1
A24: Completed | B24: immuno-PRM MS | C24: AKT1 | D24: RAC, PKB, PRKBA, AKT | E24: RAC-alpha serine/threonine-protein kinase | F24: P31749 | G24: phosphorylation | H24: pS473 | I24: Human | K24: FSAI086-9H8 | P24: 1 | Q24: 1
A25: Completed | B25: immuno-PRM MS | C25: AKT1 | D25: RAC, PKB, PRKBA, AKT | E25: RAC-alpha serine/threonine-protein kinase | F25: P31749 | G25: non-modified | I25: Human | K25: FSAI086-9H8 | P25: 1 | Q25: 1
A26: Completed | B26: immuno-PRM MS | C26: AKT1 | D26: RAC, PKB, PRKBA, AKT | E26: RAC-alpha serine/threonine-protein kinase | F26: P31749 | G26: non-modified | I26: Human | K26: FSAI105-12F5 | P26: 1 | Q26: 1 | R26: 1
A27: Completed | B27: immuno-PRM MS | C27: AKT1 | D27: RAC, PKB, PRKBA, AKT | E27: RAC-alpha serine/threonine-protein kinase | F27: P31749 | G27: phosphorylation | H27: pT308 | I27: Human | K27: LBR-101-12-7 | P27: 1 | Q27: 1
A28: Completed | B28: immuno-PRM MS | C28: AKT1 | D28: RAC, PKB, PRKBA, AKT | E28: RAC-alpha serine/threonine-protein kinase | F28: P31749 | G28: phosphorylation | H28: pT308 | I28: Human | K28: FSAI106-2E2
A29: Completed | B29: immuno-PRM MS | C29: AKT1 | D29: RAC, PKB, PRKBA, AKT | E29: RAC-alpha serine/threonine-protein kinase | F29: P31749 | G29: non-modified | I29: Human | K29: LBR-101-4-2 | P29: 1 | Q29: 1
A30: Completed | B30: immuno-PRM MS | C30: AKT2 | E30: activating transcription factor 2 | F30: P31751 | G30: non-modified | I30: Human | K30: FSAI084-6H8 | P30: 1 | Q30: 1
A31: Completed | B31: immuno-PRM MS | C31: AKT2 | E31: activating transcription factor 2 | F31: P31751 | G31: phosphorylation | H31: pS473 | I31: Human | K31: LBR-104-10-4 | P31: 1 | Q31: 1
A32: Completed | B32: immuno-PRM MS | C32: AKT2 | E32: activating transcription factor 2 | F32: P31751 | G32: non-modified | I32: Human | K32: LBR-104-10-4 | P32: 1 | Q32: 1
A33: Completed | B33: immuno-PRM MS | C33: AKT2 | E33: activating transcription factor 2 | F33: P31751 | G33: non-modified | I33: Human | K33: FSAI083-1G9, FSAI083-2D10
A34: Completed | B34: immuno-PRM MS | C34: AKT2 | E34: activating transcription factor 2 | F34: P31751 | G34: non-modified | I34: Human | K34: LBR-104-10-4 | P34: 1 | Q34: 1
A35: Completed | B35: immuno-PRM MS | C35: AKT3 | D35: PKBG, RAC-gamma, PRKBG | E35: RAC-gamma serine/threonine-protein kinase | F35: Q9Y243 | G35: non-modified | I35: Human | K35: FSAI177-4B11 | P35: 1 | Q35: 1
A36: Completed | B36: immuno-PRM MS | C36: AKT3 | D36: PKBG, RAC-gamma, PRKBG | E36: RAC-gamma serine/threonine-protein kinase | F36: Q9Y243 | G36: non-modified | I36: Human | K36: FSAI177-4D10, FSAI177-3D8 | P36: 1 | Q36: 1
A37: Completed | B37: immuno-PRM MS | C37: AKT3 | D37: PKBG, RAC-gamma, PRKBG | E37: RAC-gamma serine/threonine-protein kinase | F37: Q9Y243 | G37: phosphorylation | H37: pS472 | I37: Human | K37: FSAI086-9H8 | P37: 1 | Q37: 1
A38: Completed | B38: immuno-PRM MS | C38: AKT3 | D38: PKBG, RAC-gamma, PRKBG | E38: RAC-gamma serine/threonine-protein kinase | F38: Q9Y243 | G38: non-modified | I38: Human | K38: FSAI086-9H8 | P38: 1 | Q38: 1
A39: Completed | B39: immuno-PRM MS | C39: AKT3 | D39: PKBG, RAC-gamma, PRKBG | E39: RAC-gamma serine/threonine-protein kinase | F39: Q9Y243 | G39: non-modified | I39: Human | K39: FSAI086-9H8 | P39: 1 | Q39: 1
A40: Completed | B40: immuno-PRM MS | C40: ALCAM | D40: CD166, MEMD | E40: activated leukocyte cell adhesion molecule | F40: Q13740 | G40: non-modified | I40: Human | K40: EB0975A-5C8-H2/K1 | O40: 1
A41: Completed | B41: immuno-PRM MS | C41: ALDOC | E41: Fructose-bisphosphate aldolase C | F41: P09972 | G41: non-modified | I41: Human | K41: HWAP2
A42: Completed | B42: immuno-PRM MS | C42: ANXA1 | E42: Annexin A1 | F42: P04083 | G42: non-modified | I42: Human | J42: CPTAC-696 | K42: SAIC-13B-19-H3/L3 | L42: CPTC-ANXA1-4 | O42: 1 | R42: 1
A43: Completed | B43: immuno-PRM MS | C43: ANXA1 | E43: Annexin A1 | F43: P04083 | G43: non-modified | I43: Human | J43: CPTAC-697 | K43: SAIC-13C-5G10-H3/L2 | L43: CPTC-ANXA1-5 | O43: 1 | R43: 1
A44: Completed | B44: immuno-PRM MS | C44: ANXA4 | E44: Annexin A4 | F44: P09525 | G44: non-modified | I44: Human | K44: SAIC-14C-10F12-H1/L3 | L44: CPTC-ANXA4-1
A45: Completed | B45: immuno-PRM MS | C45: APOC3 | E45: Apolipoprotein C-III | F45: P02656 | G45: non-modified | I45: Human | K45: HWAP5
A46: Completed | B46: immuno-PRM MS | C46: ARAF | E46: Serine/threonine-protein kinase A-Raf | F46: P10398 | G46: phosphorylation | H46: pS299 | I46: Human | K46: LBR-105-22-7 | P46: 1
A47: Completed | B47: immuno-PRM MS | C47: ARAF | E47: Serine/threonine-protein kinase A-Raf | F47: P10398 | G47: non-modified | I47: Human | K47: FSAI082-5H4 | P47: 1
A48: Completed | B48: immuno-PRM MS | C48: ARAF | E48: Serine/threonine-protein kinase A-Raf | F48: P10398 | G48: non-modified | I48: Human | K48: FSAI081-2F10 | P48: 1
A49: Completed | B49: immuno-PRM MS | C49: ARAF | E49: Serine/threonine-protein kinase A-Raf | F49: P10398 | G49: non-modified | I49: Human | K49: FSAI081-1D12 | P49: 1
A50: Completed | B50: immuno-PRM MS | C50: ARAF | E50: Serine/threonine-protein kinase A-Raf | F50: P10398 | G50: phosphorylation | H50: pS299 | I50: Human | K50: LBR-105-22-7 | P50: 1
A51: Completed | B51: immuno-PRM MS | C51: ARAF | E51: Serine/threonine-protein kinase A-Raf | F51: P10398 | G51: non-modified | I51: Human | K51: FSAI082-5H4 | P51: 1
A52: Completed | B52: immuno-PRM MS | C52: ARAF | E52: Serine/threonine-protein kinase A-Raf | F52: P10398 | G52: non-modified | I52: Human | K52: FSAI082-5A6 | P52: 1
A53: Completed | B53: immuno-PRM MS | C53: ARG1 | E53: arginase, liver | F53: P05089 | G53: non-modified | I53: Human | K53: EB0965E-2C10-H1/K2 | O53: 1
A54: Completed | B54: immuno-PRM MS | C54: ARG2 | E54: arginase, type II | F54: P78540 | G54: non-modified | I54: Human | K54: EB0122C-1F5-H1/K1 | O54: 1
A55: Completed | B55: immuno-PRM MS | C55: ARID1A | D55: B120, P270, C10rf4, BAF250, BAF250a, C1orf4, SMARCF1 | E55: AT-rich interaction domain 1A | F55: O14497 | G55: non-modified | I55: Human | K55: RSAP32m-19m-1E7b | R55: 1
A56: Completed | B56: immuno-PRM MS | C56: ATM | D56: TEL1, TELO1 | E56: Serine-protein kinase ATM, Ataxia telangiectasia mutated | F56: Q13315 | G56: phosphorylation | H56: pS2996 | I56: Human | K56: FHC-114-19-9 | N56: 1 | O56: 1 | Q56: 1 | R56: 1
A57: Completed | B57: immuno-PRM MS | C57: ATM | D57: TEL1, TELO1 | E57: Serine-protein kinase ATM, Ataxia telangiectasia mutated | F57: Q13315 | G57: non-modified | I57: Human | K57: FHC-114-18-2 | N57: 1 | O57: 1 | Q57: 1 | R57: 1
A58: Completed | B58: immuno-PRM MS | C58: ATM | D58: TEL1, TELO1 | E58: Serine-protein kinase ATM, Ataxia telangiectasia mutated | F58: Q13315 | G58: phosphorylation | H58: pS367 | I58: Human | K58: FHC-116-6-10 | N58: 1 | O58: 1 | Q58: 1 | R58: 1
A59: Completed | B59: immuno-PRM MS | C59: ATM | D59: TEL1, TELO1 | E59: Serine-protein kinase ATM, Ataxia telangiectasia mutated | F59: Q13315 | G59: non-modified | I59: Human | K59: FHC-116-38‐6 | N59: 1 | O59: 1 | Q59: 1 | R59: 1
A60: Completed | B60: immuno-PRM MS | C60: ATR | D60: FRP1, SCKL, SCKL1, MEC1 | E60: Serine/threonine-protein kinase ATR | F60: Q13535 | G60: phosphorylation | H60: pT1989 | I60: Human | K60: FHC-117-1-12 | N60: 1 | Q60: 1 | R60: 1
A61: Completed | B61: immuno-PRM MS | C61: ATR | D61: FRP1, SCKL, SCKL1, MEC1 | E61: Serine/threonine-protein kinase ATR | F61: Q13535 | G61: non-modified | I61: Human | K61: FHC-117-1-12 | N61: 1 | Q61: 1 | R61: 1
A62: Completed | B62: immuno-PRM MS | C62: ATRIP | D62: FLJ12343, MGC20625, MGC21482, MGC26740 | E62: ATR interacting protein | F62: Q8WXE1 | G62: phosphorylation | H62: pS224 | I62: Human | K62: FHC-118-3-6 | N62: 1
A63: Completed | B63: immuno-PRM MS | C63: ATRIP | D63: FLJ12343, MGC20625, MGC21482, MGC26740 | E63: ATR interacting protein | F63: Q8WXE1 | G63: phosphorylation | H63: pS518 | I63: Human | K63: FHC-119-33-9 | N63: 1
A64: Completed | B64: immuno-PRM MS | C64: ATRIP | D64: FLJ12343, MGC20625, MGC21482, MGC26740 | E64: ATR interacting protein | F64: Q8WXE1 | G64: non-modified | I64: Human | K64: FHC-119-33-9 | N64: 1
A65: Completed | B65: immuno-PRM MS | C65: AXL | E65: Tyrosine-protein kinase receptor UFO | F65: P30530 | G65: non-modified | I65: Human | K65: RSAP33m_27m-1F3g
A66: Completed | B66: immuno-PRM MS | C66: B2M | E66: beta-2-microglobulin | F66: P61769 | G66: non-modified | I66: Human | K66: EB0108-3B4-H1/K2 | O66: 1 | R66: 1
A67: Completed | B67: immuno-PRM MS | C67: BAD | D67: BCL2L8, BBC2 | E67: BCL2-associated agonist of cell death | F67: Q92934 | G67: non-modified | I67: Human | K67: EB0151AR-4F9-H2/K1 | N67: 1 | O67: 1 | Q67: 1 | R67: 1
A68: Completed | B68: immuno-PRM MS | C68: BAX | D68: BCL2L4 | E68: BCL2-associated X protein | F68: Q07812 | G68: non-modified | I68: Human | K68: EB0976C-1C12-H2/K2 | N68: 1 | O68: 1
A69: Completed | B69: immuno-PRM MS | C69: BAX | D69: BCL2L4 | E69: BCL2-associated X protein | F69: Q07812 | G69: non-modified | I69: Human | K69: EB0976C-1C12-H2/K2 | N69: 1 | O69: 1
A70: Completed | B70: immuno-PRM MS | C70: BCL10 | D70: CARMEN, CIPER, mE10, c-E10, CLAP | E70: B-cell CLL/lymphoma 10 | F70: O95999 | G70: non-modified | I70: Human | K70: EB0152B-6C6-H2/K2 | N70: 1 | O70: 1
A71: Completed | B71: immuno-PRM MS | C71: BIRC5 | D71: EPR-1, survivin | E71: baculoviral IAP repeat-containing 5 (survivin) | F71: O15392 | G71: non-modified | I71: Human | K71: MGP5-8C7b | N71: 1
A72: Completed | B72: immuno-PRM MS | C72: BIRC5 | D72: EPR-1, survivin | E72: baculoviral IAP repeat-containing 5 (survivin) | F72: O15392 | G72: non-modified | I72: Human | K72: MGP5-8D6b | N72: 1
A73: Completed | B73: immuno-PRM MS | C73: BRAF | D73: BRAF1 | E73: v-raf murine sarcoma viral oncogene homolog B1 | F73: P15056 | G73: non-modified | I73: Human | K73: FSAI091-6E3
A74: Completed | B74: immuno-PRM MS | C74: BRAF | D74: BRAF1 | E74: v-raf murine sarcoma viral oncogene homolog B1 | F74: P15056 | G74: phosphorylation | H74: pT401 | I74: Human | K74: LBR-107-1-4 | P74: 1
A75: Completed | B75: immuno-PRM MS | C75: BRAF | D75: BRAF1 | E75: v-raf murine sarcoma viral oncogene homolog B1 | F75: P15056 | G75: non-modified | I75: Human | K75: FSAI092-1G1
A76: Completed | B76: immuno-PRM MS | C76: BRAF | D76: BRAF1 | E76: v-raf murine sarcoma viral oncogene homolog B1 | F76: P15056 | G76: non-modified | I76: Human | K76: LBR-107-1-4 | P76: 1
A77: Completed | B77: immuno-PRM MS | C77: BRAF | D77: BRAF1 | E77: v-raf murine sarcoma viral oncogene homolog B1 | F77: P15056 | G77: non-modified | I77: Human | K77: FSAI091-6A5 | P77: 1
A78: Completed | B78: immuno-PRM MS | C78: BRAF | E78: Serine/threonine-protein kinase B-raf | F78: P15056 | G78: non-modified | I78: Human | K78: EB1975C-6E3-H1/K2
A79: Completed | B79: immuno-PRM MS | C79: BRAF | D79: BRAF1 | E79: v-raf murine sarcoma viral oncogene homolog B1 | F79: P15056 | G79: phosphorylation | H79: pS446 | I79: Human | K79: FSAI092-1H9 | P79: 1
A80: Completed | B80: immuno-PRM MS | C80: BRAF | D80: BRAF1 | E80: v-raf murine sarcoma viral oncogene homolog B1 | F80: P15056 | G80: phosphorylation | H80: pS446 | I80: Human | K80: NIH0101
A81: Completed | B81: immuno-PRM MS | C81: BRAF | D81: BRAF1 | E81: v-raf murine sarcoma viral oncogene homolog B1 | F81: P15056 | G81: non-modified | I81: Human | K81: FSAI092-1H9 | P81: 1
A82: Completed | B82: immuno-PRM MS | C82: BRCA1 | D82: RNF53, BRCC1, PPP1R53, FANCS | E82: Breast cancer type 1 susceptibility protein | F82: P38398 | G82: non-modified | I82: Human | K82: EB2101-6C5-H1/K1 | N82: 1 | R82: 1
A83: Completed | B83: immuno-PRM MS | C83: BRCA1 | D83: RNF53, BRCC1, PPP1R53, FANCS | E83: Breast cancer type 1 susceptibility protein | F83: P38398 | G83: phosphorylation | H83: pS1524 | I83: Human | K83: SAIC-116-15-7 | N83: 1 | Q83: 1 | R83: 1
A84: Completed | B84: immuno-PRM MS | C84: BRCA1 | D84: RNF53, BRCC1, PPP1R53, FANCS | E84: Breast cancer type 1 susceptibility protein | F84: P38398 | G84: non-modified | I84: Human | K84: SAIC-116-15-7 | N84: 1 | Q84: 1 | R84: 1
A85: Completed | B85: immuno-PRM MS | C85: BRCA2 | D85: FAD, FAD1, BRCC2, XRCC11 | E85: breast cancer 2, early onset | F85: P51587 | G85: non-modified | I85: Human | K85: EB0187D-22E4-H1/K1 | N85: 1 | R85: 1
A86: Completed | B86: immuno-PRM MS | C86: BRCA2 | D86: FAD, FAD1, BRCC2, XRCC11 | E86: Breast cancer type 2 susceptibility protein | F86: P51587 | G86: phosphorylation | H86: pS1680 | I86: Human | K86: FHC-124-23-5 | N86: 1 | Q86: 1
A87: Completed | B87: immuno-PRM MS | C87: BRCA2 | D87: FAD, FAD1, BRCC2, XRCC11 | E87: Breast cancer type 2 susceptibility protein | F87: P51587 | G87: non-modified | I87: Human | K87: FHC-124-23-5 | N87: 1 | Q87: 1
A88: Completed | B88: immuno-PRM MS | C88: BRIP1 | D88: OF, BACH1, FANCJ | E88: BRCA1 interacting protein C-terminal helicase 1 / Fanconi anemia group J protein | F88: Q9BX63 | G88: phosphorylation | H88: pS1032 | I88: Human | K88: SAIC-114-92-9 | N88: 1
A89: Completed | B89: immuno-PRM MS | C89: BRIP1 | D89: OF, BACH1, FANCJ | E89: BRCA1 interacting protein C-terminal helicase 1 / Fanconi anemia group J protein | F89: Q9BX63 | G89: non-modified | I89: Human | K89: SAIC-114-114-1 | N89: 1
A90: Completed | B90: immuno-PRM MS | C90: BRIP1 | D90: OF, BACH1, FANCJ | F90: Q9BX63 | G90: phosphorylation | H90: pT918 | I90: Human | K90: FHC-128-62-2 | N90: 1
A91: Completed | B91: immuno-PRM MS | C91: BRIP1 | D91: OF, BACH1, FANCJ | E91: BRCA1 interacting protein C-terminal helicase 2 | F91: Q9BX63 | G91: phosphorylation | H91: pS930 | I91: Human | K91: FHC-128-62-2 | N91: 1
A92: Completed | B92: immuno-PRM MS | C92: BRIP1 | D92: OF, BACH1, FANCJ | E92: BRCA1 interacting protein C-terminal helicase 2 | F92: Q9BX63 | G92: non-modified | I92: Human | K92: FHC-128-62-2 | N92: 1
A93: Completed | B93: immuno-PRM MS | C93: BTK | D93: ATK, XLA, PSCTK1 | E93: Bruton agammaglobulinemia tyrosine kinase | F93: Q06187 | G93: non-modified | I93: Human | K93: EB0153B-R1G9-H1/K1 | O93: 1
A94: Completed | B94: immuno-PRM MS | C94: BTLA | D94: BTLA1, CD272 | E94: B and T lymphocyte associated | F94: Q7Z6A9 | G94: non-modified | I94: Human | K94: FSAI194-6C4 | O94: 1 | R94: 1
A95: Completed | B95: immuno-PRM MS | C95: C10orf54 | D95: SISP1, GI24, B7-H5, B7H5, VISTA, PD-1H | E95: chromosome 10 open reading frame 54 | F95: Q9H7M9 | G95: non-modified | I95: Human | K95: FSAI170-16G10 | O95: 1
A96: Completed | B96: immuno-PRM MS | C96: C10orf54 | D96: SISP1, GI24, B7-H5, B7H5, VISTA, PD-1H | E96: chromosome 10 open reading frame 54 | F96: Q9H7M9 | G96: non-modified | I96: Human | K96: EB0135B-5D8-H2/K2 | O96: 1
A97: Completed | B97: immuno-PRM MS | C97: C17orf70 / FAAP100 | D97: FLJ22175 | E97: Chromosome 17 open reading frame 70 / Fanconi anemia-associated protein of 100 kDa | F97: Q0VG06 | G97: phosphorylation | H97: pS667 | I97: Human | K97: FHC-130-8-4 | N97: 1
A98: Completed | B98: immuno-PRM MS | C98: C17orf70 / FAAP100 | D98: FLJ22175 | E98: Chromosome 17 open reading frame 70 / Fanconi anemia-associated protein of 100 kDa | F98: Q0VG06 | G98: non-modified | I98: Human | K98: FHC-130-22-10 | N98: 1
A99: Completed | B99: immuno-PRM MS | C99: C7 | E99: Complement component C7 | F99: P10643 | G99: non-modified | I99: Human | K99: HWAP3
A100: Completed | B100: immuno-PRM MS | C100: CADM1 | D100: NECL2, ST17, BL2, SYNCAM, IGSF4A, Necl-2, SYNCAM1, RA175 | E100: cell adhesion molecule 1 | F100: Q9BY67 | G100: non-modified | I100: Human | K100: FSAI198R-6D7, FSAI198R-7C8-1G11 | O100: 1
...

Sheet IO4_Jake
A1: Gene Symbol | B1: Accession ID | C1: Heavy Tryptic Peptide Modified Sequence | D1: Heavy Tryptic Peptide Modified Sequence | E1: dMRM available | F1: dMRM inDev | H1: Project | I1: IPI accession number | J1: GO site
A2: AKT1 | B2: P31749 | C2: LSPPFKPQVTSETDTR[+10] | D2: LSPPFKPQVTSETDTR | E2: =_xlfn.XLOOKUP(D2,'DirectMRM_Available (web)'!$U$4:$U$603,'DirectMRM_Available (web)'!$U$4:$U$603) -> #N/A | F2: =_xlfn.XLOOKUP(D2,'DirectMRM_InDev(web)'!$U$4:$U$38,'DirectMRM_InDev(web)'!$U$4:$U$38) -> #N/A | H2: Apollo
A3: SMAD3 | B3: P84022 | C3: AITTQNVNTK[+8] | D3: AITTQNVNTK | E3: =_xlfn.XLOOKUP(D3,'DirectMRM_Available (web)'!$U$4:$U$603,'DirectMRM_Available (web)'!$U$4:$U$603) -> #N/A | F3: =_xlfn.XLOOKUP(D3,'DirectMRM_InDev(web)'!$U$4:$U$38,'DirectMRM_InDev(web)'!$U$4:$U$38) -> #N/A | H3: Apollo
A4: STAB1 | B4: Q9NY15 | C4: ELPDQITQDC[+57]R[+10] | D4: ELPDQITQD(Cam)R | E4: =_xlfn.XLOOKUP(D4,'DirectMRM_Available (web)'!$U$4:$U$603,'DirectMRM_Available (web)'!$U$4:$U$603) -> #N/A | F4: =_xlfn.XLOOKUP(D4,'DirectMRM_InDev(web)'!$U$4:$U$38,'DirectMRM_InDev(web)'!$U$4:$U$38) -> #N/A | H4: Apollo
A5: TGFBI | B5: Q15582 | C5: EGVYTVFAPTNEAFR[+10] | D5: EGVYTVFAPTNEAFR | E5: =_xlfn.XLOOKUP(D5,'DirectMRM_Available (web)'!$U$4:$U$603,'DirectMRM_Available (web)'!$U$4:$U$603) -> #N/A | F5: =_xlfn.XLOOKUP(D5,'DirectMRM_InDev(web)'!$U$4:$U$38,'DirectMRM_InDev(web)'!$U$4:$U$38) -> #N/A | H5: Apollo
A6: TGFBR3 | B6: Q03167 | C6: GTTGLPQEVHVLNLR[+10] | D6: GTTGLPQEVHVLNLR | E6: =_xlfn.XLOOKUP(D6,'DirectMRM_Available (web)'!$U$4:$U$603,'DirectMRM_Available (web)'!$U$4:$U$603) -> #N/A | F6: =_xlfn.XLOOKUP(D6,'DirectMRM_InDev(web)'!$U$4:$U$38,'DirectMRM_InDev(web)'!$U$4:$U$38) -> #N/A | H6: Apollo
A7: C1R | B7: P00736 | C7: QDAC[+57]QGDSGGVFAVR[+10] | D7: QDA(Cam)QGDSGGVFAVR | E7: =_xlfn.XLOOKUP(D7,'DirectMRM_Available (web)'!$U$4:$U$603,'DirectMRM_Available (web)'!$U$4:$U$603) -> #N/A | F7: =_xlfn.XLOOKUP(D7,'DirectMRM_InDev(web)'!$U$4:$U$38,'DirectMRM_InDev(web)'!$U$4:$U$38) -> #N/A | H7: Apollo
A8: CFB | B8: P00751 | C8: DISEVVTPR[+10] | D8: DISEVVTPR | E8: =_xlfn.XLOOKUP(D8,'DirectMRM_Available (web)'!$U$4:$U$603,'DirectMRM_Available (web)'!$U$4:$U$603) -> #N/A | F8: =_xlfn.XLOOKUP(D8,'DirectMRM_InDev(web)'!$U$4:$U$38,'DirectMRM_InDev(web)'!$U$4:$U$38) -> #N/A | H8: Apollo
A9: SEMA4D | B9: Q92854 | C9: TVFQVVAK[+8] | D9: TVFQVVAK | E9: =_xlfn.XLOOKUP(D9,'DirectMRM_Available (web)'!$U$4:$U$603,'DirectMRM_Available (web)'!$U$4:$U$603) -> #N/A | F9: =_xlfn.XLOOKUP(D9,'DirectMRM_InDev(web)'!$U$4:$U$38,'DirectMRM_InDev(web)'!$U$4:$U$38) -> #N/A | G9: 1 | H9: Apollo
A10: SMAD1 | B10: Q15797 | C10: GDVQAVAYEEPK[+8] | D10: GDVQAVAYEEPK | E10: =_xlfn.XLOOKUP(D10,'DirectMRM_Available (web)'!$U$4:$U$603,'DirectMRM_Available (web)'!$U$4:$U$603) -> #N/A | F10: =_xlfn.XLOOKUP(D10,'DirectMRM_InDev(web)'!$U$4:$U$38,'DirectMRM_InDev(web)'!$U$4:$U$38) -> #N/A | H10: Apollo
A11: IFI44L | B11: Q53G44 | C11: DYR[+10]PYADLVSEIR[+10] | D11: DYRPYADLVSEIR | E11: =_xlfn.XLOOKUP(D11,'DirectMRM_Available (web)'!$U$4:$U$603,'DirectMRM_Available (web)'!$U$4:$U$603) -> #N/A | F11: =_xlfn.XLOOKUP(D11,'DirectMRM_InDev(web)'!$U$4:$U$38,'DirectMRM_InDev(web)'!$U$4:$U$38) -> #N/A | H11: Apollo
A12: ISG20 | B12: Q96AZ6 | C12: ATMELYQISQR[+10] | D12: ATMELYQISQR | E12: =_xlfn.XLOOKUP(D12,'DirectMRM_Available (web)'!$U$4:$U$603,'DirectMRM_Available (web)'!$U$4:$U$603) -> #N/A | F12: =_xlfn.XLOOKUP(D12,'DirectMRM_InDev(web)'!$U$4:$U$38,'DirectMRM_InDev(web)'!$U$4:$U$38) -> #N/A | H12: Apollo
A13: KRT1 | B13: P04264 | C13: SLVNLGGSK[+8] | D13: SLVNLGGSK | E13: =_xlfn.XLOOKUP(D13,'DirectMRM_Available (web)'!$U$4:$U$603,'DirectMRM_Available (web)'!$U$4:$U$603) -> #N/A | F13: =_xlfn.XLOOKUP(D13,'DirectMRM_InDev(web)'!$U$4:$U$38,'DirectMRM_InDev(web)'!$U$4:$U$38) -> #N/A | H13: Apollo
A14: PSME2 | B14: Q9UL46 | C14: ETHVMDYR[+10] | D14: ETHVMDYR | E14: =_xlfn.XLOOKUP(D14,'DirectMRM_Available (web)'!$U$4:$U$603,'DirectMRM_Available (web)'!$U$4:$U$603) -> #N/A | F14: =_xlfn.XLOOKUP(D14,'DirectMRM_InDev(web)'!$U$4:$U$38,'DirectMRM_InDev(web)'!$U$4:$U$38) -> #N/A | G14: 1 | H14: Apollo
A15: C4BPB | B15: P20851 | C15: LIQEAPKPEC[+57]EK[+8] | D15: LIQEAPKPE(Cam)EK | E15: =_xlfn.XLOOKUP(D15,'DirectMRM_Available (web)'!$U$4:$U$603,'DirectMRM_Available (web)'!$U$4:$U$603) -> #N/A | F15: =_xlfn.XLOOKUP(D15,'DirectMRM_InDev(web)'!$U$4:$U$38,'DirectMRM_InDev(web)'!$U$4:$U$38) -> #N/A | G15: 1 | H15: Apollo
A16: CASP2 | B16: P42575 | C16: SGGDVDHSTLVTLFK[+8] | D16: SGGDVDHSTLVTLFK | E16: =_xlfn.XLOOKUP(D16,'DirectMRM_Available (web)'!$U$4:$U$603,'DirectMRM_Available (web)'!$U$4:$U$603) -> #N/A | F16: =_xlfn.XLOOKUP(D16,'DirectMRM_InDev(web)'!$U$4:$U$38,'DirectMRM_InDev(web)'!$U$4:$U$38) -> #N/A | G16: 1 | H16: Apollo
A17: IFIT3 | B17: O14879 | C17: AIELFQR[+10] | D17: AIELFQR | E17: =_xlfn.XLOOKUP(D17,'DirectMRM_Available (web)'!$U$4:$U$603,'DirectMRM_Available (web)'!$U$4:$U$603) -> #N/A | F17: =_xlfn.XLOOKUP(D17,'DirectMRM_InDev(web)'!$U$4:$U$38,'DirectMRM_InDev(web)'!$U$4:$U$38) -> #N/A | H17: Apollo
A18: NCF4 | B18: Q15080 | C18: EDIALNYR[+10] | D18: EDIALNYR | E18: =_xlfn.XLOOKUP(D18,'DirectMRM_Available (web)'!$U$4:$U$603,'DirectMRM_Available (web)'!$U$4:$U$603) -> #N/A | F18: =_xlfn.XLOOKUP(D18,'DirectMRM_InDev(web)'!$U$4:$U$38,'DirectMRM_InDev(web)'!$U$4:$U$38) -> #N/A | G18: 1 | H18: Apollo
A19: BID | B19: P55957 | C19: IEADSESQEDIIR[+10] | D19: IEADSESQEDIIR | E19: =_xlfn.XLOOKUP(D19,'DirectMRM_Available (web)'!$U$4:$U$603,'DirectMRM_Available (web)'!$U$4:$U$603) -> #N/A | F19: =_xlfn.XLOOKUP(D19,'DirectMRM_InDev(web)'!$U$4:$U$38,'DirectMRM_InDev(web)'!$U$4:$U$38) -> #N/A | G19: 1 | H19: Apollo
A20: C8G | B20: P07360 | C20: QLYGDTGVLGR[+10] | D20: QLYGDTGVLGR | E20: =_xlfn.XLOOKUP(D20,'DirectMRM_Available (web)'!$U$4:$U$603,'DirectMRM_Available (web)'!$U$4:$U$603) -> #N/A | F20: =_xlfn.XLOOKUP(D20,'DirectMRM_InDev(web)'!$U$4:$U$38,'DirectMRM_InDev(web)'!$U$4:$U$38) -> #N/A | H20: Apollo
A21: CAV1 | B21: Q03135 | C21: HLNDDVVK[+8] | D21: HLNDDVVK | E21: =_xlfn.XLOOKUP(D21,'DirectMRM_Available (web)'!$U$4:$U$603,'DirectMRM_Available (web)'!$U$4:$U$603) -> #N/A | F21: =_xlfn.XLOOKUP(D21,'DirectMRM_InDev(web)'!$U$4:$U$38,'DirectMRM_InDev(web)'!$U$4:$U$38) -> #N/A | H21: Apollo
A22: IL6ST | B22: P40189 | C22: ILDYEVTLTR[+10] | D22: ILDYEVTLTR | E22: =_xlfn.XLOOKUP(D22,'DirectMRM_Available (web)'!$U$4:$U$603,'DirectMRM_Available (web)'!$U$4:$U$603) -> #N/A | F22: =_xlfn.XLOOKUP(D22,'DirectMRM_InDev(web)'!$U$4:$U$38,'DirectMRM_InDev(web)'!$U$4:$U$38) -> #N/A | H22: Apollo
A23: BCL2L11 | B23: O43521 | C23: IGDEFNAYYAR[+10] | D23: IGDEFNAYYAR | E23: =_xlfn.XLOOKUP(D23,'DirectMRM_Available (web)'!$U$4:$U$603,'DirectMRM_Available (web)'!$U$4:$U$603) -> #N/A | F23: =_xlfn.XLOOKUP(D23,'DirectMRM_InDev(web)'!$U$4:$U$38,'DirectMRM_InDev(web)'!$U$4:$U$38) -> #N/A | H23: Apollo
A24: CTSS | B24: P25774 | C24: LVSLSAQNLVDC[+57]STEK[+8] | D24: LVSLSAQNLVD(Cam)STEK | E24: =_xlfn.XLOOKUP(D24,'DirectMRM_Available (web)'!$U$4:$U$603,'DirectMRM_Available (web)'!$U$4:$U$603) -> #N/A | F24: =_xlfn.XLOOKUP(D24,'DirectMRM_InDev(web)'!$U$4:$U$38,'DirectMRM_InDev(web)'!$U$4:$U$38) -> #N/A | H24: Apollo
A25: FAS | B25: P25445 | C25: IQTIILK[+8] | D25: IQTIILK | E25: =_xlfn.XLOOKUP(D25,'DirectMRM_Available (web)'!$U$4:$U$603,'DirectMRM_Available (web)'!$U$4:$U$603) -> #N/A | F25: =_xlfn.XLOOKUP(D25,'DirectMRM_InDev(web)'!$U$4:$U$38,'DirectMRM_InDev(web)'!$U$4:$U$38) -> #N/A | H25: Apollo
A26: TNFAIP8 | B26: O95379 | C26: EVATDVFNSK[+8] | D26: EVATDVFNSK | E26: =_xlfn.XLOOKUP(D26,'DirectMRM_Available (web)'!$U$4:$U$603,'DirectMRM_Available (web)'!$U$4:$U$603) -> #N/A | F26: =_xlfn.XLOOKUP(D26,'DirectMRM_InDev(web)'!$U$4:$U$38,'DirectMRM_InDev(web)'!$U$4:$U$38) -> #N/A | H26: Apollo
A27: CREBBP | B27: Q92793 | C27: SPLSQGDSSAPSLPK[+8] | D27: SPLSQGDSSAPSLPK | E27: =_xlfn.XLOOKUP(D27,'DirectMRM_Available (web)'!$U$4:$U$603,'DirectMRM_Available (web)'!$U$4:$U$603) -> #N/A | F27: =_xlfn.XLOOKUP(D27,'DirectMRM_InDev(web)'!$U$4:$U$38,'DirectMRM_InDev(web)'!$U$4:$U$38) -> #N/A | G27: 1 | H27: Apollo
A28: GZMA | B28: P12544 | C28: YVTILHLPK[+8] | D28: YVTILHLPK | E28: =_xlfn.XLOOKUP(D28,'DirectMRM_Available (web)'!$U$4:$U$603,'DirectMRM_Available (web)'!$U$4:$U$603) -> #N/A | F28: =_xlfn.XLOOKUP(D28,'DirectMRM_InDev(web)'!$U$4:$U$38,'DirectMRM_InDev(web)'!$U$4:$U$38) -> #N/A | H28: Apollo
A29: IFI35 | B29: P80217 | C29: VAEQVLQQK[+8] | D29: VAEQVLQQK | E29: =_xlfn.XLOOKUP(D29,'DirectMRM_Available (web)'!$U$4:$U$603,'DirectMRM_Available (web)'!$U$4:$U$603) -> #N/A | F29: =_xlfn.XLOOKUP(D29,'DirectMRM_InDev(web)'!$U$4:$U$38,'DirectMRM_InDev(web)'!$U$4:$U$38) -> #N/A | H29: Apollo
A30: IRF7 | B30: Q92985 | C30: GGGPPPEAETAER[+10] | D30: GGGPPPEAETAER | E30: =_xlfn.XLOOKUP(D30,'DirectMRM_Available (web)'!$U$4:$U$603,'DirectMRM_Available (web)'!$U$4:$U$603) -> #N/A | F30: =_xlfn.XLOOKUP(D30,'DirectMRM_InDev(web)'!$U$4:$U$38,'DirectMRM_InDev(web)'!$U$4:$U$38) -> #N/A | H30: Apollo
A31: ELANE | B31: P08246 | C31: VVLGAHNLSR[+10] | D31: VVLGAHNLSR | E31: =_xlfn.XLOOKUP(D31,'DirectMRM_Available (web)'!$U$4:$U$603,'DirectMRM_Available (web)'!$U$4:$U$603) -> #N/A | F31: =_xlfn.XLOOKUP(D31,'DirectMRM_InDev(web)'!$U$4:$U$38,'DirectMRM_InDev(web)'!$U$4:$U$38) -> #N/A | G31: 1 | H31: Apollo
A32: PSMB2 | B32: P49721 | C32: VAASNIVQMK[+8] | D32: VAASNIVQMK | E32: =_xlfn.XLOOKUP(D32,'DirectMRM_Available (web)'!$U$4:$U$603,'DirectMRM_Available (web)'!$U$4:$U$603) -> #N/A | F32: =_xlfn.XLOOKUP(D32,'DirectMRM_InDev(web)'!$U$4:$U$38,'DirectMRM_InDev(web)'!$U$4:$U$38) -> #N/A | G32: 1 | H32: Apollo
A33: PSME2 | B33: Q9UL46 | C33: AMVLDLR[+10] | D33: AMVLDLR | E33: =_xlfn.XLOOKUP(D33,'DirectMRM_Available (web)'!$U$4:$U$603,'DirectMRM_Available (web)'!$U$4:$U$603) -> #N/A | F33: =_xlfn.XLOOKUP(D33,'DirectMRM_InDev(web)'!$U$4:$U$38,'DirectMRM_InDev(web)'!$U$4:$U$38) -> #N/A | H33: Apollo
A34: RIPK2 | B34: O43353 | C34: TQNILLDNEFHVK[+8] | D34: TQNILLDNEFHVK | E34: =_xlfn.XLOOKUP(D34,'DirectMRM_Available (web)'!$U$4:$U$603,'DirectMRM_Available (web)'!$U$4:$U$603) -> #N/A | F34: =_xlfn.XLOOKUP(D34,'DirectMRM_InDev(web)'!$U$4:$U$38,'DirectMRM_InDev(web)'!$U$4:$U$38) -> #N/A | G34: 1 | H34: Apollo
A35: HCLS1 | B35: P14317 | C35: EHPVPLLPIR[+10] | D35: EHPVPLLPIR | E35: =_xlfn.XLOOKUP(D35,'DirectMRM_Available (web)'!$U$4:$U$603,'DirectMRM_Available (web)'!$U$4:$U$603) -> #N/A | F35: =_xlfn.XLOOKUP(D35,'DirectMRM_InDev(web)'!$U$4:$U$38,'DirectMRM_InDev(web)'!$U$4:$U$38) -> #N/A | H35: Apollo
A36: IFI44 | B36: Q8TCB0 | C36: YNSPTNFQIDGR[+10] | D36: YNSPTNFQIDGR | E36: =_xlfn.XLOOKUP(D36,'DirectMRM_Available (web)'!$U$4:$U$603,'DirectMRM_Available (web)'!$U$4:$U$603) -> #N/A | F36: =_xlfn.XLOOKUP(D36,'DirectMRM_InDev(web)'!$U$4:$U$38,'DirectMRM_InDev(web)'!$U$4:$U$38) -> #N/A | H36: Apollo
A37: PECAM1 | B37: P16284 | C37: AVPDAVESR[+10] | D37: AVPDAVESR | E37: =_xlfn.XLOOKUP(D37,'DirectMRM_Available (web)'!$U$4:$U$603,'DirectMRM_Available (web)'!$U$4:$U$603) -> #N/A | F37: =_xlfn.XLOOKUP(D37,'DirectMRM_InDev(web)'!$U$4:$U$38,'DirectMRM_InDev(web)'!$U$4:$U$38) -> #N/A | H37: Apollo
A38: PSMB8 | B38: P28062 | C38: VESTDVSDLLHQYR[+10] | D38: VESTDVSDLLHQYR | E38: =_xlfn.XLOOKUP(D38,'DirectMRM_Available (web)'!$U$4:$U$603,'DirectMRM_Available (web)'!$U$4:$U$603) -> #N/A | F38: =_xlfn.XLOOKUP(D38,'DirectMRM_InDev(web)'!$U$4:$U$38,'DirectMRM_InDev(web)'!$U$4:$U$38) -> #N/A | G38: 1 | H38: Apollo
A39: CCR1 | B39: P32246 | C39: VAVHLVK[+8] | D39: VAVHLVK | E39: =_xlfn.XLOOKUP(D39,'DirectMRM_Available (web)'!$U$4:$U$603,'DirectMRM_Available (web)'!$U$4:$U$603) -> #N/A | F39: =_xlfn.XLOOKUP(D39,'DirectMRM_InDev(web)'!$U$4:$U$38,'DirectMRM_InDev(web)'!$U$4:$U$38) -> #N/A | H39: Apollo
A40: HLA-DMB | B40: P28068 | C40: TR[+10]PPSVQVAK[+8] | D40: TRPPSVQVAK | E40: =_xlfn.XLOOKUP(D40,'DirectMRM_Available (web)'!$U$4:$U$603,'DirectMRM_Available (web)'!$U$4:$U$603) -> #N/A | F40: =_xlfn.XLOOKUP(D40,'DirectMRM_InDev(web)'!$U$4:$U$38,'DirectMRM_InDev(web)'!$U$4:$U$38) -> #N/A | H40: Apollo
A41: IFITM3 | B41: Q01628 | C41: EEHEVAVLGAPHNPAPPTSTVIHIR[+10] | D41: EEHEVAVLGAPHNPAPPTSTVIHIR | E41: =_xlfn.XLOOKUP(D41,'DirectMRM_Available (web)'!$U$4:$U$603,'DirectMRM_Available (web)'!$U$4:$U$603) -> #N/A | F41: =_xlfn.XLOOKUP(D41,'DirectMRM_InDev(web)'!$U$4:$U$38,'DirectMRM_InDev(web)'!$U$4:$U$38) -> #N/A | H41: Apollo
A42: WAS | B42: P42768 | C42: GLPAPGPSPADK[+8] | D42: GLPAPGPSPADK | E42: =_xlfn.XLOOKUP(D42,'DirectMRM_Available (web)'!$U$4:$U$603,'DirectMRM_Available (web)'!$U$4:$U$603) -> #N/A | F42: =_xlfn.XLOOKUP(D42,'DirectMRM_InDev(web)'!$U$4:$U$38,'DirectMRM_InDev(web)'!$U$4:$U$38) -> #N/A | G42: 1 | H42: Apollo
A43: CD55 | B43: P08174 | C43: TSFPEDTVITYK[+8] | D43: TSFPEDTVITYK | E43: =_xlfn.XLOOKUP(D43,'DirectMRM_Available (web)'!$U$4:$U$603,'DirectMRM_Available (web)'!$U$4:$U$603) -> #N/A | F43: =_xlfn.XLOOKUP(D43,'DirectMRM_InDev(web)'!$U$4:$U$38,'DirectMRM_InDev(web)'!$U$4:$U$38) -> #N/A | G43: 1 | H43: Apollo
A44: CFH | B44: P08603 | C44: TGDEITYQC[+57]R[+10] | D44: TGDEITYQ(Cam)R | E44: =_xlfn.XLOOKUP(D44,'DirectMRM_Available (web)'!$U$4:$U$603,'DirectMRM_Available (web)'!$U$4:$U$603) -> #N/A | F44: =_xlfn.XLOOKUP(D44,'DirectMRM_InDev(web)'!$U$4:$U$38,'DirectMRM_InDev(web)'!$U$4:$U$38) -> #N/A | G44: 1 | H44: Apollo
A45: HLA-G | B45: P17693 | C45: DYLALNEDLR[+10] | D45: DYLALNEDLR | E45: =_xlfn.XLOOKUP(D45,'DirectMRM_Available (web)'!$U$4:$U$603,'DirectMRM_Available (web)'!$U$4:$U$603) -> #N/A | F45: =_xlfn.XLOOKUP(D45,'DirectMRM_InDev(web)'!$U$4:$U$38,'DirectMRM_InDev(web)'!$U$4:$U$38) -> #N/A | H45: Apollo
A46: PML | B46: P29590 | C46: ELLEAVDAR[+10] | D46: ELLEAVDAR | E46: =_xlfn.XLOOKUP(D46,'DirectMRM_Available (web)'!$U$4:$U$603,'DirectMRM_Available (web)'!$U$4:$U$603) -> #N/A | F46: =_xlfn.XLOOKUP(D46,'DirectMRM_InDev(web)'!$U$4:$U$38,'DirectMRM_InDev(web)'!$U$4:$U$38) -> #N/A | G46: 1 | H46: Apollo
A47: C5AR1 | B47: P21730 | C47: NVLTEESVVR[+10] | D47: NVLTEESVVR | E47: =_xlfn.XLOOKUP(D47,'DirectMRM_Available (web)'!$U$4:$U$603,'DirectMRM_Available (web)'!$U$4:$U$603) -> #N/A | F47: =_xlfn.XLOOKUP(D47,'DirectMRM_InDev(web)'!$U$4:$U$38,'DirectMRM_InDev(web)'!$U$4:$U$38) -> #N/A | H47: Apollo
A48: NFKB1 | B48: P19838 | C48: VFETLEAR[+10] | D48: VFETLEAR | E48: =_xlfn.XLOOKUP(D48,'DirectMRM_Available (web)'!$U$4:$U$603,'DirectMRM_Available (web)'!$U$4:$U$603) -> #N/A | F48: =_xlfn.XLOOKUP(D48,'DirectMRM_InDev(web)'!$U$4:$U$38,'DirectMRM_InDev(web)'!$U$4:$U$38) -> #N/A | H48: Apollo
A49: PARP9 | B49: Q8IXQ6 | C49: TELEIEGAR[+10] | D49: TELEIEGAR | E49: =_xlfn.XLOOKUP(D49,'DirectMRM_Available (web)'!$U$4:$U$603,'DirectMRM_Available (web)'!$U$4:$U$603) -> #N/A | F49: =_xlfn.XLOOKUP(D49,'DirectMRM_InDev(web)'!$U$4:$U$38,'DirectMRM_InDev(web)'!$U$4:$U$38) -> #N/A | H49: Apollo
A50: TPD52 | B50: P55327 | C50: ASAAFSSVGSVITK[+8] | D50: ASAAFSSVGSVITK | E50: =_xlfn.XLOOKUP(D50,'DirectMRM_Available (web)'!$U$4:$U$603,'DirectMRM_Available (web)'!$U$4:$U$603) -> #N/A | F50: =_xlfn.XLOOKUP(D50,'DirectMRM_InDev(web)'!$U$4:$U$38,'DirectMRM_InDev(web)'!$U$4:$U$38) -> #N/A | H50: Apollo
A51: C1QC | B51: P02747 | C51: FQSVFTVTR[+10] | D51: FQSVFTVTR | E51: =_xlfn.XLOOKUP(D51,'DirectMRM_Available (web)'!$U$4:$U$603,'DirectMRM_Available (web)'!$U$4:$U$603) -> #N/A | F51: =_xlfn.XLOOKUP(D51,'DirectMRM_InDev(web)'!$U$4:$U$38,'DirectMRM_InDev(web)'!$U$4:$U$38) -> #N/A | G51: 1 | H51: Apollo
A52: CSF1 | B52: P09603 | C52: DPVC[+57]YLK[+8] | D52: DPV(Cam)YLK | E52: =_xlfn.XLOOKUP(D52,'DirectMRM_Available (web)'!$U$4:$U$603,'DirectMRM_Available (web)'!$U$4:$U$603) -> #N/A | F52: =_xlfn.XLOOKUP(D52,'DirectMRM_InDev(web)'!$U$4:$U$38,'DirectMRM_InDev(web)'!$U$4:$U$38) -> #N/A | G52: 1 | H52: Apollo
A53: FCER1G | B53: P30273 | C53: SDGVYTGLSTR[+10] | D53: SDGVYTGLSTR | E53: =_xlfn.XLOOKUP(D53,'DirectMRM_Available (web)'!$U$4:$U$603,'DirectMRM_Available (web)'!$U$4:$U$603) -> #N/A | F53: =_xlfn.XLOOKUP(D53,'DirectMRM_InDev(web)'!$U$4:$U$38,'DirectMRM_InDev(web)'!$U$4:$U$38) -> #N/A | G53: 1 | H53: Apollo
A54: PSMB9 | B54: P28065 | C54: VSAGEAVVNR[+10] | D54: VSAGEAVVNR | E54: =_xlfn.XLOOKUP(D54,'DirectMRM_Available (web)'!$U$4:$U$603,'DirectMRM_Available (web)'!$U$4:$U$603) -> #N/A | F54: =_xlfn.XLOOKUP(D54,'DirectMRM_InDev(web)'!$U$4:$U$38,'DirectMRM_InDev(web)'!$U$4:$U$38) -> #N/A | G54: 1 | H54: Apollo
A55: DARS | B55: P14868 | C55: LPLQLDDAVR[+10]PEAEGEEEGR[+10] | D55: LPLQLDDAVRPEAEGEEEGR | E55: =_xlfn.XLOOKUP(D55,'DirectMRM_Available (web)'!$U$4:$U$603,'DirectMRM_Available (web)'!$U$4:$U$603) -> #N/A | F55: =_xlfn.XLOOKUP(D55,'DirectMRM_InDev(web)'!$U$4:$U$38,'DirectMRM_InDev(web)'!$U$4:$U$38) -> #N/A | G55: 1 | H55: Apollo
A56: NPM1 | B56: P06748 | C56: VDNDENEHQLSLR[+10] | D56: VDNDENEHQLSLR | E56: =_xlfn.XLOOKUP(D56,'DirectMRM_Available (web)'!$U$4:$U$603,'DirectMRM_Available (web)'!$U$4:$U$603) -> #N/A | F56: =_xlfn.XLOOKUP(D56,'DirectMRM_InDev(web)'!$U$4:$U$38,'DirectMRM_InDev(web)'!$U$4:$U$38) -> #N/A | H56: Apollo
A57: PARP14 | B57: Q460N5 | C57: LLEVTNTIR[+10] | D57: LLEVTNTIR | E57: =_xlfn.XLOOKUP(D57,'DirectMRM_Available (web)'!$U$4:$U$603,'DirectMRM_Available (web)'!$U$4:$U$603) -> #N/A | F57: =_xlfn.XLOOKUP(D57,'DirectMRM_InDev(web)'!$U$4:$U$38,'DirectMRM_InDev(web)'!$U$4:$U$38) -> #N/A | H57: Apollo
A58: TGFBRAP1 | B58: Q8WUH2 | C58: AFTLVSAVER[+10] | D58: AFTLVSAVER | E58: =_xlfn.XLOOKUP(D58,'DirectMRM_Available (web)'!$U$4:$U$603,'DirectMRM_Available (web)'!$U$4:$U$603) -> #N/A | F58: =_xlfn.XLOOKUP(D58,'DirectMRM_InDev(web)'!$U$4:$U$38,'DirectMRM_InDev(web)'!$U$4:$U$38) -> #N/A | H58: Apollo
A59: CASP1 | B59: P29466 | C59: FSFEQPDGR[+10] | D59: FSFEQPDGR | E59: =_xlfn.XLOOKUP(D59,'DirectMRM_Available (web)'!$U$4:$U$603,'DirectMRM_Available (web)'!$U$4:$U$603) -> #N/A | F59: =_xlfn.XLOOKUP(D59,'DirectMRM_InDev(web)'!$U$4:$U$38,'DirectMRM_InDev(web)'!$U$4:$U$38) -> #N/A | H59: Apollo
A60: GCA | B60: P28676 | C60: LSPQTLTTIVK[+8] | D60: LSPQTLTTIVK | E60: =_xlfn.XLOOKUP(D60,'DirectMRM_Available (web)'!$U$4:$U$603,'DirectMRM_Available (web)'!$U$4:$U$603) -> #N/A | F60: =_xlfn.XLOOKUP(D60,'DirectMRM_InDev(web)'!$U$4:$U$38,'DirectMRM_InDev(web)'!$U$4:$U$38) -> #N/A | G60: 1 | H60: Apollo
A61: RELA | B61: Q04206 | C61: SAGSIPGER[+10] | D61: SAGSIPGER | E61: =_xlfn.XLOOKUP(D61,'DirectMRM_Available (web)'!$U$4:$U$603,'DirectMRM_Available (web)'!$U$4:$U$603) -> #N/A | F61: =_xlfn.XLOOKUP(D61,'DirectMRM_InDev(web)'!$U$4:$U$38,'DirectMRM_InDev(web)'!$U$4:$U$38) -> #N/A | G61: 1 | H61: Apollo
A62: STAT2 | B62: P52630 | C62: NAQVTELLQR[+10] | D62: NAQVTELLQR | E62: =_xlfn.XLOOKUP(D62,'DirectMRM_Available (web)'!$U$4:$U$603,'DirectMRM_Available (web)'!$U$4:$U$603) -> #N/A | F62: =_xlfn.XLOOKUP(D62,'DirectMRM_InDev(web)'!$U$4:$U$38,'DirectMRM_InDev(web)'!$U$4:$U$38) -> #N/A | G62: 1 | H62: Apollo
A63: BCAP31 | B63: P51572 | C63: LDVGNAEVK[+8] | D63: LDVGNAEVK | E63: =_xlfn.XLOOKUP(D63,'DirectMRM_Available (web)'!$U$4:$U$603,'DirectMRM_Available (web)'!$U$4:$U$603) -> #N/A | F63: =_xlfn.XLOOKUP(D63,'DirectMRM_InDev(web)'!$U$4:$U$38,'DirectMRM_InDev(web)'!$U$4:$U$38) -> #N/A | G63: 1 | H63: Apollo
A64: IL16 | B64: Q14005 | C64: FEAWNIIK[+8] | D64: FEAWNIIK | E64: =_xlfn.XLOOKUP(D64,'DirectMRM_Available (web)'!$U$4:$U$603,'DirectMRM_Available (web)'!$U$4:$U$603) -> #N/A | F64: =_xlfn.XLOOKUP(D64,'DirectMRM_InDev(web)'!$U$4:$U$38,'DirectMRM_InDev(web)'!$U$4:$U$38) -> #N/A | H64: Apollo
A65: IL1R2 | B65: P27930 | C65: LEGEPVALR[+10] | D65: LEGEPVALR | E65: =_xlfn.XLOOKUP(D65,'DirectMRM_Available (web)'!$U$4:$U$603,'DirectMRM_Available (web)'!$U$4:$U$603) -> #N/A | F65: =_xlfn.XLOOKUP(D65,'DirectMRM_InDev(web)'!$U$4:$U$38,'DirectMRM_InDev(web)'!$U$4:$U$38) -> #N/A | G65: 1 | H65: Apollo
A66: LCP2 | B66: Q13094 | C66: FLNLTENDIQK[+8] | D66: FLNLTENDIQK | E66: =_xlfn.XLOOKUP(D66,'DirectMRM_Available (web)'!$U$4:$U$603,'DirectMRM_Available (web)'!$U$4:$U$603) -> #N/A | F66: =_xlfn.XLOOKUP(D66,'DirectMRM_InDev(web)'!$U$4:$U$38,'DirectMRM_InDev(web)'!$U$4:$U$38) -> #N/A | G66: 1 | H66: Apollo
A67: CAPG | B67: P40121 | C67: QAALQVAEGFISR[+10] | D67: QAALQVAEGFISR | E67: =_xlfn.XLOOKUP(D67,'DirectMRM_Available (web)'!$U$4:$U$603,'DirectMRM_Available (web)'!$U$4:$U$603) -> #N/A | F67: =_xlfn.XLOOKUP(D67,'DirectMRM_InDev(web)'!$U$4:$U$38,'DirectMRM_InDev(web)'!$U$4:$U$38) -> #N/A | H67: Apollo
A68: CASP8 | B68: Q14790 | C68: AQISAYR[+10] | D68: AQISAYR | E68: =_xlfn.XLOOKUP(D68,'DirectMRM_Available (web)'!$U$4:$U$603,'DirectMRM_Available (web)'!$U$4:$U$603) -> #N/A | F68: =_xlfn.XLOOKUP(D68,'DirectMRM_InDev(web)'!$U$4:$U$38,'DirectMRM_InDev(web)'!$U$4:$U$38) -> #N/A | H68: Apollo
A69: CD3E | B69: P07766 | C69: DLYSGLNQR[+10] | D69: DLYSGLNQR | E69: =_xlfn.XLOOKUP(D69,'DirectMRM_Available (web)'!$U$4:$U$603,'DirectMRM_Available (web)'!$U$4:$U$603) -> #N/A | F69: =_xlfn.XLOOKUP(D69,'DirectMRM_InDev(web)'!$U$4:$U$38,'DirectMRM_InDev(web)'!$U$4:$U$38) -> #N/A | H69: Apollo
A70: SMAD3 | B70: P84022 | C70: TGQLDELEK[+8] | D70: TGQLDELEK | E70: =_xlfn.XLOOKUP(D70,'DirectMRM_Available (web)'!$U$4:$U$603,'DirectMRM_Available (web)'!$U$4:$U$603) -> #N/A | F70: =_xlfn.XLOOKUP(D70,'DirectMRM_InDev(web)'!$U$4:$U$38,'DirectMRM_InDev(web)'!$U$4:$U$38) -> #N/A | G70: 1 | H70: Apollo
A71: C3 | B71: P01024 | C71: SGIPIVTSPYQIHFTK[+8] | D71: SGIPIVTSPYQIHFTK | E71: =_xlfn.XLOOKUP(D71,'DirectMRM_Available (web)'!$U$4:$U$603,'DirectMRM_Available (web)'!$U$4:$U$603) -> #N/A | F71: =_xlfn.XLOOKUP(D71,'DirectMRM_InDev(web)'!$U$4:$U$38,'DirectMRM_InDev(web)'!$U$4:$U$38) -> #N/A | G71: 1 | H71: Apollo
A72: C9 | B72: P02748 | C72: AIEDYINEFSVR[+10] | D72: AIEDYINEFSVR | E72: =_xlfn.XLOOKUP(D72,'DirectMRM_Available (web)'!$U$4:$U$603,'DirectMRM_Available (web)'!$U$4:$U$603) -> #N/A | F72: =_xlfn.XLOOKUP(D72,'DirectMRM_InDev(web)'!$U$4:$U$38,'DirectMRM_InDev(web)'!$U$4:$U$38) -> #N/A | H72: Apollo
A73: CTSS | B73: P25774 | C73: YTELPYGR[+10] | D73: YTELPYGR | E73: =_xlfn.XLOOKUP(D73,'DirectMRM_Available (web)'!$U$4:$U$603,'DirectMRM_Available (web)'!$U$4:$U$603) -> #N/A | F73: =_xlfn.XLOOKUP(D73,'DirectMRM_InDev(web)'!$U$4:$U$38,'DirectMRM_InDev(web)'!$U$4:$U$38) -> #N/A | G73: 1 | H73: Apollo
A74: NFKBIE | B74: O00221 | C74: TALHLAVETQER[+10] | D74: TALHLAVETQER | E74: =_xlfn.XLOOKUP(D74,'DirectMRM_Available (web)'!$U$4:$U$603,'DirectMRM_Available (web)'!$U$4:$U$603) -> #N/A | F74: =_xlfn.XLOOKUP(D74,'DirectMRM_InDev(web)'!$U$4:$U$38,'DirectMRM_InDev(web)'!$U$4:$U$38) -> #N/A | G74: 1 | H74: Apollo
A75: BCAP31 | B75: P51572 | C75: AENQVLAMR[+10] | D75: AENQVLAMR | E75: =_xlfn.XLOOKUP(D75,'DirectMRM_Available (web)'!$U$4:$U$603,'DirectMRM_Available (web)'!$U$4:$U$603) -> #N/A | F75: =_xlfn.XLOOKUP(D75,'DirectMRM_InDev(web)'!$U$4:$U$38,'DirectMRM_InDev(web)'!$U$4:$U$38) -> #N/A | H75: Apollo
A76: CD46 | B76: P15529 | C76: QISGFGK[+8] | D76: QISGFGK | E76: =_xlfn.XLOOKUP(D76,'DirectMRM_Available (web)'!$U$4:$U$603,'DirectMRM_Available (web)'!$U$4:$U$603) -> #N/A | F76: =_xlfn.XLOOKUP(D76,'DirectMRM_InDev(web)'!$U$4:$U$38,'DirectMRM_InDev(web)'!$U$4:$U$38) -> #N/A | H76: Apollo
A77: DARS | B77: P14868 | C77: FGAPPHAGGGIGLER[+10] | D77: FGAPPHAGGGIGLER | E77: =_xlfn.XLOOKUP(D77,'DirectMRM_Available (web)'!$U$4:$U$603,'DirectMRM_Available (web)'!$U$4:$U$603) -> #N/A | F77: =_xlfn.XLOOKUP(D77,'DirectMRM_InDev(web)'!$U$4:$U$38,'DirectMRM_InDev(web)'!$U$4:$U$38) -> #N/A | H77: Apollo
A78: IFIH1 | B78: Q9BYX4 | C78: VIGLSGDTQLK[+8] | D78: VIGLSGDTQLK | E78: =_xlfn.XLOOKUP(D78,'DirectMRM_Available (web)'!$U$4:$U$603,'DirectMRM_Available (web)'!$U$4:$U$603) -> #N/A | F78: =_xlfn.XLOOKUP(D78,'DirectMRM_InDev(web)'!$U$4:$U$38,'DirectMRM_InDev(web)'!$U$4:$U$38) -> #N/A | G78: 1 | H78: Apollo
A79: PSMA2 | B79: P25787 | C79: HIGLVYSGMGPDYR[+10] | D79: HIGLVYSGMGPDYR | E79: =_xlfn.XLOOKUP(D79,'DirectMRM_Available (web)'!$U$4:$U$603,'DirectMRM_Available (web)'!$U$4:$U$603) -> #N/A | F79: =_xlfn.XLOOKUP(D79,'DirectMRM_InDev(web)'!$U$4:$U$38,'DirectMRM_InDev(web)'!$U$4:$U$38) -> #N/A | H79: Apollo
A80: TYK2 | B80: P29597 | C80: LSDPGVGLGALSR[+10] | D80: LSDPGVGLGALSR | E80: =_xlfn.XLOOKUP(D80,'DirectMRM_Available (web)'!$U$4:$U$603,'DirectMRM_Available (web)'!$U$4:$U$603) -> #N/A | F80: =_xlfn.XLOOKUP(D80,'DirectMRM_InDev(web)'!$U$4:$U$38,'DirectMRM_InDev(web)'!$U$4:$U$38) -> #N/A | G80: 1 | H80: Apollo
A81: VCAM1 | B81: P19320 | C81: QSTQTLYVNVAPR[+10] | D81: QSTQTLYVNVAPR | E81: =_xlfn.XLOOKUP(D81,'DirectMRM_Available (web)'!$U$4:$U$603,'DirectMRM_Available (web)'!$U$4:$U$603) -> #N/A | F81: =_xlfn.XLOOKUP(D81,'DirectMRM_InDev(web)'!$U$4:$U$38,'DirectMRM_InDev(web)'!$U$4:$U$38) -> #N/A | G81: 1 | H81: Apollo
A82: WAS | B82: P42768 | C82: AGISEAQLTDAETSK[+8] | D82: AGISEAQLTDAETSK | E82: =_xlfn.XLOOKUP(D82,'DirectMRM_Available (web)'!$U$4:$U$603,'DirectMRM_Available (web)'!$U$4:$U$603) -> #N/A | F82: =_xlfn.XLOOKUP(D82,'DirectMRM_InDev(web)'!$U$4:$U$38,'DirectMRM_InDev(web)'!$U$4:$U$38) -> #N/A | H82: Apollo
A83: B2M | B83: P61769 | C83: VEHSDLSFSK[+8] | D83: VEHSDLSFSK | E83: =_xlfn.XLOOKUP(D83,'DirectMRM_Available (web)'!$U$4:$U$603,'DirectMRM_Available (web)'!$U$4:$U$603) -> #N/A | F83: =_xlfn.XLOOKUP(D83,'DirectMRM_InDev(web)'!$U$4:$U$38,'DirectMRM_InDev(web)'!$U$4:$U$38) -> #N/A | H83: Apollo
A84: CD2 | B84: P06729 | C84: VQPKPPHGAAENSL[+7]SPSSN | D84: VQPKPPHGAAENSLSPSSN | E84: =_xlfn.XLOOKUP(D84,'DirectMRM_Available (web)'!$U$4:$U$603,'DirectMRM_Available (web)'!$U$4:$U$603) -> #N/A | F84: =_xlfn.XLOOKUP(D84,'DirectMRM_InDev(web)'!$U$4:$U$38,'DirectMRM_InDev(web)'!$U$4:$U$38) -> #N/A | H84: Apollo
A85: LTBP2 | B85: Q14767 | C85: SSAAGEGTLAR[+10] | D85: SSAAGEGTLAR | E85: =_xlfn.XLOOKUP(D85,'DirectMRM_Available (web)'!$U$4:$U$603,'DirectMRM_Available (web)'!$U$4:$U$603) -> #N/A | F85: =_xlfn.XLOOKUP(D85,'DirectMRM_InDev(web)'!$U$4:$U$38,'DirectMRM_InDev(web)'!$U$4:$U$38) -> #N/A | H85: Apollo
A86: STAB1 | B86: Q9NY15 | C86: LGGQEVATLNPTTR[+10] | D86: LGGQEVATLNPTTR | E86: =_xlfn.XLOOKUP(D86,'DirectMRM_Available (web)'!$U$4:$U$603,'DirectMRM_Available (web)'!$U$4:$U$603) -> #N/A | F86: =_xlfn.XLOOKUP(D86,'DirectMRM_InDev(web)'!$U$4:$U$38,'DirectMRM_InDev(web)'!$U$4:$U$38) -> #N/A | G86: 1 | H86: Apollo
A87: CD81 | B87: P60033 | C87: TFHETLDC[+57]C[+57]GSSTLTALTTSVLK[+8] | D87: TFHETLD(Cam)(Cam)GSSTLTALTTSVLK | E87: =_xlfn.XLOOKUP(D87,'DirectMRM_Available (web)'!$U$4:$U$603,'DirectMRM_Available (web)'!$U$4:$U$603) -> #N/A | F87: =_xlfn.XLOOKUP(D87,'DirectMRM_InDev(web)'!$U$4:$U$38,'DirectMRM_InDev(web)'!$U$4:$U$38) -> #N/A | G87: 1 | H87: Apollo
A88: HLA-DMB | B88: P28068 | C88: TTPFNTR[+10] | D88: TTPFNTR | E88: =_xlfn.XLOOKUP(D88,'DirectMRM_Available (web)'!$U$4:$U$603,'DirectMRM_Available (web)'!$U$4:$U$603) -> #N/A | F88: =_xlfn.XLOOKUP(D88,'DirectMRM_InDev(web)'!$U$4:$U$38,'DirectMRM_InDev(web)'!$U$4:$U$38) -> #N/A | G88: 1 | H88: Apollo
A89: TGFBRAP1 | B89: Q8WUH2 | C89: SENLIYTYDK[+8] | D89: SENLIYTYDK | E89: =_xlfn.XLOOKUP(D89,'DirectMRM_Available (web)'!$U$4:$U$603,'DirectMRM_Available (web)'!$U$4:$U$603) -> #N/A | F89: =_xlfn.XLOOKUP(D89,'DirectMRM_InDev(web)'!$U$4:$U$38,'DirectMRM_InDev(web)'!$U$4:$U$38) -> #N/A | G89: 1 | H89: Apollo
A90: TNFAIP8 | B90: O95379 | C90: NLAVQAQK[+8] | D90: NLAVQAQK | E90: =_xlfn.XLOOKUP(D90,'DirectMRM_Available (web)'!$U$4:$U$603,'DirectMRM_Available (web)'!$U$4:$U$603) -> #N/A | F90: =_xlfn.XLOOKUP(D90,'DirectMRM_InDev(web)'!$U$4:$U$38,'DirectMRM_InDev(web)'!$U$4:$U$38) -> #N/A | G90: 1 | H90: Apollo
A91: C1QA | B91: P02745 | C91: SLGFC[+57]DTTNK[+8] | D91: SLGF(Cam)DTTNK | E91: =_xlfn.XLOOKUP(D91,'DirectMRM_Available (web)'!$U$4:$U$603,'DirectMRM_Available (web)'!$U$4:$U$603) -> #N/A | F91: =_xlfn.XLOOKUP(D91,'DirectMRM_InDev(web)'!$U$4:$U$38,'DirectMRM_InDev(web)'!$U$4:$U$38) -> #N/A | G91: 1 | H91: Apollo
A92: C1S | B92: P09871 | C92: IIGGSDADIK[+8] | D92: IIGGSDADIK | E92: =_xlfn.XLOOKUP(D92,'DirectMRM_Available (web)'!$U$4:$U$603,'DirectMRM_Available (web)'!$U$4:$U$603) -> #N/A | F92: =_xlfn.XLOOKUP(D92,'DirectMRM_InDev(web)'!$U$4:$U$38,'DirectMRM_InDev(web)'!$U$4:$U$38) -> #N/A | H92: Apollo
A93: MTIF2 | B93: P46199 | C93: GLVTTAIIQR[+10] | D93: GLVTTAIIQR | E93: =_xlfn.XLOOKUP(D93,'DirectMRM_Available (web)'!$U$4:$U$603,'DirectMRM_Available (web)'!$U$4:$U$603) -> #N/A | F93: =_xlfn.XLOOKUP(D93,'DirectMRM_InDev(web)'!$U$4:$U$38,'DirectMRM_InDev(web)'!$U$4:$U$38) -> #N/A | H93: Apollo
A94: NFKBIE | B94: O00221 | C94: AGADSLLR[+10] | D94: AGADSLLR | E94: =_xlfn.XLOOKUP(D94,'DirectMRM_Available (web)'!$U$4:$U$603,'DirectMRM_Available (web)'!$U$4:$U$603) -> #N/A | F94: =_xlfn.XLOOKUP(D94,'DirectMRM_InDev(web)'!$U$4:$U$38,'DirectMRM_InDev(web)'!$U$4:$U$38) -> #N/A | H94: Apollo
A95: ANXA1 | B95: P04083 | C95: GGPGSAVSPYPTFNPSSDVAALHK[+8] | D95: GGPGSAVSPYPTFNPSSDVAALHK | E95: =_xlfn.XLOOKUP(D95,'DirectMRM_Available (web)'!$U$4:$U$603,'DirectMRM_Available (web)'!$U$4:$U$603) -> #N/A | F95: =_xlfn.XLOOKUP(D95,'DirectMRM_InDev(web)'!$U$4:$U$38,'DirectMRM_InDev(web)'!$U$4:$U$38) -> #N/A | H95: Apollo
A96: IRF9 | B96: Q00978 | C96: YFQGLGPPPK[+8] | D96: YFQGLGPPPK | E96: =_xlfn.XLOOKUP(D96,'DirectMRM_Available (web)'!$U$4:$U$603,'DirectMRM_Available (web)'!$U$4:$U$603) -> #N/A | F96: =_xlfn.XLOOKUP(D96,'DirectMRM_InDev(web)'!$U$4:$U$38,'DirectMRM_InDev(web)'!$U$4:$U$38) -> #N/A | G96: 1 | H96: Apollo
A97: NFKB2 | B97: Q00653 | C97: DSGEEAAEPSAPSR[+10] | D97: DSGEEAAEPSAPSR | E97: =_xlfn.XLOOKUP(D97,'DirectMRM_Available (web)'!$U$4:$U$603,'DirectMRM_Available (web)'!$U$4:$U$603) -> #N/A | F97: =_xlfn.XLOOKUP(D97,'DirectMRM_InDev(web)'!$U$4:$U$38,'DirectMRM_InDev(web)'!$U$4:$U$38) -> #N/A | H97: Apollo
A98: SMAD2 | B98: Q15796 | C98: NATVEMTR[+10] | D98: NATVEMTR | E98: =_xlfn.XLOOKUP(D98,'DirectMRM_Available (web)'!$U$4:$U$603,'DirectMRM_Available (web)'!$U$4:$U$603) -> #N/A | F98: =_xlfn.XLOOKUP(D98,'DirectMRM_InDev(web)'!$U$4:$U$38,'DirectMRM_InDev(web)'!$U$4:$U$38) -> #N/A | H98: Apollo
A99: BCL2L1 | B99: Q07817 | C99: EVIPMAAVK[+8] | D99: EVIPMAAVK | E99: =_xlfn.XLOOKUP(D99,'DirectMRM_Available (web)'!$U$4:$U$603,'DirectMRM_Available (web)'!$U$4:$U$603) -> #N/A | F99: =_xlfn.XLOOKUP(D99,'DirectMRM_InDev(web)'!$U$4:$U$38,'DirectMRM_InDev(web)'!$U$4:$U$38) -> #N/A | H99: Apollo
A100: BCL2L2 | B100: Q92843 | C100: ELQNEVEK[+8] | D100: ELQNEVEK | E100: =_xlfn.XLOOKUP(D100,'DirectMRM_Available (web)'!$U$4:$U$603,'DirectMRM_Available (web)'!$U$4:$U$603) -> #N/A | F100: =_xlfn.XLOOKUP(D100,'DirectMRM_InDev(web)'!$U$4:$U$38,'DirectMRM_InDev(web)'!$U$4:$U$38) -> #N/A | H100: Apollo
...

Sheet DirectMRM_Available (web)
A1: Unmodified targets quantifiable by direct MRM assays in neat cell lysates
A3: Gene Symbol (HGNC, genenames.org) | B3: Alternate Gene Symbols | C3: Target protein name | D3: UniProt ID (& link) | E3: Peptide Modification detected | F3: Modification site | G3: Assay Species | H3: NCI CPTAC Assay Portal ID (& link) | I3: Reference | L3: Assay Type | M3: GeneIDs | N3: HGNC Gene symbol | O3: Alias Gene Symbols | P3: Human protein target name (UniProt) | Q3: Assay Completion Status | R3: List on Website? | S3: Project | T3: Targeted peptide analyte (Skyline notation) Peptide Sequence ([+80] indicates phosphorylation, [+114] indicates ubiquitination, and [+57] indicates carbamidomethylated Cys); For the RAS targets: BOLD font = non-phosphorylated version of phospho target); (yellow highlighting indicates RAS targets to which mAbs are being generated by >1 Ab companies) | U3: Peptide Modified Sequence Annotated | V3: Non Modified Peptide Sequence | W3: Extended Peptide Sequence (analyte peptide sequence inside periods and/or ^) | X3: Peptide notes | Y3: DDR1 Panel | Z3: DDR2 Panel | AA3: DDR3 Panel | AB3: IO-1 Panel | AC3: IO-2 Panel | AD3: IO-3 Panel | AE3: IO-4 Panel | AF3: dMRM Predictor panel | AG3: Cluster 3 panel | AH3: Ras-MAPK 1 Panel | AI3: Ras-MAPK 2 Panel | AJ3: HER2+ Normalization Panel | AK3: PTRC global prediction model | AL3: PTRC phospho prediction model | AM3: Type of peptide (e.g. Immunogen or Counterscreen, esp. for HLA Apollo peps) | AN3: Targeted peptide modification site | AO3: UniProt Accession ID (no link) | AP3: UniProt Accession URL | AQ3: IPIaccessionID | AR3: Light peptide rec'd (Sender, vendor, purified or crude) | AS3: Heavy peptide rec'd (Sender, vendor, purified or crude) | AT3: Light peptide vendor Order Confirmation # | AU3: Light peptide vendor Array # | AV3: Heavy peptide vendor Order Confirmation # | AW3: Heavy peptide vendor Array # | AX3: Date free peptide was sent to Xiuwen (Excel Biopharm) | AY3: Transitions | AZ3: Antibody ID (including primary clone and subclone #s or specific heavy and light chain combination) | BA3: Backup Antibody ID(s) | BB3: Specific or Total mAb? | BC3: Multiple Abs listed for this target | BD3: Ab company | BE3: Mouse or rabbit mAb | BF3: CPTAC Assay Portal ID | BG3: CPTC McAb clone ID on Antibody Portal (http://antibodies.cancer.gov) | BH3: Immuno-MRM initiation date | BI3: Date of purified mAb delivery (1st production) | BJ3: 2nd Production run completed | BK3: Estimated date of mAb project completion (date we get hybridoma or cDNA) | BL3: Approx. date of purified mAb delivery | BM3: Date of purified mAb delivery for 2nd production run | BN3: IP or MTA agreement (NCI ID, FH ID, date, initials of cooperating institutions) | BO3: Reference | BP3: Other notes
A4: AARS | B4: CMT2N, AlaRS | C4: alanyl-tRNA synthetase | D4: P49588 | E4: Non-modified | G4: Human | H4: CPTAC-2 | I4: Kennedy JJ et al, Nature Methods (2014) Feb;11(2):149-55. | K4: =IF(A4=N4,1,0) -> 1 | L4: Direct MRM | M4: 16 | N4: AARS | O4: CMT2N, AlaRS | P4: alanyl-tRNA synthetase | Q4: Completed | R4: X | S4: GO | T4: AVFDETYPDPVR | U4: AVFDETYPDPVR | V4: AVFDETYPDPVR | AO4: P49588 | AP4: P49588 | AQ4: IPI00027442 | AR4: Pure | AS4: Pure | BF4: CPTAC-2 | BP4: Site 1 specific; submitted to Assay Portal byFred Hutchinson Cancer Research Center
A5: AARS | B5: CMT2N, AlaRS | C5: alanyl-tRNA synthetase | D5: P49588 | E5: Non-modified | G5: Human | H5: CPTAC-1 | I5: Kennedy JJ et al, Nature Methods (2014) Feb;11(2):149-55. | K5: =IF(A5=N5,1,0) -> 1 | L5: Direct MRM | M5: 16 | N5: AARS | O5: CMT2N, AlaRS | P5: alanyl-tRNA synthetase | Q5: Completed | R5: X | S5: GO | T5: TITVALADGGRPDNTGR | U5: TITVALADGGRPDNTGR | V5: TITVALADGGRPDNTGR | AO5: P49588 | AP5: P49588 | AQ5: IPI00027442 | AR5: Pure | AS5: Pure | BF5: CPTAC-1 | BP5: Site 1 specific; submitted to Assay Portal byFred Hutchinson Cancer Research Center
A6: ABAT | B6: GABAT | C6: 4-aminobutyrate aminotransferase | D6: P80404 | E6: Non-modified | G6: Human | H6: CPTAC-3 | I6: Kennedy JJ et al, Nature Methods (2014) Feb;11(2):149-55. | K6: =IF(A6=N6,1,0) -> 1 | L6: Direct MRM | M6: 18 | N6: ABAT | O6: GABAT | P6: 4-aminobutyrate aminotransferase | Q6: Completed | R6: X | S6: GO | T6: ALLTGLLDLQAR | U6: ALLTGLLDLQAR | V6: ALLTGLLDLQAR | AO6: P80404 | AP6: P80404 | AQ6: IPI00009532 | AR6: Pure | AS6: Pure | BF6: CPTAC-3 | BP6: Site 1 specific; submitted to Assay Portal byFred Hutchinson Cancer Research Center
A7: ABAT | B7: GABAT | C7: 4-aminobutyrate aminotransferase | D7: P80404 | E7: Non-modified | G7: Human | H7: CPTAC-4 | I7: Kennedy JJ et al, Nature Methods (2014) Feb;11(2):149-55. | K7: =IF(A7=N7,1,0) -> 1 | L7: Direct MRM | M7: 18 | N7: ABAT | O7: GABAT | P7: 4-aminobutyrate aminotransferase | Q7: Completed | R7: X | S7: GO | T7: GTFC[+57]SFDTPDDSIR | U7: GTF(Cam)SFDTPDDSIR | V7: GTFCSFDTPDDSIR | AO7: P80404 | AP7: P80404 | AQ7: IPI00009532 | AR7: Pure | AS7: Pure | BF7: CPTAC-4 | BP7: Site 1 specific; submitted to Assay Portal byFred Hutchinson Cancer Research Center
A8: ABCD3 | B8: PMP70, ZWS2 | C8: ATP-binding cassette, sub-family D (ALD), member 3 | D8: P28288 | E8: Non-modified | G8: Human | H8: CPTAC-157 | I8: Kennedy JJ et al, Nature Methods (2014) Feb;11(2):149-55. | K8: =IF(A8=N8,1,0) -> 1 | L8: Direct MRM | M8: 5825 | N8: ABCD3 | O8: PMP70, ZWS2 | P8: ATP-binding cassette, sub-family D (ALD), member 3 | Q8: Completed | R8: X | S8: GO | T8: VLGELWPLFGGR | U8: VLGELWPLFGGR | V8: VLGELWPLFGGR | AO8: P28288 | AP8: P28288 | AQ8: IPI00002372 | AR8: Pure | AS8: Pure | BF8: CPTAC-157 | BP8: Interlaboratory; submitted to Assay Portal byFred Hutchinson Cancer Research Center
A9: ABCF1 | B9: EST123147 | C9: ATP-binding cassette, sub-family F (GCN20), member 1 | D9: Q8NE71 | E9: Non-modified | G9: Human | H9: CPTAC-302 | I9: Kennedy JJ et al, Nature Methods (2014) Feb;11(2):149-55. | K9: =IF(A9=N9,1,0) -> 1 | L9: Direct MRM | M9: 23 | N9: ABCF1 | O9: EST123147 | P9: ATP-binding cassette, sub-family F (GCN20), member 1 | Q9: Completed | R9: X | S9: GO | T9: IGFFNQQYAEQLR | U9: IGFFNQQYAEQLR | V9: IGFFNQQYAEQLR | AO9: Q8NE71 | AP9: Q8NE71 | AQ9: IPI00013495 | AR9: Pure | AS9: Pure | BF9: CPTAC-302 | BP9: Site 2 specific; submitted to Assay Portal byBroad Institute and FHCRC
A10: ABCF1 | B10: EST123147 | C10: ATP-binding cassette, sub-family F (GCN20), member 1 | D10: Q8NE71 | E10: Non-modified | G10: Human | H10: CPTAC-301 | I10: Kennedy JJ et al, Nature Methods (2014) Feb;11(2):149-55. | K10: =IF(A10=N10,1,0) -> 1 | L10: Direct MRM | M10: 23 | N10: ABCF1 | O10: EST123147 | P10: ATP-binding cassette, sub-family F (GCN20), member 1 | Q10: Completed | R10: X | S10: GO | T10: STLLLLLTGK | U10: STLLLLLTGK | V10: STLLLLLTGK | AO10: Q8NE71 | AP10: Q8NE71 | AQ10: IPI00013495 | AR10: Pure | AS10: Pure | BF10: CPTAC-301 | BP10: Site 2 specific; submitted to Assay Portal byBroad Institute and FHCRC
A11: ACAA2 | B11: DSAEC | C11: acetyl-Coenzyme A acyltransferase 2 | D11: P42765 | E11: Non-modified | G11: Human | H11: CPTAC-158 | I11: Kennedy JJ et al, Nature Methods (2014) Feb;11(2):149-55. | K11: =IF(A11=N11,1,0) -> 1 | L11: Direct MRM | M11: 10449 | N11: ACAA2 | O11: DSAEC | P11: acetyl-Coenzyme A acyltransferase 2 | Q11: Completed | R11: X | S11: GO | T11: DFTATDLSEFAAK | U11: DFTATDLSEFAAK | V11: DFTATDLSEFAAK | AO11: P42765 | AP11: P42765 | AQ11: IPI00001539 | AR11: Pure | AS11: Pure | BF11: CPTAC-158 | BP11: Interlaboratory; submitted to Assay Portal byFred Hutchinson Cancer Research Center
A12: ACAA2 | B12: DSAEC | C12: acetyl-Coenzyme A acyltransferase 2 | D12: P42765 | E12: Non-modified | G12: Human | H12: CPTAC-159 | I12: Kennedy JJ et al, Nature Methods (2014) Feb;11(2):149-55. | K12: =IF(A12=N12,1,0) -> 1 | L12: Direct MRM | M12: 10449 | N12: ACAA2 | O12: DSAEC | P12: acetyl-Coenzyme A acyltransferase 2 | Q12: Completed | R12: X | S12: GO | T12: TNVNGGAIALGHPLGGSGSR | U12: TNVNGGAIALGHPLGGSGSR | V12: TNVNGGAIALGHPLGGSGSR | AO12: P42765 | AP12: P42765 | AQ12: IPI00001539 | AR12: Pure | AS12: Pure | BF12: CPTAC-159 | BP12: Interlaboratory; submitted to Assay Portal byFred Hutchinson Cancer Research Center
A13: ACADVL | B13: VLCAD, LCACD, ACAD6 | C13: acyl-Coenzyme A dehydrogenase, very long chain | D13: P49748 | E13: Non-modified | G13: Human | H13: CPTAC-454 | I13: Kennedy JJ et al, Nature Methods (2014) Feb;11(2):149-55. | K13: =IF(A13=N13,1,0) -> 1 | L13: Direct MRM | M13: 37 | N13: ACADVL | O13: VLCAD, LCACD, ACAD6 | P13: acyl-Coenzyme A dehydrogenase, very long chain | Q13: Completed | R13: X | S13: GO | T13: ASNTAEVFFDGVR | U13: ASNTAEVFFDGVR | V13: ASNTAEVFFDGVR | AO13: P49748 | AP13: P49748 | AQ13: IPI00028031 | AR13: Pure | AS13: Pure | BF13: CPTAC-454 | BP13: Site 3 specific; submitted to Assay Portal bySeoul National University / Korea Institute of Science and Technology and FHCRC
A14: ACADVL | B14: VLCAD, LCACD, ACAD6 | C14: acyl-Coenzyme A dehydrogenase, very long chain | D14: P49748 | E14: Non-modified | G14: Human | H14: CPTAC-455 | I14: Kennedy JJ et al, Nature Methods (2014) Feb;11(2):149-55. | K14: =IF(A14=N14,1,0) -> 1 | L14: Direct MRM | M14: 37 | N14: ACADVL | O14: VLCAD, LCACD, ACAD6 | P14: acyl-Coenzyme A dehydrogenase, very long chain | Q14: Completed | R14: X | S14: GO | T14: VPSENVLGEVGSGFK | U14: VPSENVLGEVGSGFK | V14: VPSENVLGEVGSGFK | AO14: P49748 | AP14: P49748 | AQ14: IPI00028031 | AR14: Pure | AS14: Pure | BF14: CPTAC-455 | BP14: Site 3 specific; submitted to Assay Portal bySeoul National University / Korea Institute of Science and Technology and FHCRC
A15: ACOT7 | B15: BACH, ACH1, ACT, CTE-II, LACH1, MGC1126, hBACH | C15: acyl-CoA thioesterase 7 | D15: O00154 | E15: Non-modified | G15: Human | H15: CPTAC-304 | I15: Kennedy JJ et al, Nature Methods (2014) Feb;11(2):149-55. | K15: =IF(A15=N15,1,0) -> 1 | L15: Direct MRM | M15: 11332 | N15: ACOT7 | O15: BACH, ACH1, ACT, CTE-II, LACH1, MGC1126, hBACH | P15: acyl-CoA thioesterase 7 | Q15: Completed | R15: X | S15: GO | T15: AASAFFTYVSLSQEGR | U15: AASAFFTYVSLSQEGR | V15: AASAFFTYVSLSQEGR | AO15: O00154 | AP15: O00154 | AQ15: IPI00010415 | AR15: Pure | AS15: Pure | BF15: CPTAC-304 | BP15: Site 2 specific; submitted to Assay Portal byBroad Institute and FHCRC
A16: ACOT7 | B16: BACH, ACH1, ACT, CTE-II, LACH1, MGC1126, hBACH | C16: acyl-CoA thioesterase 7 | D16: O00154 | E16: Non-modified | G16: Human | H16: CPTAC-303 | I16: Kennedy JJ et al, Nature Methods (2014) Feb;11(2):149-55. | K16: =IF(A16=N16,1,0) -> 1 | L16: Direct MRM | M16: 11332 | N16: ACOT7 | O16: BACH, ACH1, ACT, CTE-II, LACH1, MGC1126, hBACH | P16: acyl-CoA thioesterase 7 | Q16: Completed | R16: X | S16: GO | T16: VLEVPPVVYSR | U16: VLEVPPVVYSR | V16: VLEVPPVVYSR | W16: NVDK.VLEVPPVVYSR.QEQE | AK16: 1 | AO16: O00154 | AP16: O00154 | AQ16: IPI00010415 | AR16: Pure | AS16: Pure | BF16: CPTAC-303 | BP16: Site 2 specific; submitted to Assay Portal byBroad Institute and FHCRC
A17: ACSF2 | B17: FLJ20920, ACSMW | C17: Acyl-CoA synthetase family member 2, mitochondrial | D17: Q96CM8 | E17: Non-modified | G17: Human | H17: CPTAC-5 | I17: Kennedy JJ et al, Nature Methods (2014) Feb;11(2):149-55. | K17: =IF(A17=N17,1,0) -> 1 | L17: Direct MRM | M17: 80221 | N17: ACSF2 | O17: FLJ20920, ACSMW | P17: Acyl-CoA synthetase family member 2, mitochondrial | Q17: Completed | R17: X | S17: GO | T17: TQQYYNVLK | U17: TQQYYNVLK | V17: TQQYYNVLK | AO17: Q96CM8 | AP17: Q96CM8 | AQ17: IPI00304071 | AR17: Pure | AS17: Pure | BF17: CPTAC-5 | BP17: Site 1 specific; submitted to Assay Portal byFred Hutchinson Cancer Research Center
A18: ACSF2 | B18: FLJ20920, ACSMW | C18: Acyl-CoA synthetase family member 2, mitochondrial | D18: Q96CM8 | E18: Non-modified | G18: Human | H18: CPTAC-6 | I18: Kennedy JJ et al, Nature Methods (2014) Feb;11(2):149-55. | K18: =IF(A18=N18,1,0) -> 1 | L18: Direct MRM | M18: 80221 | N18: ACSF2 | O18: FLJ20920, ACSMW | P18: Acyl-CoA synthetase family member 2, mitochondrial | Q18: Completed | R18: X | S18: GO | T18: YIVFVTNYPLTISGK | U18: YIVFVTNYPLTISGK | V18: YIVFVTNYPLTISGK | AO18: Q96CM8 | AP18: Q96CM8 | AQ18: IPI00304071 | AR18: Pure | AS18: Pure | BF18: CPTAC-6 | BP18: Site 1 specific; submitted to Assay Portal byFred Hutchinson Cancer Research Center
A19: ACSL1 | B19: LACS2, LACS, ACS1, LACS1, FACL1 | C19: acyl-CoA synthetase long-chain family member 1 | D19: P33121 | E19: Non-modified | G19: Human | H19: CPTAC-305 | I19: Kennedy JJ et al, Nature Methods (2014) Feb;11(2):149-55. | K19: =IF(A19=N19,1,0) -> 1 | L19: Direct MRM | M19: 2180 | N19: ACSL1 | O19: LACS2, LACS, ACS1, LACS1, FACL1 | P19: acyl-CoA synthetase long-chain family member 1 | Q19: Completed | R19: X | S19: GO | T19: IGFFQGDIR | U19: IGFFQGDIR | V19: IGFFQGDIR | AO19: P33121 | AP19: P33121 | AQ19: IPI00012728 | AR19: Pure | AS19: Pure | BF19: CPTAC-305 | BP19: Site 2 specific; submitted to Assay Portal byBroad Institute and FHCRC
A20: ACSL1 | B20: LACS2, LACS, ACS1, LACS1, FACL1 | C20: acyl-CoA synthetase long-chain family member 1 | D20: P33121 | E20: Non-modified | G20: Human | H20: CPTAC-306 | I20: Kennedy JJ et al, Nature Methods (2014) Feb;11(2):149-55. | K20: =IF(A20=N20,1,0) -> 1 | L20: Direct MRM | M20: 2180 | N20: ACSL1 | O20: LACS2, LACS, ACS1, LACS1, FACL1 | P20: acyl-CoA synthetase long-chain family member 1 | Q20: Completed | R20: X | S20: GO | T20: VLQPTVFPVVPR | U20: VLQPTVFPVVPR | V20: VLQPTVFPVVPR | AO20: P33121 | AP20: P33121 | AQ20: IPI00012728 | AR20: Pure | AS20: Pure | BF20: CPTAC-306 | BP20: Site 2 specific; submitted to Assay Portal byBroad Institute and FHCRC
A21: ACTN4 | C21: actinin, alpha 4 | D21: O43707 | E21: Non-modified | G21: Human | H21: CPTAC-8 | I21: Kennedy JJ et al, Nature Methods (2014) Feb;11(2):149-55. | K21: =IF(A21=N21,1,0) -> 1 | L21: Direct MRM | M21: 81 | N21: ACTN4 | P21: actinin, alpha 4 | Q21: Completed | R21: X | S21: GO | T21: ETTDTDTADQVIASFK | U21: ETTDTDTADQVIASFK | V21: ETTDTDTADQVIASFK | AO21: O43707 | AP21: O43707 | AQ21: IPI00013808 | AR21: Pure | AS21: Pure | BF21: CPTAC-8 | BP21: Site 1 specific; submitted to Assay Portal byFred Hutchinson Cancer Research Center
A22: ACTN4 | C22: actinin, alpha 4 | D22: O43707 | E22: Non-modified | G22: Human | H22: CPTAC-7 | I22: Kennedy JJ et al, Nature Methods (2014) Feb;11(2):149-55. | K22: =IF(A22=N22,1,0) -> 1 | L22: Direct MRM | M22: 81 | N22: ACTN4 | P22: actinin, alpha 4 | Q22: Completed | R22: X | S22: GO | T22: NVNVQNFHISWK | U22: NVNVQNFHISWK | V22: NVNVQNFHISWK | AO22: O43707 | AP22: O43707 | AQ22: IPI00013808 | AR22: Pure | AS22: Pure | BF22: CPTAC-7 | BP22: Site 1 specific; submitted to Assay Portal byFred Hutchinson Cancer Research Center
A23: ACTR3 | B23: ARP3 | C23: ARP3 actin-related protein 3 homolog (yeast) | D23: P61158 | E23: Non-modified | G23: Human | H23: CPTAC-161 | I23: Kennedy JJ et al, Nature Methods (2014) Feb;11(2):149-55. | K23: =IF(A23=N23,1,0) -> 1 | L23: Direct MRM | M23: 10096 | N23: ACTR3 | O23: ARP3 | P23: ARP3 actin-related protein 3 homolog (yeast) | Q23: Completed | R23: X | S23: GO | T23: AEPEDHYFLLTEPPLNTPENR | U23: AEPEDHYFLLTEPPLNTPENR | V23: AEPEDHYFLLTEPPLNTPENR | AO23: P61158 | AP23: P61158 | AQ23: IPI00028091 | AR23: Pure | AS23: Pure | BF23: CPTAC-161 | BP23: Interlaboratory; submitted to Assay Portal byFred Hutchinson Cancer Research Center
A24: ACTR3 | B24: ARP3 | C24: ARP3 actin-related protein 3 homolog (yeast) | D24: P61158 | E24: Non-modified | G24: Human | H24: CPTAC-160 | I24: Kennedy JJ et al, Nature Methods (2014) Feb;11(2):149-55. | K24: =IF(A24=N24,1,0) -> 1 | L24: Direct MRM | M24: 10096 | N24: ACTR3 | O24: ARP3 | P24: ARP3 actin-related protein 3 homolog (yeast) | Q24: Completed | R24: X | S24: GO | T24: GVDDLDFFIGDEAIEKPTYATK | U24: GVDDLDFFIGDEAIEKPTYATK | V24: GVDDLDFFIGDEAIEKPTYATK | AO24: P61158 | AP24: P61158 | AQ24: IPI00028091 | AR24: Pure | AS24: Pure | BF24: CPTAC-160 | BP24: Interlaboratory; submitted to Assay Portal byFred Hutchinson Cancer Research Center
A25: ADK | B25: AK | C25: adenylate kinase | D25: P55263 | E25: Non-modified | G25: Human | H25: CPTAC-162 | I25: Kennedy JJ et al, Nature Methods (2014) Feb;11(2):149-55. | K25: =IF(A25=N25,1,0) -> 1 | L25: Direct MRM | M25: 132 | N25: ADK | O25: AK | P25: adenylate kinase | Q25: Completed | R25: X | S25: GO | T25: SLIANLAAANC[+57]YK | U25: SLIANLAAAN(Cam)YK | V25: SLIANLAAANCYK | AO25: P55263 | AP25: P55263 | AQ25: IPI00234368 | AR25: Pure | AS25: Pure | BF25: CPTAC-162 | BP25: Interlaboratory; submitted to Assay Portal byFred Hutchinson Cancer Research Center
A26: ADSS | C26: adenylosuccinate synthase | D26: P30520 | E26: Non-modified | G26: Human | H26: CPTAC-164 | I26: Kennedy JJ et al, Nature Methods (2014) Feb;11(2):149-55. | K26: =IF(A26=N26,1,0) -> 1 | L26: Direct MRM | M26: 159 | N26: ADSS | P26: adenylosuccinate synthase | Q26: Completed | R26: X | S26: GO | T26: FIEDELQIPVK | U26: FIEDELQIPVK | V26: FIEDELQIPVK | AO26: P30520 | AP26: P30520 | AQ26: IPI00026833 | AR26: Pure | AS26: Pure | BF26: CPTAC-164 | BP26: Interlaboratory; submitted to Assay Portal byFred Hutchinson Cancer Research Center
A27: ADSS | C27: adenylosuccinate synthase | D27: P30520 | E27: Non-modified | G27: Human | H27: CPTAC-163 | I27: Kennedy JJ et al, Nature Methods (2014) Feb;11(2):149-55. | K27: =IF(A27=N27,1,0) -> 1 | L27: Direct MRM | M27: 159 | N27: ADSS | P27: adenylosuccinate synthase | Q27: Completed | R27: X | S27: GO | T27: VVDLLAQDADIVC[+57]R | U27: VVDLLAQDADIV(Cam)R | V27: VVDLLAQDADIVCR | AO27: P30520 | AP27: P30520 | AQ27: IPI00026833 | AR27: Pure | AS27: Pure | BF27: CPTAC-163 | BP27: Interlaboratory; submitted to Assay Portal byFred Hutchinson Cancer Research Center
A28: AGR2 | B28: XAG-2, HAG-2, AG2, PDIA17 | C28: anterior gradient homolog 2 (Xenopus laevis) | D28: O95994 | E28: Non-modified | G28: Human | H28: CPTAC-456 | I28: Kennedy JJ et al, Nature Methods (2014) Feb;11(2):149-55. | K28: =IF(A28=N28,1,0) -> 1 | L28: Direct MRM | M28: 10551 | N28: AGR2 | O28: XAG-2, HAG-2, AG2, PDIA17 | P28: anterior gradient homolog 2 (Xenopus laevis) | Q28: Completed | R28: X | S28: GO | T28: HLSPDGQYVPR | U28: HLSPDGQYVPR | V28: HLSPDGQYVPR | AO28: O95994 | AP28: O95994 | AQ28: IPI00007427 | AR28: Pure | AS28: Pure | BF28: CPTAC-456 | BP28: Site 3 specific; submitted to Assay Portal bySeoul National University / Korea Institute of Science and Technology and FHCRC
A29: AHNAK | B29: MGC5395 | C29: AHNAK nucleoprotein | D29: Q09666 | E29: Non-modified | G29: Human | H29: CPTAC-458 | I29: Kennedy JJ et al, Nature Methods (2014) Feb;11(2):149-55. | K29: =IF(A29=N29,1,0) -> 1 | L29: Direct MRM | M29: 79026 | N29: AHNAK | O29: MGC5395 | P29: AHNAK nucleoprotein | Q29: Completed | R29: X | S29: GO | T29: ISAPNVDFNLEGPK | U29: ISAPNVDFNLEGPK | V29: ISAPNVDFNLEGPK | AO29: Q09666 | AP29: Q09666 | AQ29: IPI00021812 | AR29: Pure | AS29: Pure | BF29: CPTAC-458 | BP29: Site 3 specific; submitted to Assay Portal bySeoul National University / Korea Institute of Science and Technology and FHCRC
A30: AHNAK | B30: MGC5395 | C30: AHNAK nucleoprotein | D30: Q09666 | E30: Non-modified | G30: Human | H30: CPTAC-457 | I30: Kennedy JJ et al, Nature Methods (2014) Feb;11(2):149-55. | K30: =IF(A30=N30,1,0) -> 1 | L30: Direct MRM | M30: 79026 | N30: AHNAK | O30: MGC5395 | P30: AHNAK nucleoprotein | Q30: Completed | R30: X | S30: GO | T30: VDIEAPDVSLEGPEGK | U30: VDIEAPDVSLEGPEGK | V30: VDIEAPDVSLEGPEGK | AO30: Q09666 | AP30: Q09666 | AQ30: IPI00021812 | AR30: Pure | AS30: Pure | BF30: CPTAC-457 | BP30: Site 3 specific; submitted to Assay Portal bySeoul National University / Korea Institute of Science and Technology and FHCRC
A31: AIP | B31: XAP2, ARA9, FKBP16 | C31: aryl hydrocarbon receptor interacting protein | D31: O00170 | E31: Non-modified | G31: Human | H31: CPTAC-308 | I31: Kennedy JJ et al, Nature Methods (2014) Feb;11(2):149-55. | K31: =IF(A31=N31,1,0) -> 1 | L31: Direct MRM | M31: 9049 | N31: AIP | O31: XAP2, ARA9, FKBP16 | P31: aryl hydrocarbon receptor interacting protein | Q31: Completed | R31: X | S31: GO | T31: VLELDPALAPVVSR | U31: VLELDPALAPVVSR | V31: VLELDPALAPVVSR | AO31: O00170 | AP31: O00170 | AQ31: IPI00925804 | AR31: Pure | AS31: Pure | BF31: CPTAC-308 | BP31: Site 2 specific; submitted to Assay Portal byBroad Institute and FHCRC
A32: AIP | B32: XAP2, ARA9, FKBP16 | C32: aryl hydrocarbon receptor interacting protein | D32: O00170 | E32: Non-modified | G32: Human | H32: CPTAC-307 | I32: Kennedy JJ et al, Nature Methods (2014) Feb;11(2):149-55. | K32: =IF(A32=N32,1,0) -> 1 | L32: Direct MRM | M32: 9049 | N32: AIP | O32: XAP2, ARA9, FKBP16 | P32: aryl hydrocarbon receptor interacting protein | Q32: Completed | R32: X | S32: GO | T32: YYDAIAC[+57]LK | U32: YYDAIA(Cam)LK | V32: YYDAIACLK | AO32: O00170 | AP32: O00170 | AQ32: IPI00925804 | AR32: Pure | AS32: Pure | BF32: CPTAC-307 | BP32: Site 2 specific; submitted to Assay Portal byBroad Institute and FHCRC
A33: AKR1A1 | B33: ALR, DD3 | C33: aldo-keto reductase family 1, member A1 (aldehyde reductase) | D33: P14550 | E33: Non-modified | G33: Human | H33: CPTAC-10 | I33: Kennedy JJ et al, Nature Methods (2014) Feb;11(2):149-55. | K33: =IF(A33=N33,1,0) -> 1 | L33: Direct MRM | M33: 10327 | N33: AKR1A1 | O33: ALR, DD3 | P33: aldo-keto reductase family 1, member A1 (aldehyde reductase) | Q33: Completed | R33: X | S33: GO | T33: GLEVTAYSPLGSSDR | U33: GLEVTAYSPLGSSDR | V33: GLEVTAYSPLGSSDR | AO33: P14550 | AP33: P14550 | AQ33: IPI00220271 | AR33: Pure | AS33: Pure | BF33: CPTAC-10 | BP33: Site 1 specific; submitted to Assay Portal byFred Hutchinson Cancer Research Center
A34: AKR1A1 | B34: ALR, DD3 | C34: aldo-keto reductase family 1, member A1 (aldehyde reductase) | D34: P14550 | E34: Non-modified | G34: Human | H34: CPTAC-9 | I34: Kennedy JJ et al, Nature Methods (2014) Feb;11(2):149-55. | K34: =IF(A34=N34,1,0) -> 1 | L34: Direct MRM | M34: 10327 | N34: AKR1A1 | O34: ALR, DD3 | P34: aldo-keto reductase family 1, member A1 (aldehyde reductase) | Q34: Completed | R34: X | S34: GO | T34: GLVQALGLSNFNSR | U34: GLVQALGLSNFNSR | V34: GLVQALGLSNFNSR | AO34: P14550 | AP34: P14550 | AQ34: IPI00220271 | AR34: Pure | AS34: Pure | BF34: CPTAC-9 | BP34: Site 1 specific; submitted to Assay Portal byFred Hutchinson Cancer Research Center
A35: ALDH18A1 | B35: P5CS | C35: aldehyde dehydrogenase 18 family, member A1 | D35: P54886 | E35: Non-modified | G35: Human | H35: CPTAC-11 | I35: Kennedy JJ et al, Nature Methods (2014) Feb;11(2):149-55. | K35: =IF(A35=N35,1,0) -> 1 | L35: Direct MRM | M35: 5832 | N35: ALDH18A1 | O35: P5CS | P35: aldehyde dehydrogenase 18 family, member A1 | Q35: Completed | R35: X | S35: GO | T35: GPVGLEGLLTTK | U35: GPVGLEGLLTTK | V35: GPVGLEGLLTTK | AO35: P54886 | AP35: P54886 | AQ35: IPI00008982 | AR35: Pure | AS35: Pure | BF35: CPTAC-11 | BP35: Site 1 specific; submitted to Assay Portal byFred Hutchinson Cancer Research Center
A36: ALDH2 | C36: aldehyde dehydrogenase 2 family (mitochondrial) | D36: P05091 | E36: Non-modified | G36: Human | H36: CPTAC-12 | I36: Kennedy JJ et al, Nature Methods (2014) Feb;11(2):149-55. | K36: =IF(A36=N36,1,0) -> 1 | L36: Direct MRM | M36: 217 | N36: ALDH2 | P36: aldehyde dehydrogenase 2 family (mitochondrial) | Q36: Completed | R36: X | S36: GO | T36: VAEQTPLTALYVANLIK | U36: VAEQTPLTALYVANLIK | V36: VAEQTPLTALYVANLIK | AO36: P05091 | AP36: P05091 | AQ36: IPI00006663 | AR36: Pure | AS36: Pure | BF36: CPTAC-12 | BP36: Site 1 specific; submitted to Assay Portal byFred Hutchinson Cancer Research Center
A37: ALDH2 | C37: aldehyde dehydrogenase 2 family (mitochondrial) | D37: P05091 | E37: Non-modified | G37: Human | H37: CPTAC-13 | I37: Kennedy JJ et al, Nature Methods (2014) Feb;11(2):149-55. | K37: =IF(A37=N37,1,0) -> 1 | L37: Direct MRM | M37: 217 | N37: ALDH2 | P37: aldehyde dehydrogenase 2 family (mitochondrial) | Q37: Completed | R37: X | S37: GO | T37: VAFTGSTEIGR | U37: VAFTGSTEIGR | V37: VAFTGSTEIGR | AO37: P05091 | AP37: P05091 | AQ37: IPI00006663 | AR37: Pure | AS37: Pure | BF37: CPTAC-13 | BP37: Site 1 specific; submitted to Assay Portal byFred Hutchinson Cancer Research Center
A38: ALDH2 | C38: aldehyde dehydrogenase 2 family (mitochondrial) | D38: P05091 | E38: Non-modified | G38: Human | H38: CPTAC-14 | I38: Kennedy JJ et al, Nature Methods (2014) Feb;11(2):149-55. | K38: =IF(A38=N38,1,0) -> 1 | L38: Direct MRM | M38: 217 | N38: ALDH2 | P38: aldehyde dehydrogenase 2 family (mitochondrial) | Q38: Completed | R38: X | S38: GO | T38: VVGNPFDSK | U38: VVGNPFDSK | V38: VVGNPFDSK | AO38: P05091 | AP38: P05091 | AQ38: IPI00006663 | AR38: Pure | AS38: Pure | BF38: CPTAC-14 | BP38: Site 1 specific; submitted to Assay Portal byFred Hutchinson Cancer Research Center
A39: ALDH4A1 | B39: P5CDh | C39: aldehyde dehydrogenase 4 family, member A1 | D39: P30038 | E39: Non-modified | G39: Human | H39: CPTAC-165 | I39: Kennedy JJ et al, Nature Methods (2014) Feb;11(2):149-55. | K39: =IF(A39=N39,1,0) -> 1 | L39: Direct MRM | M39: 8659 | N39: ALDH4A1 | O39: P5CDh | P39: aldehyde dehydrogenase 4 family, member A1 | Q39: Completed | R39: X | S39: GO | T39: NAAGNFYINDK | U39: NAAGNFYINDK | V39: NAAGNFYINDK | AO39: P30038 | AP39: P30038 | AQ39: IPI00217871 | AR39: Pure | AS39: Pure | BF39: CPTAC-165 | BP39: Interlaboratory; submitted to Assay Portal byFred Hutchinson Cancer Research Center
A40: ALDH4A1 | B40: P5CDh | C40: aldehyde dehydrogenase 4 family, member A1 | D40: P30038 | E40: Non-modified | G40: Human | H40: CPTAC-166 | I40: Kennedy JJ et al, Nature Methods (2014) Feb;11(2):149-55. | K40: =IF(A40=N40,1,0) -> 1 | L40: Direct MRM | M40: 8659 | N40: ALDH4A1 | O40: P5CDh | P40: aldehyde dehydrogenase 4 family, member A1 | Q40: Completed | R40: X | S40: GO | T40: STGSIVGQQPFGGAR | U40: STGSIVGQQPFGGAR | V40: STGSIVGQQPFGGAR | AO40: P30038 | AP40: P30038 | AQ40: IPI00217871 | AR40: Pure | AS40: Pure | BF40: CPTAC-166 | BP40: Interlaboratory; submitted to Assay Portal byFred Hutchinson Cancer Research Center
A41: ALDH7A1 | B41: EPD, PDE | C41: aldehyde dehydrogenase 7 family, member A1 | D41: P49419 | E41: Non-modified | G41: Human | H41: CPTAC-15 | I41: Kennedy JJ et al, Nature Methods (2014) Feb;11(2):149-55. | K41: =IF(A41=N41,1,0) -> 1 | L41: Direct MRM | M41: 501 | N41: ALDH7A1 | O41: EPD, PDE | P41: aldehyde dehydrogenase 7 family, member A1 | Q41: Completed | R41: X | S41: GO | T41: GAPTTSLISVAVTK | U41: GAPTTSLISVAVTK | V41: GAPTTSLISVAVTK | AO41: P49419 | AP41: P49419 | AQ41: IPI00221234 | AR41: Pure | AS41: Pure | BF41: CPTAC-15 | BP41: Site 1 specific; submitted to Assay Portal byFred Hutchinson Cancer Research Center
A42: ALDH7A1 | B42: EPD, PDE | C42: aldehyde dehydrogenase 7 family, member A1 | D42: P49419 | E42: Non-modified | G42: Human | H42: CPTAC-16 | I42: Kennedy JJ et al, Nature Methods (2014) Feb;11(2):149-55. | K42: =IF(A42=N42,1,0) -> 1 | L42: Direct MRM | M42: 501 | N42: ALDH7A1 | O42: EPD, PDE | P42: aldehyde dehydrogenase 7 family, member A1 | Q42: Completed | R42: X | S42: GO | T42: VNLLSFTGSTQVGK | U42: VNLLSFTGSTQVGK | V42: VNLLSFTGSTQVGK | AO42: P49419 | AP42: P49419 | AQ42: IPI00221234 | AR42: Pure | AS42: Pure | BF42: CPTAC-16 | BP42: Site 1 specific; submitted to Assay Portal byFred Hutchinson Cancer Research Center
A43: ALDH9A1 | B43: E3 | C43: aldehyde dehydrogenase 9 family, member A1 | D43: P49189 | E43: Non-modified | G43: Human | H43: CPTAC-309 | I43: Kennedy JJ et al, Nature Methods (2014) Feb;11(2):149-55. | K43: =IF(A43=N43,1,0) -> 1 | L43: Direct MRM | M43: 223 | N43: ALDH9A1 | O43: E3 | P43: aldehyde dehydrogenase 9 family, member A1 | Q43: Completed | R43: X | S43: GO | T43: IGDPLLEDTR | U43: IGDPLLEDTR | V43: IGDPLLEDTR | AO43: P49189 | AP43: P49189 | AQ43: IPI00479877 | AR43: Pure | AS43: Pure | BF43: CPTAC-309 | BP43: Site 2 specific; submitted to Assay Portal byBroad Institute and FHCRC
A44: ALDH9A1 | B44: E3 | C44: aldehyde dehydrogenase 9 family, member A1 | D44: P49189 | E44: Non-modified | G44: Human | H44: CPTAC-310 | I44: Kennedy JJ et al, Nature Methods (2014) Feb;11(2):149-55. | K44: =IF(A44=N44,1,0) -> 1 | L44: Direct MRM | M44: 223 | N44: ALDH9A1 | O44: E3 | P44: aldehyde dehydrogenase 9 family, member A1 | Q44: Completed | R44: X | S44: GO | T44: VLC[+57]GGDIYVPEDPK | U44: VL(Cam)GGDIYVPEDPK | V44: VLCGGDIYVPEDPK | AO44: P49189 | AP44: P49189 | AQ44: IPI00479877 | AR44: Pure | AS44: Pure | BF44: CPTAC-310 | BP44: Site 2 specific; submitted to Assay Portal byBroad Institute and FHCRC
A45: ALDOA | C45: aldolase A, fructose-bisphosphate | D45: P04075 | E45: Non-modified | G45: Human | H45: CPTAC-459 | I45: Kennedy JJ et al, Nature Methods (2014) Feb;11(2):149-55. | K45: =IF(A45=N45,1,0) -> 1 | L45: Direct MRM | M45: 226 | N45: ALDOA | P45: aldolase A, fructose-bisphosphate | Q45: Completed | R45: X | S45: GO | T45: ADDGRPFPQVIK | U45: ADDGRPFPQVIK | V45: ADDGRPFPQVIK | AO45: P04075 | AP45: P04075 | AQ45: IPI00465439 | AR45: Pure | AS45: Pure | BF45: CPTAC-459 | BP45: Site 3 specific; submitted to Assay Portal bySeoul National University / Korea Institute of Science and Technology and FHCRC
A46: ANPEP | B46: LAP1, gp150, p150 | C46: alanyl (membrane) aminopeptidase | D46: P15144 | E46: Non-modified | G46: Human | H46: CPTAC-460 | I46: Kennedy JJ et al, Nature Methods (2014) Feb;11(2):149-55. | K46: =IF(A46=N46,1,0) -> 1 | L46: Direct MRM | M46: 290 | N46: ANPEP | O46: LAP1, gp150, p150 | P46: alanyl (membrane) aminopeptidase | Q46: Completed | R46: X | S46: GO | T46: ENSLLFDPLSSSSSNK | U46: ENSLLFDPLSSSSSNK | V46: ENSLLFDPLSSSSSNK | AO46: P15144 | AP46: P15144 | AQ46: IPI00221224 | AR46: Pure | AS46: Pure | BF46: CPTAC-460 | BP46: Site 3 specific; submitted to Assay Portal bySeoul National University / Korea Institute of Science and Technology and FHCRC
A47: ANPEP | B47: LAP1, gp150, p150 | C47: alanyl (membrane) aminopeptidase | D47: P15144 | E47: Non-modified | G47: Human | H47: CPTAC-461 | I47: Kennedy JJ et al, Nature Methods (2014) Feb;11(2):149-55. | K47: =IF(A47=N47,1,0) -> 1 | L47: Direct MRM | M47: 290 | N47: ANPEP | O47: LAP1, gp150, p150 | P47: alanyl (membrane) aminopeptidase | Q47: Completed | R47: X | S47: GO | T47: YLSYTLNPDLIR | U47: YLSYTLNPDLIR | V47: YLSYTLNPDLIR | AO47: P15144 | AP47: P15144 | AQ47: IPI00221224 | AR47: Pure | AS47: Pure | BF47: CPTAC-461 | BP47: Site 3 specific; submitted to Assay Portal bySeoul National University / Korea Institute of Science and Technology and FHCRC
A48: ANXA1 | C48: annexin A1 | D48: P04083 | E48: Non-modified | G48: Human | H48: CPTAC-312 | I48: Kennedy JJ et al, Nature Methods (2014) Feb;11(2):149-55. | K48: =IF(A48=N48,1,0) -> 1 | L48: Direct MRM | M48: 301 | N48: ANXA1 | P48: annexin A1 | Q48: Completed | R48: X | S48: GO | T48: GTDVNVFNTILTTR | U48: GTDVNVFNTILTTR | V48: GTDVNVFNTILTTR | AO48: P04083 | AP48: P04083 | AQ48: IPI00218918 | AR48: Pure | AS48: Pure | BF48: CPTAC-312 | BP48: Site 2 specific; submitted to Assay Portal byBroad Institute and FHCRC
A49: ANXA1 | C49: annexin A1 | D49: P04083 | E49: Non-modified | G49: Human | H49: CPTAC-311 | I49: Kennedy JJ et al, Nature Methods (2014) Feb;11(2):149-55. | K49: =IF(A49=N49,1,0) -> 1 | L49: Direct MRM | M49: 301 | N49: ANXA1 | P49: annexin A1 | Q49: Completed | R49: X | S49: GO | T49: TPAQFDADELR | U49: TPAQFDADELR | V49: TPAQFDADELR | AO49: P04083 | AP49: P04083 | AQ49: IPI00218918 | AR49: Pure | AS49: Pure | BF49: CPTAC-311 | BP49: Site 2 specific; submitted to Assay Portal byBroad Institute and FHCRC
A50: ANXA2 | B50: LIP2 | C50: annexin A2 | D50: P07355 | E50: Non-modified | G50: Human | H50: CPTAC-462 | I50: Kennedy JJ et al, Nature Methods (2014) Feb;11(2):149-55. | K50: =IF(A50=N50,1,0) -> 1 | L50: Direct MRM | M50: 302 | N50: ANXA2 | O50: LIP2 | P50: annexin A2 | Q50: Completed | R50: X | S50: GO | T50: AEDGSVIDYELIDQDAR | U50: AEDGSVIDYELIDQDAR | V50: AEDGSVIDYELIDQDAR | AO50: P07355 | AP50: P07355 | AQ50: IPI00418169 | AR50: Pure | AS50: Pure | BF50: CPTAC-462 | BP50: Site 3 specific; submitted to Assay Portal bySeoul National University / Korea Institute of Science and Technology and FHCRC
A51: ANXA2 | B51: LIP2 | C51: annexin A2 | D51: P07355 | E51: Non-modified | G51: Human | I51: Kennedy JJ et al, Nature Methods (2014) Feb;11(2):149-55. | K51: =IF(A51=N51,1,0) -> 1 | L51: Direct MRM | M51: 302 | N51: ANXA2 | O51: LIP2 | P51: annexin A2 | Q51: Completed | R51: X | S51: GO | T51: GDLENAFLNLVQC[+57]IQNKPLYFADR | U51: GDLENAFLNLVQ(Cam)IQNKPLYFADR | V51: GDLENAFLNLVQCIQNKPLYFADR | AO51: P07355 | AP51: P07355 | AQ51: IPI00418169 | AR51: Pure | AS51: Pure | BP51: Site 3 specific; submitted to Assay Portal bySeoul National University / Korea Institute of Science and Technology and FHCRC
A52: ANXA3 | C52: annexin A3 | D52: P12429 | E52: Non-modified | G52: Human | H52: CPTAC-18 | I52: Kennedy JJ et al, Nature Methods (2014) Feb;11(2):149-55. | K52: =IF(A52=N52,1,0) -> 1 | L52: Direct MRM | M52: 306 | N52: ANXA3 | P52: annexin A3 | Q52: Completed | R52: X | S52: GO | T52: GIGTDEFTLNR | U52: GIGTDEFTLNR | V52: GIGTDEFTLNR | AO52: P12429 | AP52: P12429 | AQ52: IPI00024095 | AR52: Pure | AS52: Pure | BF52: CPTAC-18 | BP52: Site 1 specific; submitted to Assay Portal byFred Hutchinson Cancer Research Center
A53: ANXA3 | C53: annexin A3 | D53: P12429 | E53: Non-modified | G53: Human | H53: CPTAC-17 | I53: Kennedy JJ et al, Nature Methods (2014) Feb;11(2):149-55. | K53: =IF(A53=N53,1,0) -> 1 | L53: Direct MRM | M53: 306 | N53: ANXA3 | P53: annexin A3 | Q53: Completed | R53: X | S53: GO | T53: SLGDDISSETSGDFR | U53: SLGDDISSETSGDFR | V53: SLGDDISSETSGDFR | AO53: P12429 | AP53: P12429 | AQ53: IPI00024095 | AR53: Pure | AS53: Pure | BF53: CPTAC-17 | BP53: Site 1 specific; submitted to Assay Portal byFred Hutchinson Cancer Research Center
A54: ANXA4 | C54: annexin A4 | D54: P09525 | E54: Non-modified | G54: Human | H54: CPTAC-19 | I54: Kennedy JJ et al, Nature Methods (2014) Feb;11(2):149-55. | K54: =IF(A54=N54,1,0) -> 1 | L54: Direct MRM | M54: 307 | N54: ANXA4 | P54: annexin A4 | Q54: Completed | R54: X | S54: GO | T54: GLGTDEDAIISVLAYR | U54: GLGTDEDAIISVLAYR | V54: GLGTDEDAIISVLAYR | AO54: P09525 | AP54: P09525 | AQ54: IPI00793199 | AR54: Pure | AS54: Pure | BF54: CPTAC-19 | BP54: Site 1 specific; submitted to Assay Portal byFred Hutchinson Cancer Research Center
A55: ANXA4 | C55: annexin A4 | D55: P09525 | E55: Non-modified | G55: Human | H55: CPTAC-20 | I55: Kennedy JJ et al, Nature Methods (2014) Feb;11(2):149-55. | K55: =IF(A55=N55,1,0) -> 1 | L55: Direct MRM | M55: 307 | N55: ANXA4 | P55: annexin A4 | Q55: Completed | R55: X | S55: GO | T55: ISQTYQQQYGR | U55: ISQTYQQQYGR | V55: ISQTYQQQYGR | W55: IRR.ISQTYQQQYGR^.SLE | AE55: 1 | AO55: P09525 | AP55: P09525 | AQ55: IPI00793199 | AR55: Pure | AS55: Pure | BF55: CPTAC-20 | BP55: Site 1 specific; submitted to Assay Portal byFred Hutchinson Cancer Research Center
A56: ANXA6 | C56: annexin A6 | D56: P08133 | E56: Non-modified | G56: Human | H56: CPTAC-313 | I56: Kennedy JJ et al, Nature Methods (2014) Feb;11(2):149-55. | K56: =IF(A56=N56,1,0) -> 1 | L56: Direct MRM | M56: 309 | N56: ANXA6 | P56: annexin A6 | Q56: Completed | R56: X | S56: GO | T56: EAILDIITSR | U56: EAILDIITSR | V56: EAILDIITSR | W56: GFGSDK.EAILDIITSR^.SNR | AE56: 1 | AO56: P08133 | AP56: P08133 | AQ56: IPI00002459 | AR56: Pure | AS56: Pure | BF56: CPTAC-313 | BP56: Site 2 specific; submitted to Assay Portal byBroad Institute and FHCRC
A57: ANXA6 | C57: annexin A6 | D57: P08133 | E57: Non-modified | G57: Human | H57: CPTAC-314 | I57: Kennedy JJ et al, Nature Methods (2014) Feb;11(2):149-55. | K57: =IF(A57=N57,1,0) -> 1 | L57: Direct MRM | M57: 309 | N57: ANXA6 | P57: annexin A6 | Q57: Completed | R57: X | S57: GO | T57: WGTDEAQFIYILGNR | U57: WGTDEAQFIYILGNR | V57: WGTDEAQFIYILGNR | AO57: P08133 | AP57: P08133 | AQ57: IPI00002459 | AR57: Pure | AS57: Pure | BF57: CPTAC-314 | BP57: Site 2 specific; submitted to Assay Portal byBroad Institute and FHCRC
A58: APEH | C58: N-acylaminoacyl-peptide hydrolase | D58: P13798 | E58: Non-modified | G58: Human | H58: CPTAC-21 | I58: Kennedy JJ et al, Nature Methods (2014) Feb;11(2):149-55. | K58: =IF(A58=N58,1,0) -> 1 | L58: Direct MRM | M58: 327 | N58: APEH | P58: N-acylaminoacyl-peptide hydrolase | Q58: Completed | R58: X | S58: GO | T58: ALDVSASDDEIAR | U58: ALDVSASDDEIAR | V58: ALDVSASDDEIAR | AO58: P13798 | AP58: P13798 | AQ58: IPI00337741 | AR58: Pure | AS58: Pure | BF58: CPTAC-21 | BP58: Site 1 specific; submitted to Assay Portal byFred Hutchinson Cancer Research Center
A59: APEH | C59: N-acylaminoacyl-peptide hydrolase | D59: P13798 | E59: Non-modified | G59: Human | H59: CPTAC-22 | I59: Kennedy JJ et al, Nature Methods (2014) Feb;11(2):149-55. | K59: =IF(A59=N59,1,0) -> 1 | L59: Direct MRM | M59: 327 | N59: APEH | P59: N-acylaminoacyl-peptide hydrolase | Q59: Completed | R59: X | S59: GO | T59: VGFLPSAGK | U59: VGFLPSAGK | V59: VGFLPSAGK | AO59: P13798 | AP59: P13798 | AQ59: IPI00337741 | AR59: Pure | AS59: Pure | BF59: CPTAC-22 | BP59: Site 1 specific; submitted to Assay Portal byFred Hutchinson Cancer Research Center
A60: APEX1 | B60: APE, REF1, HAP1, APX, APEN, REF-1, APE-1 | C60: APEX nuclease (multifunctional DNA repair enzyme) 1 | D60: P27695 | E60: Non-modified | G60: Human | H60: CPTAC-23 | I60: Kennedy JJ et al, Nature Methods (2014) Feb;11(2):149-55. | K60: =IF(A60=N60,1,0) -> 1 | L60: Direct MRM | M60: 328 | N60: APEX1 | O60: APE, REF1, HAP1, APX, APEN, REF-1, APE-1 | P60: APEX nuclease (multifunctional DNA repair enzyme) 1 | Q60: Completed | R60: X | S60: GO | T60: EGYSGVGLLSR | U60: EGYSGVGLLSR | V60: EGYSGVGLLSR | AO60: P27695 | AP60: P27695 | AQ60: IPI00215911 | AR60: Pure | AS60: Pure | BF60: CPTAC-23 | BP60: Site 1 specific; submitted to Assay Portal byFred Hutchinson Cancer Research Center
A61: APEX1 | B61: APE, REF1, HAP1, APX, APEN, REF-1, APE-1 | C61: APEX nuclease (multifunctional DNA repair enzyme) 1 | D61: P27695 | E61: Non-modified | G61: Human | H61: CPTAC-24 | I61: Kennedy JJ et al, Nature Methods (2014) Feb;11(2):149-55. | K61: =IF(A61=N61,1,0) -> 1 | L61: Direct MRM | M61: 328 | N61: APEX1 | O61: APE, REF1, HAP1, APX, APEN, REF-1, APE-1 | P61: APEX nuclease (multifunctional DNA repair enzyme) 1 | Q61: Completed | R61: X | S61: GO | T61: VSYGIGDEEHDQEGR | U61: VSYGIGDEEHDQEGR | V61: VSYGIGDEEHDQEGR | AO61: P27695 | AP61: P27695 | AQ61: IPI00215911 | AR61: Pure | AS61: Pure | BF61: CPTAC-24 | BP61: Site 1 specific; submitted to Assay Portal byFred Hutchinson Cancer Research Center
A62: APOA1BP | B62: AIBP, MGC119143, MGC119144, MGC119145, YJEFN1 | C62: apolipoprotein A-I binding protein | D62: Q8NCW5 | E62: Non-modified | G62: Human | H62: CPTAC-26 | I62: Kennedy JJ et al, Nature Methods (2014) Feb;11(2):149-55. | K62: =IF(A62=N62,1,0) -> 1 | L62: Direct MRM | M62: 128240 | N62: APOA1BP | O62: AIBP, MGC119143, MGC119144, MGC119145, YJEFN1 | P62: apolipoprotein A-I binding protein | Q62: Completed | R62: X | S62: GO | T62: GLTVPIASIDIPSGWDVEK | U62: GLTVPIASIDIPSGWDVEK | V62: GLTVPIASIDIPSGWDVEK | AO62: Q8NCW5 | AP62: Q8NCW5 | AQ62: IPI00168479 | AR62: Pure | AS62: Pure | BF62: CPTAC-26 | BP62: Site 1 specific; submitted to Assay Portal byFred Hutchinson Cancer Research Center
A63: APOA1BP | B63: AIBP, MGC119143, MGC119144, MGC119145, YJEFN1 | C63: apolipoprotein A-I binding protein | D63: Q8NCW5 | E63: Non-modified | G63: Human | H63: CPTAC-25 | I63: Kennedy JJ et al, Nature Methods (2014) Feb;11(2):149-55. | K63: =IF(A63=N63,1,0) -> 1 | L63: Direct MRM | M63: 128240 | N63: APOA1BP | O63: AIBP, MGC119143, MGC119144, MGC119145, YJEFN1 | P63: apolipoprotein A-I binding protein | Q63: Completed | R63: X | S63: GO | T63: LFGYEPTIYYPK | U63: LFGYEPTIYYPK | V63: LFGYEPTIYYPK | AO63: Q8NCW5 | AP63: Q8NCW5 | AQ63: IPI00168479 | AR63: Pure | AS63: Pure | BF63: CPTAC-25 | BP63: Site 1 specific; submitted to Assay Portal byFred Hutchinson Cancer Research Center
A64: ARPC2 | B64: p34-Arc, ARC34 | C64: actin related protein 2/3 complex, subunit 2, 34kDa | D64: O15144 | E64: Non-modified | G64: Human | H64: CPTAC-168 | I64: Kennedy JJ et al, Nature Methods (2014) Feb;11(2):149-55. | K64: =IF(A64=N64,1,0) -> 1 | L64: Direct MRM | M64: 10109 | N64: ARPC2 | O64: p34-Arc, ARC34 | P64: actin related protein 2/3 complex, subunit 2, 34kDa | Q64: Completed | R64: X | S64: GO | T64: DNTINLIHTFR | U64: DNTINLIHTFR | V64: DNTINLIHTFR | AO64: O15144 | AP64: O15144 | AQ64: IPI00005161 | AR64: Pure | AS64: Pure | BF64: CPTAC-168 | BP64: Interlaboratory; submitted to Assay Portal byFred Hutchinson Cancer Research Center
A65: ARPC2 | B65: p34-Arc, ARC34 | C65: actin related protein 2/3 complex, subunit 2, 34kDa | D65: O15144 | E65: Non-modified | G65: Human | H65: CPTAC-167 | I65: Kennedy JJ et al, Nature Methods (2014) Feb;11(2):149-55. | K65: =IF(A65=N65,1,0) -> 1 | L65: Direct MRM | M65: 10109 | N65: ARPC2 | O65: p34-Arc, ARC34 | P65: actin related protein 2/3 complex, subunit 2, 34kDa | Q65: Completed | R65: X | S65: GO | T65: NC[+57]FASVFEK | U65: N(Cam)FASVFEK | V65: NCFASVFEK | AO65: O15144 | AP65: O15144 | AQ65: IPI00000477 | AR65: Pure | AS65: Pure | BF65: CPTAC-167 | BP65: Interlaboratory; submitted to Assay Portal byFred Hutchinson Cancer Research Center
A66: ASS1 | B66: CTLN1 | C66: argininosuccinate synthetase 1 | D66: P00966 | E66: Non-modified | G66: Human | H66: CPTAC-170 | I66: Kennedy JJ et al, Nature Methods (2014) Feb;11(2):149-55. | K66: =IF(A66=N66,1,0) -> 1 | L66: Direct MRM | M66: 445 | N66: ASS1 | O66: CTLN1 | P66: argininosuccinate synthetase 1 | Q66: Completed | R66: X | S66: GO | T66: APNTPDILEIEFK | U66: APNTPDILEIEFK | V66: APNTPDILEIEFK | AO66: P00966 | AP66: P00966 | AQ66: IPI00020632 | AR66: Pure | AS66: Pure | BF66: CPTAC-170 | BP66: Interlaboratory; submitted to Assay Portal byFred Hutchinson Cancer Research Center
A67: ASS1 | B67: CTLN1 | C67: argininosuccinate synthetase 1 | D67: P00966 | E67: Non-modified | G67: Human | H67: CPTAC-169 | I67: Kennedy JJ et al, Nature Methods (2014) Feb;11(2):149-55. | K67: =IF(A67=N67,1,0) -> 1 | L67: Direct MRM | M67: 445 | N67: ASS1 | O67: CTLN1 | P67: argininosuccinate synthetase 1 | Q67: Completed | R67: X | S67: GO | T67: FELSC[+57]YSLAPQIK | U67: FELS(Cam)YSLAPQIK | V67: FELSCYSLAPQIK | AO67: P00966 | AP67: P00966 | AQ67: IPI00020632 | AR67: Pure | AS67: Pure | BF67: CPTAC-169 | BP67: Interlaboratory; submitted to Assay Portal byFred Hutchinson Cancer Research Center
A68: ATP1B1 | C68: ATPase, Na+/K+ transporting, beta 1 polypeptide | D68: P05026 | E68: Non-modified | G68: Human | H68: CPTAC-28 | I68: Kennedy JJ et al, Nature Methods (2014) Feb;11(2):149-55. | K68: =IF(A68=N68,1,0) -> 1 | L68: Direct MRM | M68: 481 | N68: ATP1B1 | P68: ATPase, Na+/K+ transporting, beta 1 polypeptide | Q68: Completed | R68: X | S68: GO | T68: SYEAYVLNIVR | U68: SYEAYVLNIVR | V68: SYEAYVLNIVR | AO68: P05026 | AP68: P05026 | AQ68: IPI00747849 | AR68: Pure | AS68: Pure | BF68: CPTAC-28 | BP68: Site 1 specific; submitted to Assay Portal byFred Hutchinson Cancer Research Center
A69: ATP1B1 | C69: ATPase, Na+/K+ transporting, beta 1 polypeptide | D69: P05026 | E69: Non-modified | G69: Human | H69: CPTAC-27 | I69: Kennedy JJ et al, Nature Methods (2014) Feb;11(2):149-55. | K69: =IF(A69=N69,1,0) -> 1 | L69: Direct MRM | M69: 481 | N69: ATP1B1 | P69: ATPase, Na+/K+ transporting, beta 1 polypeptide | Q69: Completed | R69: X | S69: GO | T69: VAPPGLTQIPQIQK | U69: VAPPGLTQIPQIQK | V69: VAPPGLTQIPQIQK | AO69: P05026 | AP69: P05026 | AQ69: IPI00747849 | AR69: Pure | AS69: Pure | BF69: CPTAC-27 | BP69: Site 1 specific; submitted to Assay Portal byFred Hutchinson Cancer Research Center
A70: ATP5A1 | B70: ATP5A, hATP1, OMR, ORM | C70: ATP synthase, H+ transporting, mitochondrial F1 complex, alpha subunit 1, cardiac muscle | D70: P25705 | E70: Non-modified | G70: Human | H70: CPTAC-171 | I70: Kennedy JJ et al, Nature Methods (2014) Feb;11(2):149-55. | K70: =IF(A70=N70,1,0) -> 1 | L70: Direct MRM | M70: 498 | N70: ATP5A1 | O70: ATP5A, hATP1, OMR, ORM | P70: ATP synthase, H+ transporting, mitochondrial F1 complex, alpha subunit 1, cardiac muscle | Q70: Completed | R70: X | S70: GO | T70: ILGADTSVDLEETGR | U70: ILGADTSVDLEETGR | V70: ILGADTSVDLEETGR | AO70: P25705 | AP70: P25705 | AQ70: IPI00440493 | AR70: Pure | AS70: Pure | BF70: CPTAC-171 | BP70: Interlaboratory; submitted to Assay Portal byFred Hutchinson Cancer Research Center
A71: ATP5A1 | B71: ATP5A, hATP1, OMR, ORM | C71: ATP synthase, H+ transporting, mitochondrial F1 complex, alpha subunit 1, cardiac muscle | D71: P25705 | E71: Non-modified | G71: Human | H71: CPTAC-172 | I71: Kennedy JJ et al, Nature Methods (2014) Feb;11(2):149-55. | K71: =IF(A71=N71,1,0) -> 1 | L71: Direct MRM | M71: 498 | N71: ATP5A1 | O71: ATP5A, hATP1, OMR, ORM | P71: ATP synthase, H+ transporting, mitochondrial F1 complex, alpha subunit 1, cardiac muscle | Q71: Completed | R71: X | S71: GO | T71: VVDALGNAIDGK | U71: VVDALGNAIDGK | V71: VVDALGNAIDGK | AO71: P25705 | AP71: P25705 | AQ71: IPI00440493 | AR71: Pure | AS71: Pure | BF71: CPTAC-172 | BP71: Interlaboratory; submitted to Assay Portal byFred Hutchinson Cancer Research Center
A72: ATP5B | C72: ATP synthase, H+ transporting, mitochondrial F1 complex, beta polypeptide | D72: P06576 | E72: Non-modified | G72: Human | H72: CPTAC-316 | I72: Kennedy JJ et al, Nature Methods (2014) Feb;11(2):149-55. | K72: =IF(A72=N72,1,0) -> 1 | L72: Direct MRM | M72: 506 | N72: ATP5B | P72: ATP synthase, H+ transporting, mitochondrial F1 complex, beta polypeptide | Q72: Completed | R72: X | S72: GO | T72: FTQAGSEVSALLGR | U72: FTQAGSEVSALLGR | V72: FTQAGSEVSALLGR | AO72: P06576 | AP72: P06576 | AQ72: IPI00303476 | AR72: Pure | AS72: Pure | BF72: CPTAC-316 | BP72: Site 2 specific; submitted to Assay Portal byBroad Institute and FHCRC
A73: ATP5B | C73: ATP synthase, H+ transporting, mitochondrial F1 complex, beta polypeptide | D73: P06576 | E73: Non-modified | G73: Human | H73: CPTAC-315 | I73: Kennedy JJ et al, Nature Methods (2014) Feb;11(2):149-55. | K73: =IF(A73=N73,1,0) -> 1 | L73: Direct MRM | M73: 506 | N73: ATP5B | P73: ATP synthase, H+ transporting, mitochondrial F1 complex, beta polypeptide | Q73: Completed | R73: X | S73: GO | T73: VALTGLTVAEYFR | U73: VALTGLTVAEYFR | V73: VALTGLTVAEYFR | AO73: P06576 | AP73: P06576 | AQ73: IPI00303476 | AR73: Pure | AS73: Pure | BF73: CPTAC-315 | BP73: Site 2 specific; submitted to Assay Portal byBroad Institute and FHCRC
A74: ATP5H | B74: ATPQ, ATP5JD | C74: ATP synthase, H+ transporting, mitochondrial F0 complex, subunit d | D74: O75947 | E74: Non-modified | G74: Human | H74: CPTAC-30 | I74: Kennedy JJ et al, Nature Methods (2014) Feb;11(2):149-55. | K74: =IF(A74=N74,1,0) -> 1 | L74: Direct MRM | M74: 10476 | N74: ATP5H | O74: ATPQ, ATP5JD | P74: ATP synthase, H+ transporting, mitochondrial F0 complex, subunit d | Q74: Completed | R74: X | S74: GO | T74: LAALPENPPAIDWAYYK | U74: LAALPENPPAIDWAYYK | V74: LAALPENPPAIDWAYYK | AO74: O75947 | AP74: O75947 | AQ74: IPI00220487 | AR74: Pure | AS74: Pure | BF74: CPTAC-30 | BP74: Site 1 specific; submitted to Assay Portal byFred Hutchinson Cancer Research Center
A75: ATP5H | B75: ATPQ, ATP5JD | C75: ATP synthase, H+ transporting, mitochondrial F0 complex, subunit d | D75: O75947 | E75: Non-modified | G75: Human | H75: CPTAC-29 | I75: Kennedy JJ et al, Nature Methods (2014) Feb;11(2):149-55. | K75: =IF(A75=N75,1,0) -> 1 | L75: Direct MRM | M75: 10476 | N75: ATP5H | O75: ATPQ, ATP5JD | P75: ATP synthase, H+ transporting, mitochondrial F0 complex, subunit d | Q75: Completed | R75: X | S75: GO | T75: SWNETLTSR | U75: SWNETLTSR | V75: SWNETLTSR | AO75: O75947 | AP75: O75947 | AQ75: IPI00220487 | AR75: Pure | AS75: Pure | BF75: CPTAC-29 | BP75: Site 1 specific; submitted to Assay Portal byFred Hutchinson Cancer Research Center
A76: ATP6V1C1 | B76: VATC, Vma5 | C76: ATPase, H+ transporting, lysosomal 42kDa, V1 subunit C1 | D76: P21283 | E76: Non-modified | G76: Human | H76: CPTAC-173 | I76: Kennedy JJ et al, Nature Methods (2014) Feb;11(2):149-55. | K76: =IF(A76=N76,1,0) -> 1 | L76: Direct MRM | M76: 528 | N76: ATP6V1C1 | O76: VATC, Vma5 | P76: ATPase, H+ transporting, lysosomal 42kDa, V1 subunit C1 | Q76: Completed | R76: X | S76: GO | T76: LDAFVEGVVK | U76: LDAFVEGVVK | V76: LDAFVEGVVK | AO76: P21283 | AP76: P21283 | AQ76: IPI00007814 | AR76: Pure | AS76: Pure | BF76: CPTAC-173 | BP76: Interlaboratory; submitted to Assay Portal byFred Hutchinson Cancer Research Center
A77: BAG3 | C77: BCL2-associated athanogene 3 | D77: O95817 | E77: Non-modified | G77: Human | H77: CPTAC-317 | I77: Kennedy JJ et al, Nature Methods (2014) Feb;11(2):149-55. | K77: =IF(A77=N77,1,0) -> 1 | L77: Direct MRM | M77: 9531 | N77: BAG3 | P77: BCL2-associated athanogene 3 | Q77: Completed | R77: X | S77: GO | T77: AAPSTAPAEATPPKPGEAEAPPK | U77: AAPSTAPAEATPPKPGEAEAPPK | V77: AAPSTAPAEATPPKPGEAEAPPK | AO77: O95817 | AP77: O95817 | AQ77: IPI00641582 | AR77: Pure | AS77: Pure | BF77: CPTAC-317 | BP77: Site 2 specific; submitted to Assay Portal byBroad Institute and FHCRC
A78: BAG3 | C78: BCL2-associated athanogene 3 | D78: O95817 | E78: Non-modified | G78: Human | H78: CPTAC-318 | I78: Kennedy JJ et al, Nature Methods (2014) Feb;11(2):149-55. | K78: =IF(A78=N78,1,0) -> 1 | L78: Direct MRM | M78: 9531 | N78: BAG3 | P78: BCL2-associated athanogene 3 | Q78: Completed | R78: X | S78: GO | T78: ELLALDSVDPEGR | U78: ELLALDSVDPEGR | V78: ELLALDSVDPEGR | AO78: O95817 | AP78: O95817 | AQ78: IPI00641582 | AR78: Pure | AS78: Pure | BF78: CPTAC-318 | BP78: Site 2 specific; submitted to Assay Portal byBroad Institute and FHCRC
A79: BASP1 | B79: NAP-22, NAP22, CAP23, CAP-23 | C79: brain abundant, membrane attached signal protein 1 | D79: P80723 | E79: Non-modified | G79: Human | H79: CPTAC-31 | I79: Kennedy JJ et al, Nature Methods (2014) Feb;11(2):149-55. | K79: =IF(A79=N79,1,0) -> 1 | L79: Direct MRM | M79: 10409 | N79: BASP1 | O79: NAP-22, NAP22, CAP23, CAP-23 | P79: brain abundant, membrane attached signal protein 1 | Q79: Completed | R79: X | S79: GO | T79: ESEPQAAAEPAEAK | U79: ESEPQAAAEPAEAK | V79: ESEPQAAAEPAEAK | AO79: P80723 | AP79: P80723 | AQ79: IPI00299024 | AR79: Pure | AS79: Pure | BF79: CPTAC-31 | BP79: Site 1 specific; submitted to Assay Portal byFred Hutchinson Cancer Research Center
A80: BASP1 | B80: NAP-22, NAP22, CAP23, CAP-23 | C80: brain abundant, membrane attached signal protein 1 | D80: P80723 | E80: Non-modified | G80: Human | H80: CPTAC-32 | I80: Kennedy JJ et al, Nature Methods (2014) Feb;11(2):149-55. | K80: =IF(A80=N80,1,0) -> 1 | L80: Direct MRM | M80: 10409 | N80: BASP1 | O80: NAP-22, NAP22, CAP23, CAP-23 | P80: brain abundant, membrane attached signal protein 1 | Q80: Completed | R80: X | S80: GO | T80: ETPAATEAPSSTPK | U80: ETPAATEAPSSTPK | V80: ETPAATEAPSSTPK | AO80: P80723 | AP80: P80723 | AQ80: IPI00299024 | AR80: Pure | AS80: Pure | BF80: CPTAC-32 | BP80: Site 1 specific; submitted to Assay Portal byFred Hutchinson Cancer Research Center
A81: BCAM | B81: CD239 | C81: basal cell adhesion molecule (Lutheran blood group) | D81: P50895 | E81: Non-modified | G81: Human | H81: CPTAC-174 | I81: Kennedy JJ et al, Nature Methods (2014) Feb;11(2):149-55. | K81: =IF(A81=N81,1,0) -> 1 | L81: Direct MRM | M81: 4059 | N81: BCAM | O81: CD239 | P81: basal cell adhesion molecule (Lutheran blood group) | Q81: Completed | R81: X | S81: GO | T81: LVLAEAQVGDER | U81: LVLAEAQVGDER | V81: LVLAEAQVGDER | AO81: P50895 | AP81: P50895 | AQ81: IPI00002406 | AR81: Pure | AS81: Pure | BF81: CPTAC-174 | BP81: Interlaboratory; submitted to Assay Portal byFred Hutchinson Cancer Research Center
A82: BCAM | B82: CD239 | C82: basal cell adhesion molecule (Lutheran blood group) | D82: P50895 | E82: Non-modified | G82: Human | H82: CPTAC-175 | I82: Kennedy JJ et al, Nature Methods (2014) Feb;11(2):149-55. | K82: =IF(A82=N82,1,0) -> 1 | L82: Direct MRM | M82: 4059 | N82: BCAM | O82: CD239 | P82: basal cell adhesion molecule (Lutheran blood group) | Q82: Completed | R82: X | S82: GO | T82: VAYLDPLELSEGK | U82: VAYLDPLELSEGK | V82: VAYLDPLELSEGK | AO82: P50895 | AP82: P50895 | AQ82: IPI00002406 | AR82: Pure | AS82: Pure | BF82: CPTAC-175 | BP82: Interlaboratory; submitted to Assay Portal byFred Hutchinson Cancer Research Center
A83: BSG | B83: EMMPRIN, CD147, EMPRIN | C83: basigin (Ok blood group) | D83: P35613 | E83: Non-modified | G83: Human | H83: CPTAC-320 | I83: Kennedy JJ et al, Nature Methods (2014) Feb;11(2):149-55. | K83: =IF(A83=N83,1,0) -> 1 | L83: Direct MRM | M83: 682 | N83: BSG | O83: EMMPRIN, CD147, EMPRIN | P83: basigin (Ok blood group) | Q83: Completed | R83: X | S83: GO | T83: FFVSSSQGR | U83: FFVSSSQGR | V83: FFVSSSQGR | AO83: P35613 | AP83: P35613 | AQ83: IPI00019906 | AR83: Pure | AS83: Pure | BF83: CPTAC-320 | BP83: Site 2 specific; submitted to Assay Portal byBroad Institute and FHCRC
A84: BSG | B84: EMMPRIN, CD147, EMPRIN | C84: basigin (Ok blood group) | D84: P35613 | E84: Non-modified | G84: Human | H84: CPTAC-319 | I84: Kennedy JJ et al, Nature Methods (2014) Feb;11(2):149-55. | K84: =IF(A84=N84,1,0) -> 1 | L84: Direct MRM | M84: 682 | N84: BSG | O84: EMMPRIN, CD147, EMPRIN | P84: basigin (Ok blood group) | Q84: Completed | R84: X | S84: GO | T84: SESVPPVTDWAWYK | U84: SESVPPVTDWAWYK | V84: SESVPPVTDWAWYK | AO84: P35613 | AP84: P35613 | AQ84: IPI00019906 | AR84: Pure | AS84: Pure | BF84: CPTAC-319 | BP84: Site 2 specific; submitted to Assay Portal byBroad Institute and FHCRC
A85: BUB3 | B85: BUB3L | C85: budding uninhibited by benzimidazoles 3 homolog (yeast) | D85: O43684 | E85: Non-modified | G85: Human | H85: CPTAC-465 | I85: Kennedy JJ et al, Nature Methods (2014) Feb;11(2):149-55. | K85: =IF(A85=N85,1,0) -> 1 | L85: Direct MRM | M85: 9184 | N85: BUB3 | O85: BUB3L | P85: budding uninhibited by benzimidazoles 3 homolog (yeast) | Q85: Completed | R85: X | S85: GO | T85: VAVEYLDPSPEVQK | U85: VAVEYLDPSPEVQK | V85: VAVEYLDPSPEVQK | AO85: O43684 | AP85: O43684 | AQ85: IPI00013468 | AR85: Pure | AS85: Pure | BF85: CPTAC-465 | BP85: Site 3 specific; submitted to Assay Portal bySeoul National University / Korea Institute of Science and Technology and FHCRC
A86: BUB3 | B86: BUB3L | C86: budding uninhibited by benzimidazoles 3 homolog (yeast) | D86: O43684 | E86: Non-modified | G86: Human | H86: CPTAC-464 | I86: Kennedy JJ et al, Nature Methods (2014) Feb;11(2):149-55. | K86: =IF(A86=N86,1,0) -> 1 | L86: Direct MRM | M86: 9184 | N86: BUB3 | O86: BUB3L | P86: budding uninhibited by benzimidazoles 3 homolog (yeast) | Q86: Completed | R86: X | S86: GO | T86: VYTLSVSGDR | U86: VYTLSVSGDR | V86: VYTLSVSGDR | AO86: O43684 | AP86: O43684 | AQ86: IPI00013468 | AR86: Pure | AS86: Pure | BF86: CPTAC-464 | BP86: Site 3 specific; submitted to Assay Portal bySeoul National University / Korea Institute of Science and Technology and FHCRC
A87: C1QBP | B87: gC1Q-R, gC1qR, p32, SF2p32 | C87: complement component 1, q subcomponent binding protein | D87: Q07021 | E87: Non-modified | G87: Human | H87: CPTAC-176 | I87: Kennedy JJ et al, Nature Methods (2014) Feb;11(2):149-55. | K87: =IF(A87=N87,1,0) -> 1 | L87: Direct MRM | M87: 708 | N87: C1QBP | O87: gC1Q-R, gC1qR, p32, SF2p32 | P87: complement component 1, q subcomponent binding protein | Q87: Completed | R87: X | S87: GO | T87: EVSFQSTGESEWK | U87: EVSFQSTGESEWK | V87: EVSFQSTGESEWK | W87: IFSIR.EVSFQSTGESEWK^.DTN | AE87: 1 | AO87: Q07021 | AP87: Q07021 | AQ87: IPI00014230 | AR87: Pure | AS87: Pure | BF87: CPTAC-176 | BP87: Interlaboratory; submitted to Assay Portal byFred Hutchinson Cancer Research Center
A88: CA2 | B88: Car2, CA-II, CAII | C88: carbonic anhydrase II | D88: P00918 | E88: Non-modified | G88: Human | H88: CPTAC-178 | I88: Kennedy JJ et al, Nature Methods (2014) Feb;11(2):149-55. | K88: =IF(A88=N88,1,0) -> 1 | L88: Direct MRM | M88: 760 | N88: CA2 | O88: Car2, CA-II, CAII | P88: carbonic anhydrase II | Q88: Completed | R88: X | S88: GO | T88: SADFTNFDPR | U88: SADFTNFDPR | V88: SADFTNFDPR | W88: GK.SADFTNFDPR.GLL | AK88: 1 | AO88: P00918 | AP88: P00918 | AQ88: IPI00218414 | AR88: Pure | AS88: Pure | BF88: CPTAC-178 | BP88: Interlaboratory; submitted to Assay Portal byFred Hutchinson Cancer Research Center
A89: CA2 | B89: Car2, CA-II, CAII | C89: carbonic anhydrase II | D89: P00918 | E89: Non-modified | G89: Human | H89: CPTAC-177 | I89: Kennedy JJ et al, Nature Methods (2014) Feb;11(2):149-55. | K89: =IF(A89=N89,1,0) -> 1 | L89: Direct MRM | M89: 760 | N89: CA2 | O89: Car2, CA-II, CAII | P89: carbonic anhydrase II | Q89: Completed | R89: X | S89: GO | T89: VVDVLDSIK | U89: VVDVLDSIK | V89: VVDVLDSIK | W89: GLQK.VVDVLDSIK.TK | AK89: 1 | AO89: P00918 | AP89: P00918 | AQ89: IPI00218414 | AR89: Pure | AS89: Pure | BF89: CPTAC-177 | BP89: Interlaboratory; submitted to Assay Portal byFred Hutchinson Cancer Research Center
A90: CACYBP | B90: SIP, S100A6BP | C90: calcyclin binding protein | D90: Q9HB71 | E90: Non-modified | G90: Human | H90: CPTAC-321 | I90: Kennedy JJ et al, Nature Methods (2014) Feb;11(2):149-55. | K90: =IF(A90=N90,1,0) -> 1 | L90: Direct MRM | M90: 27101 | N90: CACYBP | O90: SIP, S100A6BP | P90: calcyclin binding protein | Q90: Completed | R90: X | S90: GO | T90: IYITLTGVHQVPTENVQVHFTER | U90: IYITLTGVHQVPTENVQVHFTER | V90: IYITLTGVHQVPTENVQVHFTER | AO90: Q9HB71 | AP90: Q9HB71 | AQ90: IPI00395627 | AR90: Pure | AS90: Pure | BF90: CPTAC-321 | BP90: Site 2 specific; submitted to Assay Portal byBroad Institute and FHCRC
A91: CACYBP | B91: SIP, S100A6BP | C91: calcyclin binding protein | D91: Q9HB71 | E91: Non-modified | G91: Human | H91: CPTAC-322 | I91: Kennedy JJ et al, Nature Methods (2014) Feb;11(2):149-55. | K91: =IF(A91=N91,1,0) -> 1 | L91: Direct MRM | M91: 27101 | N91: CACYBP | O91: SIP, S100A6BP | P91: calcyclin binding protein | Q91: Completed | R91: X | S91: GO | T91: TDTVLILC[+57]R | U91: TDTVLIL(Cam)R | V91: TDTVLILCR | AO91: Q9HB71 | AP91: Q9HB71 | AQ91: IPI00395627 | AR91: Pure | AS91: Pure | BF91: CPTAC-322 | BP91: Site 2 specific; submitted to Assay Portal byBroad Institute and FHCRC
A92: CAD | B92: GATD4 | C92: carbamoyl-phosphate synthetase 2, aspartate transcarbamylase, and dihydroorotase | D92: P27708 | E92: Non-modified | G92: Human | H92: CPTAC-466 | I92: Kennedy JJ et al, Nature Methods (2014) Feb;11(2):149-55. | K92: =IF(A92=N92,1,0) -> 1 | L92: Direct MRM | M92: 790 | N92: CAD | O92: GATD4 | P92: carbamoyl-phosphate synthetase 2, aspartate transcarbamylase, and dihydroorotase | Q92: Completed | R92: X | S92: GO | T92: AAFALGGLGSGFASNR | U92: AAFALGGLGSGFASNR | V92: AAFALGGLGSGFASNR | AO92: P27708 | AP92: P27708 | AQ92: IPI00301263 | AR92: Pure | AS92: Pure | BF92: CPTAC-466 | BP92: Site 3 specific
A93: CAD | B93: GATD4 | C93: carbamoyl-phosphate synthetase 2, aspartate transcarbamylase, and dihydroorotase | D93: P27708 | E93: Non-modified | G93: Human | H93: CPTAC-467 | I93: Kennedy JJ et al, Nature Methods (2014) Feb;11(2):149-55. | K93: =IF(A93=N93,1,0) -> 1 | L93: Direct MRM | M93: 790 | N93: CAD | O93: GATD4 | P93: carbamoyl-phosphate synthetase 2, aspartate transcarbamylase, and dihydroorotase | Q93: Completed | R93: X | S93: GO | T93: VLGTSPEAIDSAENR | U93: VLGTSPEAIDSAENR | V93: VLGTSPEAIDSAENR | AO93: P27708 | AP93: P27708 | AQ93: IPI00301263 | AR93: Pure | AS93: Pure | BF93: CPTAC-467 | BP93: Site 3 specific; submitted to Assay Portal bySeoul National University / Korea Institute of Science and Technology and FHCRC
A94: CALD1 | B94: CDM, H-CAD, L-CAD | C94: caldesmon 1 | D94: Q05682 | E94: Non-modified | G94: Human | H94: CPTAC-324 | I94: Kennedy JJ et al, Nature Methods (2014) Feb;11(2):149-55. | K94: =IF(A94=N94,1,0) -> 1 | L94: Direct MRM | M94: 800 | N94: CALD1 | O94: CDM, H-CAD, L-CAD | P94: caldesmon 1 | Q94: Completed | R94: X | S94: GO | T94: GNVFSSPTAAGTPNK | U94: GNVFSSPTAAGTPNK | V94: GNVFSSPTAAGTPNK | AO94: Q05682 | AP94: Q05682 | AQ94: IPI00014516 | AR94: Pure | AS94: Pure | BF94: CPTAC-324 | BP94: Site 2 specific; submitted to Assay Portal byBroad Institute and FHCRC
A95: CALD1 | B95: CDM, H-CAD, L-CAD | C95: caldesmon 1 | D95: Q05682 | E95: Non-modified | G95: Human | H95: CPTAC-323 | I95: Kennedy JJ et al, Nature Methods (2014) Feb;11(2):149-55. | K95: =IF(A95=N95,1,0) -> 1 | L95: Direct MRM | M95: 800 | N95: CALD1 | O95: CDM, H-CAD, L-CAD | P95: caldesmon 1 | Q95: Completed | R95: X | S95: GO | T95: LEQYTSAIEGTK | U95: LEQYTSAIEGTK | V95: LEQYTSAIEGTK | AO95: Q05682 | AP95: Q05682 | AQ95: IPI00014516 | AR95: Pure | AS95: Pure | BF95: CPTAC-323 | BP95: Site 2 specific; submitted to Assay Portal byBroad Institute and FHCRC
A96: CALR | B96: RO, SSA, cC1qR, CRT, FLJ26680 | C96: calreticulin | D96: P27797 | E96: Non-modified | G96: Human | H96: CPTAC-33 | I96: Kennedy JJ et al, Nature Methods (2014) Feb;11(2):149-55. | K96: =IF(A96=N96,1,0) -> 1 | L96: Direct MRM | M96: 811 | N96: CALR | O96: RO, SSA, cC1qR, CRT, FLJ26680 | P96: calreticulin | Q96: Completed | R96: X | S96: GO | T96: FYALSASFEPFSNK | U96: FYALSASFEPFSNK | V96: FYALSASFEPFSNK | AO96: P27797 | AP96: P27797 | AQ96: IPI00020599 | AR96: Pure | AS96: Pure | BF96: CPTAC-33 | BP96: Site 1 specific; submitted to Assay Portal byFred Hutchinson Cancer Research Center
A97: CALR | B97: RO, SSA, cC1qR, CRT, FLJ26680 | C97: calreticulin | D97: P27797 | E97: Non-modified | G97: Human | H97: CPTAC-34 | I97: Kennedy JJ et al, Nature Methods (2014) Feb;11(2):149-55. | K97: =IF(A97=N97,1,0) -> 1 | L97: Direct MRM | M97: 811 | N97: CALR | O97: RO, SSA, cC1qR, CRT, FLJ26680 | P97: calreticulin | Q97: Completed | R97: X | S97: GO | T97: IDDPTDSKPEDWDKPEHIPDPDAK | U97: IDDPTDSKPEDWDKPEHIPDPDAK | V97: IDDPTDSKPEDWDKPEHIPDPDAK | AO97: P27797 | AP97: P27797 | AQ97: IPI00020599 | AR97: Pure | AS97: Pure | BF97: CPTAC-34 | BP97: Site 1 specific; submitted to Assay Portal byFred Hutchinson Cancer Research Center
A98: CAP1 | B98: CAP | C98: CAP, adenylate cyclase-associated protein 1 (yeast) | D98: Q01518 | E98: Non-modified | G98: Human | H98: CPTAC-325 | I98: Kennedy JJ et al, Nature Methods (2014) Feb;11(2):149-55. | K98: =IF(A98=N98,1,0) -> 1 | L98: Direct MRM | M98: 10487 | N98: CAP1 | O98: CAP | P98: CAP, adenylate cyclase-associated protein 1 (yeast) | Q98: Completed | R98: X | S98: GO | T98: LSDLLAPISEQIK | U98: LSDLLAPISEQIK | V98: LSDLLAPISEQIK | AO98: Q01518 | AP98: Q01518 | AQ98: IPI00008274 | AR98: Pure | AS98: Pure | BF98: CPTAC-325 | BP98: Site 2 specific; submitted to Assay Portal byBroad Institute and FHCRC
A99: CAP1 | B99: CAP | C99: CAP, adenylate cyclase-associated protein 1 (yeast) | D99: Q01518 | E99: Non-modified | G99: Human | H99: CPTAC-326 | I99: Kennedy JJ et al, Nature Methods (2014) Feb;11(2):149-55. | K99: =IF(A99=N99,1,0) -> 1 | L99: Direct MRM | M99: 10487 | N99: CAP1 | O99: CAP | P99: CAP, adenylate cyclase-associated protein 1 (yeast) | Q99: Completed | R99: X | S99: GO | T99: VENQENVSNLVIEDTELK | U99: VENQENVSNLVIEDTELK | V99: VENQENVSNLVIEDTELK | AO99: Q01518 | AP99: Q01518 | AQ99: IPI00008274 | AR99: Pure | AS99: Pure | BF99: CPTAC-326 | BP99: Site 2 specific; submitted to Assay Portal byBroad Institute and FHCRC
A100: CAPG | B100: MCP | C100: capping protein (actin filament), gelsolin-like | D100: P40121 | E100: Non-modified | G100: Human | H100: CPTAC-328 | I100: Kennedy JJ et al, Nature Methods (2014) Feb;11(2):149-55. | K100: =IF(A100=N100,1,0) -> 1 | L100: Direct MRM | M100: 822 | N100: CAPG | O100: MCP | P100: capping protein (actin filament), gelsolin-like | Q100: Completed | R100: X | S100: GO | T100: EGNPEEDLTADK | U100: EGNPEEDLTADK | V100: EGNPEEDLTADK | AO100: P40121 | AP100: P40121 | AQ100: IPI00027341 | AR100: Pure | AS100: Pure | BF100: CPTAC-328 | BP100: Site 2 specific; submitted to Assay Portal byBroad Institute and FHCRC
A101: CAPG | B101: MCP | C101: capping protein (actin filament), gelsolin-like | D101: P40121 | E101: Non-modified | G101: Human | H101: CPTAC-327 | I101: Kennedy JJ et al, Nature Methods (2014) Feb;11(2):149-55. | K101: =IF(A101=N101,1,0) -> 1 | L101: Direct MRM | M101: 822 | N101: CAPG | O101: MCP | P101: capping protein (actin filament), gelsolin-like | Q101: Completed | R101: X | S101: GO | T101: YQEGGVESAFHK | U101: YQEGGVESAFHK | V101: YQEGGVESAFHK | AO101: P40121 | AP101: P40121 | AQ101: IPI00027341 | AR101: Pure | AS101: Pure | BF101: CPTAC-327 | BP101: Site 2 specific; submitted to Assay Portal byBroad Institute and FHCRC
...

Sheet DirectMRM_InDev(web)
A1: Unmodified targets quantifiable by direct MRM assays in neat cell lysates (In Development)
A3: Gene Symbol (HGNC, genenames.org) | B3: Alternate Gene Symbols | C3: Target protein name | D3: UniProt ID (& link) | E3: Peptide Modification detected | F3: Modification site | G3: Assay Species | H3: NCI CPTAC Assay Portal ID (& link) | I3: Reference | L3: Assay Type | M3: GeneIDs | N3: HGNC Gene symbol | O3: Alias Gene Symbols | P3: Human protein target name (UniProt) | Q3: Assay Completion Status | R3: List on Website? | S3: Project | T3: Targeted peptide analyte (Skyline notation) Peptide Sequence ([+80] indicates phosphorylation, [+114] indicates ubiquitination, and [+57] indicates carbamidomethylated Cys); For the RAS targets: BOLD font = non-phosphorylated version of phospho target); (yellow highlighting indicates RAS targets to which mAbs are being generated by >1 Ab companies) | U3: Peptide Modified Sequence Annotated | V3: Non Modified Peptide Sequence | W3: Extended Peptide Sequence (analyte peptide sequence inside periods and/or ^) | X3: Peptide notes | Y3: DDR1 Panel | Z3: DDR2 Panel | AA3: DDR3 Panel | AB3: IO-1 Panel | AC3: IO-2 Panel | AD3: IO-3 Panel | AE3: IO-4 Panel | AF3: IO-4 Jake | AG3: Ras-MAPK 1 Panel | AH3: Ras-MAPK 2 Panel | AI3: HER2+ Normalization Panel | AJ3: PTRC global prediction model | AK3: PTRC phospho prediction model | AL3: Type of peptide (e.g. Immunogen or Counterscreen, esp. for HLA Apollo peps) | AM3: Targeted peptide modification site | AN3: UniProt Accession ID (no link) | AO3: UniProt Accession URL | AP3: IPIaccessionID | AQ3: Light peptide rec'd (Sender, vendor, purified or crude) | AR3: Heavy peptide rec'd (Sender, vendor, purified or crude) | AS3: Light peptide vendor Order Confirmation # | AT3: Light peptide vendor Array # | AU3: Heavy peptide vendor Order Confirmation # | AV3: Heavy peptide vendor Array # | AW3: Date free peptide was sent to Xiuwen (Excel Biopharm) | AX3: Transitions | AY3: Antibody ID (including primary clone and subclone #s or specific heavy and light chain combination) | AZ3: Backup Antibody ID(s) | BA3: Specific or Total mAb? | BB3: Multiple Abs listed for this target | BC3: Ab company | BD3: Mouse or rabbit mAb | BE3: CPTAC Assay Portal ID | BF3: CPTC McAb clone ID on Antibody Portal (http://antibodies.cancer.gov) | BG3: Immuno-MRM initiation date | BH3: Date of purified mAb delivery (1st production) | BI3: 2nd Production run completed | BJ3: Estimated date of mAb project completion (date we get hybridoma or cDNA) | BK3: Approx. date of purified mAb delivery | BL3: Date of purified mAb delivery for 2nd production run | BM3: IP or MTA agreement (NCI ID, FH ID, date, initials of cooperating institutions) | BN3: Reference | BO3: Other notes
A4: CA2 | C4: carbonic anhydrase 2 | D4: P00918 | E4: Non-Modified | G4: Human | K4: =IF(A4=N4,"TRUE","FALSE") -> TRUE | L4: Direct MRM | N4: CA2 | P4: carbonic anhydrase 2 | Q4: Pending | R4: X | S4: CPTAC3-PredictionModel | T4: EPISVSSEQVLK | U4: EPISVSSEQVLK | V4: EPISVSSEQVLK | W4: VLK.EPISVSSEQVLK.FRK | AF4: =_xlfn.XLOOKUP(U4,IO4_Jake!$D$2:$D$398,IO4_Jake!$D$2:$D$398) -> #N/A | AJ4: 1 | AN4: P00918 | AO4: P00918 | BO4: Also in EDRN-AIMS
A5: CA2 | C5: carbonic anhydrase 2 | D5: P00918 | E5: Non-Modified | G5: Human | K5: =IF(A5=N5,"TRUE","FALSE") -> TRUE | L5: Direct MRM | N5: CA2 | P5: carbonic anhydrase 2 | Q5: Pending | R5: X | S5: CPTAC3-PredictionModel | T5: GGPLDGTYR | U5: GGPLDGTYR | V5: GGPLDGTYR | W5: AVLK.GGPLDGTYR.LIQ | AF5: =_xlfn.XLOOKUP(U5,IO4_Jake!$D$2:$D$398,IO4_Jake!$D$2:$D$398) -> #N/A | AJ5: 1 | AN5: P00918 | AO5: P00918
A6: CA2 | C6: carbonic anhydrase 2 | D6: P00918 | E6: Non-Modified | G6: Human | K6: =IF(A6=N6,"TRUE","FALSE") -> TRUE | L6: Direct MRM | N6: CA2 | P6: carbonic anhydrase 2 | Q6: Pending | R6: X | S6: CPTAC3-PredictionModel | T6: QSPVDIDTHTAK | U6: QSPVDIDTHTAK | V6: QSPVDIDTHTAK | W6: GER.QSPVDIDTHTAK.YDPSLK | AF6: =_xlfn.XLOOKUP(U6,IO4_Jake!$D$2:$D$398,IO4_Jake!$D$2:$D$398) -> #N/A | AJ6: 1 | AN6: P00918 | AO6: P00918
A7: COX6C | C7: cytochrome c oxidase subunit 6C | D7: P09669 | E7: Non-Modified | G7: Human | K7: =IF(A7=N7,"TRUE","FALSE") -> TRUE | L7: Direct MRM | N7: COX6C | P7: cytochrome c oxidase subunit 6C | Q7: Pending | R7: X | S7: CPTAC3-PredictionModel | T7: AGIFQSVK | U7: AGIFQSVK | V7: AGIFQSVK | W7: MRK.AGIFQSVK.// | AF7: =_xlfn.XLOOKUP(U7,IO4_Jake!$D$2:$D$398,IO4_Jake!$D$2:$D$398) -> #N/A | AJ7: 1 | AN7: P09669 | AO7: P09669
A8: COX6C | C8: cytochrome c oxidase subunit 6C | D8: P09669 | E8: Non-Modified | G8: Human | K8: =IF(A8=N8,"TRUE","FALSE") -> TRUE | L8: Direct MRM | N8: COX6C | P8: cytochrome c oxidase subunit 6C | Q8: Pending | R8: X | S8: CPTAC3-PredictionModel | T8: AYADFYR | U8: AYADFYR | V8: AYADFYR | W8: RKK.AYADFYR.NYDVMK | AF8: =_xlfn.XLOOKUP(U8,IO4_Jake!$D$2:$D$398,IO4_Jake!$D$2:$D$398) -> #N/A | AJ8: 1 | AN8: P09669 | AO8: P09669
A9: COX7A2 | C9: cytochrome c oxidase subunit 7A2 | D9: P14406 | E9: Non-Modified | G9: Human | K9: =IF(A9=N9,"TRUE","FALSE") -> TRUE | L9: Direct MRM | N9: COX7A2 | P9: cytochrome c oxidase subunit 7A2 | Q9: Pending | R9: X | S9: CPTAC3-PredictionModel | T9: GGVADALLYR | U9: GGVADALLYR | V9: GGVADALLYR | W9: YLK.GGVADALLYR.ATM | AF9: =_xlfn.XLOOKUP(U9,IO4_Jake!$D$2:$D$398,IO4_Jake!$D$2:$D$398) -> #N/A | AJ9: 1 | AN9: P14406 | AO9: P14406
A10: COX7A2 | C10: cytochrome c oxidase subunit 7A2 | D10: P14406 | E10: Non-Modified | G10: Human | K10: =IF(A10=N10,"TRUE","FALSE") -> TRUE | L10: Direct MRM | N10: COX7A2 | P10: cytochrome c oxidase subunit 7A2 | Q10: Pending | R10: X | S10: CPTAC3-PredictionModel | T10: LFQEDDEIPLYLK | U10: LFQEDDEIPLYLK | V10: LFQEDDEIPLYLK | W10: KQK.LFQEDDEIPLYLK.GGV | AF10: =_xlfn.XLOOKUP(U10,IO4_Jake!$D$2:$D$398,IO4_Jake!$D$2:$D$398) -> #N/A | AJ10: 1 | AN10: P14406 | AO10: P14406
A11: COX7C | C11: cytochrome c oxidase subunit 7C | D11: P15954 | E11: Non-Modified | G11: Human | K11: =IF(A11=N11,"TRUE","FALSE") -> TRUE | L11: Direct MRM | N11: COX7C | P11: cytochrome c oxidase subunit 7C | Q11: Pending | R11: X | S11: CPTAC3-PredictionModel | T11: SHYEEGPGK | U11: SHYEEGPGK | V11: SHYEEGPGK | W11: VRR.SHYEEGPGK.NLPFS | AF11: =_xlfn.XLOOKUP(U11,IO4_Jake!$D$2:$D$398,IO4_Jake!$D$2:$D$398) -> #N/A | AJ11: 1 | AN11: P15954 | AO11: P15954
A12: CPOX | C12: coproporphyrinogen oxidase | D12: P36551 | E12: Non-Modified | G12: Human | K12: =IF(A12=N12,"TRUE","FALSE") -> TRUE | L12: Direct MRM | N12: CPOX | P12: coproporphyrinogen oxidase | Q12: Pending | R12: X | S12: CPTAC3-PredictionModel | T12: AVVPSYIPLVK | U12: AVVPSYIPLVK | V12: AVVPSYIPLVK | W12: SCAR.AVVPSYIPLVK.KHCD | AF12: =_xlfn.XLOOKUP(U12,IO4_Jake!$D$2:$D$398,IO4_Jake!$D$2:$D$398) -> #N/A | AJ12: 1 | AN12: P36551 | AO12: P36551 | BO12: Also in EDRN-AIMS
A13: GLUD1 | C13: glutamate dehydrogenase 1 | D13: P00367 | E13: Non-Modified | G13: Human | K13: =IF(A13=N13,"TRUE","FALSE") -> TRUE | L13: Direct MRM | N13: GLUD1 | P13: glutamate dehydrogenase 1 | Q13: Pending | R13: X | S13: CPTAC3-PredictionModel | T13: HGGTIPIVPTAEFQDR | U13: HGGTIPIVPTAEFQDR | V13: HGGTIPIVPTAEFQDR | W13: FGK.HGGTIPIVPTAEFQDR.ISGASEK | AF13: =_xlfn.XLOOKUP(U13,IO4_Jake!$D$2:$D$398,IO4_Jake!$D$2:$D$398) -> #N/A | AJ13: 1 | AN13: P00367 | AO13: P00367 | BO13: Also in EDRN-AIMS
A14: GLUD1 | C14: glutamate dehydrogenase 1 | D14: P00367 | E14: Non-Modified | G14: Human | K14: =IF(A14=N14,"TRUE","FALSE") -> TRUE | L14: Direct MRM | N14: GLUD1 | P14: glutamate dehydrogenase 1 | Q14: Pending | R14: X | S14: CPTAC3-PredictionModel | T14: NYTDNELEK | U14: NYTDNELEK | V14: NYTDNELEK | W14: INPK.NYTDNELEK.ITR | AF14: =_xlfn.XLOOKUP(U14,IO4_Jake!$D$2:$D$398,IO4_Jake!$D$2:$D$398) -> #N/A | AJ14: 1 | AN14: P00367 | AO14: P00367
A15: IL4I1 | C15: interleukin 4 induced 1 | D15: Q96RQ9 | E15: Non-Modified | G15: Human | K15: =IF(A15=N15,"TRUE","FALSE") -> TRUE | L15: Direct MRM | N15: IL4I1 | P15: interleukin 4 induced 1 | Q15: Pending | R15: X | S15: CPTAC3-PredictionModel | T15: ADVVLLTASGPAVK | U15: ADVVLLTASGPAVK | V15: ADVVLLTASGPAVK | W15: VLK.ADVVLLTASGPAVK.RIT | AF15: =_xlfn.XLOOKUP(U15,IO4_Jake!$D$2:$D$398,IO4_Jake!$D$2:$D$398) -> #N/A | AJ15: 1 | AN15: Q96RQ9 | AO15: Q96RQ9
A16: IL4I1 | C16: interleukin 4 induced 1 | D16: Q96RQ9 | E16: Non-Modified | G16: Human | K16: =IF(A16=N16,"TRUE","FALSE") -> TRUE | L16: Direct MRM | N16: IL4I1 | P16: interleukin 4 induced 1 | Q16: Pending | R16: X | S16: CPTAC3-PredictionModel | T16: HMQEALR | U16: HMQEALR | V16: HMQEALR | W16: LPR.HMQEALR.RLH | AF16: =_xlfn.XLOOKUP(U16,IO4_Jake!$D$2:$D$398,IO4_Jake!$D$2:$D$398) -> #N/A | AJ16: 1 | AN16: Q96RQ9 | AO16: Q96RQ9
A17: IL4I1 | C17: interleukin 4 induced 1 | D17: Q96RQ9 | E17: Non-Modified | G17: Human | K17: =IF(A17=N17,"TRUE","FALSE") -> TRUE | L17: Direct MRM | N17: IL4I1 | P17: interleukin 4 induced 1 | Q17: Pending | R17: X | S17: CPTAC3-PredictionModel | T17: IYFAGEHTAYPHGWVETAVK | U17: IYFAGEHTAYPHGWVETAVK | V17: IYFAGEHTAYPHGWVETAVK | W17: YGR.IYFAGEHTAYPHGWVETAVK.SALR | AF17: =_xlfn.XLOOKUP(U17,IO4_Jake!$D$2:$D$398,IO4_Jake!$D$2:$D$398) -> #N/A | AJ17: 1 | AN17: Q96RQ9 | AO17: Q96RQ9
A18: IL4I1 | C18: interleukin 4 induced 1 | D18: Q96RQ9 | E18: Non-Modified | G18: Human | K18: =IF(A18=N18,"TRUE","FALSE") -> TRUE | L18: Direct MRM | N18: IL4I1 | P18: interleukin 4 induced 1 | Q18: Pending | R18: X | S18: CPTAC3-PredictionModel | T18: LGYALRPQEK | U18: LGYALRPQEK | V18: LGYALRPQEK | W18: VPEK.LGYALRPQEK.GHS | AF18: =_xlfn.XLOOKUP(U18,IO4_Jake!$D$2:$D$398,IO4_Jake!$D$2:$D$398) -> #N/A | AJ18: 1 | AN18: Q96RQ9 | AO18: Q96RQ9
A19: LDHA | C19: lactate dehydrogenase A | D19: P00338 | E19: Non-Modified | G19: Human | K19: =IF(A19=N19,"TRUE","FALSE") -> TRUE | L19: Direct MRM | N19: LDHA | P19: lactate dehydrogenase A | Q19: Pending | R19: X | S19: CPTAC3-PredictionModel | T19: FIIPNVVK | U19: FIIPNVVK | V19: FIIPNVVK | W19: IFK.FIIPNVVK.YSPN | AF19: =_xlfn.XLOOKUP(U19,IO4_Jake!$D$2:$D$398,IO4_Jake!$D$2:$D$398) -> #N/A | AJ19: 1 | AN19: P00338 | AO19: P00338
A20: LDHA | C20: lactate dehydrogenase A | D20: P00338 | E20: Non-Modified | G20: Human | K20: =IF(A20=N20,"TRUE","FALSE") -> TRUE | L20: Direct MRM | N20: LDHA | P20: lactate dehydrogenase A | Q20: Pending | R20: X | S20: CPTAC3-PredictionModel | T20: QVVESAYEVIK | U20: QVVESAYEVIK | V20: QVVESAYEVIK | W20: EVHK.QVVESAYEVIK.LKG | AF20: =_xlfn.XLOOKUP(U20,IO4_Jake!$D$2:$D$398,IO4_Jake!$D$2:$D$398) -> #N/A | AJ20: 1 | AN20: P00338 | AO20: P00338
A21: LDHA | C21: lactate dehydrogenase A | D21: P00338 | E21: Non-Modified | G21: Human | K21: =IF(A21=N21,"TRUE","FALSE") -> TRUE | L21: Direct MRM | N21: LDHA | P21: lactate dehydrogenase A | Q21: Pending | R21: X | S21: CPTAC3-PredictionModel | T21: SADTLWGIQK | U21: SADTLWGIQK | V21: SADTLWGIQK | W21: LKK.SADTLWGIQK.ELQF// | AF21: =_xlfn.XLOOKUP(U21,IO4_Jake!$D$2:$D$398,IO4_Jake!$D$2:$D$398) -> #N/A | AJ21: 1 | AN21: P00338 | AO21: P00338
A22: LGALS1 | C22: galectin 1 | D22: P09382 | E22: Non-Modified | G22: Human | K22: =IF(A22=N22,"TRUE","FALSE") -> TRUE | L22: Direct MRM | N22: LGALS1 | P22: galectin 1 | Q22: Pending | R22: X | S22: CPTAC3-PredictionModel | T22: DSNNLC[+57]LHFNPR | U22: DSNNL(Cam)LHFNPR | V22: DSNNLCLHFNPR | W22: LGK.DSNNLCLHFNPR.FNA | AF22: =_xlfn.XLOOKUP(U22,IO4_Jake!$D$2:$D$398,IO4_Jake!$D$2:$D$398) -> #N/A | AJ22: 1 | AN22: P09382 | AO22: P09382
A23: LGALS1 | C23: galectin 1 | D23: P09382 | E23: Non-Modified | G23: Human | K23: =IF(A23=N23,"TRUE","FALSE") -> TRUE | L23: Direct MRM | N23: LGALS1 | P23: galectin 1 | Q23: Pending | R23: X | S23: CPTAC3-PredictionModel | T23: FNAHGDANTIVC[+57]NSK | U23: FNAHGDANTIV(Cam)NSK | V23: FNAHGDANTIVCNSK | W23: FNPR.FNAHGDANTIVCNSK.DGG | AF23: =_xlfn.XLOOKUP(U23,IO4_Jake!$D$2:$D$398,IO4_Jake!$D$2:$D$398) -> #N/A | AJ23: 1 | AN23: P09382 | AO23: P09382
A24: LGALS1 | C24: galectin 1 | D24: P09382 | E24: Non-Modified | G24: Human | K24: =IF(A24=N24,"TRUE","FALSE") -> TRUE | L24: Direct MRM | N24: LGALS1 | P24: galectin 1 | Q24: Pending | R24: X | S24: CPTAC3-PredictionModel | T24: LNLEAINYMAADGDFK | U24: LNLEAINYMAADGDFK | V24: LNLEAINYMAADGDFK | W24: FPNR.LNLEAINYMAADGDFK.IK | AF24: =_xlfn.XLOOKUP(U24,IO4_Jake!$D$2:$D$398,IO4_Jake!$D$2:$D$398) -> #N/A | AJ24: 1 | AN24: P09382 | AO24: P09382 | BO24: Also in EDRN-AIMS
A25: TAB1 | B25: TAB1,MAP3K7IP1 | C25: TGF-beta-activated kinase 1 and MAP3K7-binding protein 1 | D25: Q9NWZ3 | E25: Non-Modified | G25: Human | K25: =IF(A25=N25,"TRUE","FALSE") -> TRUE | L25: Direct MRM | N25: TAB1 | O25: TAB1,MAP3K7IP1 | P25: TGF-beta-activated kinase 1 and MAP3K7-binding protein 1 | Q25: Pending | R25: X | S25: Apollo | T25: QTSLDAVAQAVVDR | U25: QTSLDAVAQAVVDR | V25: QTSLDAVAQAVVDR | W25: TEFAK.QTSLDAVAQAVVDR^.VKRIH | AE25: 1 | AF25: =_xlfn.XLOOKUP(U25,IO4_Jake!$D$2:$D$398,IO4_Jake!$D$2:$D$398) -> QTSLDAVAQAVVDR | AN25: Q9NWZ3 | AO25: Q9NWZ3
A26: TALDO1 | C26: transaldolase 1 | D26: P37837 | E26: Non-Modified | G26: Human | K26: =IF(A26=N26,"TRUE","FALSE") -> TRUE | L26: Direct MRM | N26: TALDO1 | P26: transaldolase 1 | Q26: Pending | R26: X | S26: CPTAC3-PredictionModel | T26: AAQASDLEK | U26: AAQASDLEK | V26: AAQASDLEK | W26: LVPVLSAK.AAQASDLEK.IHL | AF26: =_xlfn.XLOOKUP(U26,IO4_Jake!$D$2:$D$398,IO4_Jake!$D$2:$D$398) -> #N/A | AJ26: 1 | AN26: P37837 | AO26: P37837
A27: TALDO1 | C27: transaldolase 1 | D27: P37837 | E27: Non-Modified | G27: Human | K27: =IF(A27=N27,"TRUE","FALSE") -> TRUE | L27: Direct MRM | N27: TALDO1 | P27: transaldolase 1 | Q27: Pending | R27: X | S27: CPTAC3-PredictionModel | T27: ALAGC[+57]DFLTISPK | U27: ALAG(Cam)DFLTISPK | V27: ALAGCDFLTISPK | W27: GEIK.ALAGCDFLTISPK.LLG | AF27: =_xlfn.XLOOKUP(U27,IO4_Jake!$D$2:$D$398,IO4_Jake!$D$2:$D$398) -> #N/A | AJ27: 1 | AN27: P37837 | AO27: P37837
A28: TALDO1 | C28: transaldolase 1 | D28: P37837 | E28: Non-Modified | G28: Human | K28: =IF(A28=N28,"TRUE","FALSE") -> TRUE | L28: Direct MRM | N28: TALDO1 | P28: transaldolase 1 | Q28: Pending | R28: X | S28: CPTAC3-PredictionModel | T28: FAADAVK | U28: FAADAVK | V28: FAADAVK | W28: GIRK.FAADAVK.LER | AF28: =_xlfn.XLOOKUP(U28,IO4_Jake!$D$2:$D$398,IO4_Jake!$D$2:$D$398) -> #N/A | AJ28: 1 | AN28: P37837 | AO28: P37837
A29: TALDO1 | C29: transaldolase 1 | D29: P37837 | E29: Non-Modified | G29: Human | K29: =IF(A29=N29,"TRUE","FALSE") -> TRUE | L29: Direct MRM | N29: TALDO1 | P29: transaldolase 1 | Q29: Pending | R29: X | S29: CPTAC3-PredictionModel | T29: LLGELLQDNAK | U29: LLGELLQDNAK | V29: LLGELLQDNAK | W29: ISPK.LLGELLQDNAK.LVPV | AF29: =_xlfn.XLOOKUP(U29,IO4_Jake!$D$2:$D$398,IO4_Jake!$D$2:$D$398) -> #N/A | AJ29: 1 | AN29: P37837 | AO29: P37837 | BO29: Also in EDRN-AIMS
A30: TALDO1 | C30: transaldolase 1 | D30: P37837 | E30: Non-Modified | G30: Human | K30: =IF(A30=N30,"TRUE","FALSE") -> TRUE | L30: Direct MRM | N30: TALDO1 | P30: transaldolase 1 | Q30: Pending | R30: X | S30: CPTAC3-PredictionModel | T30: LVPVLSAK | U30: LVPVLSAK | V30: LVPVLSAK | W30: NAK.LVPVLSAK.AAQA | AF30: =_xlfn.XLOOKUP(U30,IO4_Jake!$D$2:$D$398,IO4_Jake!$D$2:$D$398) -> #N/A | AJ30: 1 | AN30: P37837 | AO30: P37837 | BO30: Also in EDRN-AIMS
A31: TFRC | C31: transferrin receptor | D31: P02786 | E31: Non-Modified | G31: Human | K31: =IF(A31=N31,"TRUE","FALSE") -> TRUE | L31: Direct MRM | N31: TFRC | P31: transferrin receptor | Q31: Pending | R31: X | S31: CPTAC3-PredictionModel | T31: LTTDFGNAEK | U31: LTTDFGNAEK | V31: LTTDFGNAEK | W31: ATSR.LTTDFGNAEK.TDR | AF31: =_xlfn.XLOOKUP(U31,IO4_Jake!$D$2:$D$398,IO4_Jake!$D$2:$D$398) -> #N/A | AJ31: 1 | AN31: P02786 | AO31: P02786
A32: TFRC | C32: transferrin receptor | D32: P02786 | E32: Non-Modified | G32: Human | K32: =IF(A32=N32,"TRUE","FALSE") -> TRUE | L32: Direct MRM | N32: TFRC | P32: transferrin receptor | Q32: Pending | R32: X | S32: CPTAC3-PredictionModel | T32: LTVSNVLK | U32: LTVSNVLK | V32: LTVSNVLK | W32: NVK.LTVSNVLK.EIK | AF32: =_xlfn.XLOOKUP(U32,IO4_Jake!$D$2:$D$398,IO4_Jake!$D$2:$D$398) -> #N/A | AJ32: 1 | AN32: P02786 | AO32: P02786
A33: TGM2 | C33: transglutaminase 2 | D33: P21980 | E33: Non-Modified | G33: Human | K33: =IF(A33=N33,"TRUE","FALSE") -> TRUE | L33: Direct MRM | N33: TGM2 | P33: transglutaminase 2 | Q33: Pending | R33: X | S33: CPTAC3-PredictionModel | T33: LVVNFESDK | U33: LVVNFESDK | V33: LVVNFESDK | W33: GLHK.LVVNFESDK.LKAVK | AF33: =_xlfn.XLOOKUP(U33,IO4_Jake!$D$2:$D$398,IO4_Jake!$D$2:$D$398) -> #N/A | AJ33: 1 | AN33: P21980 | AO33: P21980
A34: TGM2 | C34: transglutaminase 2 | D34: P21980 | E34: Non-Modified | G34: Human | K34: =IF(A34=N34,"TRUE","FALSE") -> TRUE | L34: Direct MRM | N34: TGM2 | P34: transglutaminase 2 | Q34: Pending | R34: X | S34: CPTAC3-PredictionModel | T34: SLIVGLK | U34: SLIVGLK | V34: SLIVGLK | W34: SINR.SLIVGLK.ISTK | AF34: =_xlfn.XLOOKUP(U34,IO4_Jake!$D$2:$D$398,IO4_Jake!$D$2:$D$398) -> #N/A | AJ34: 1 | AN34: P21980 | AO34: P21980
A35: TGM2 | C35: transglutaminase 2 | D35: P21980 | E35: Non-Modified | G35: Human | K35: =IF(A35=N35,"TRUE","FALSE") -> TRUE | L35: Direct MRM | N35: TGM2 | P35: transglutaminase 2 | Q35: Pending | R35: X | S35: CPTAC3-PredictionModel | T35: TVEIPDPVEAGEEVK | U35: TVEIPDPVEAGEEVK | V35: TVEIPDPVEAGEEVK | W35: TEEQK.TVEIPDPVEAGEEVK.VR | AF35: =_xlfn.XLOOKUP(U35,IO4_Jake!$D$2:$D$398,IO4_Jake!$D$2:$D$398) -> #N/A | AJ35: 1 | AN35: P21980 | AO35: P21980
A36: TGM2 | C36: transglutaminase 2 | D36: P21980 | E36: Non-Modified | G36: Human | K36: =IF(A36=N36,"TRUE","FALSE") -> TRUE | L36: Direct MRM | N36: TGM2 | P36: transglutaminase 2 | Q36: Pending | R36: X | S36: CPTAC3-PredictionModel | T36: TVSYNGILGPEC[+57]GTK | U36: TVSYNGILGPE(Cam)GTK | V36: TVSYNGILGPECGTK | W36: LCAR.TVSYNGILGPECGTK.YLL | AF36: =_xlfn.XLOOKUP(U36,IO4_Jake!$D$2:$D$398,IO4_Jake!$D$2:$D$398) -> #N/A | AJ36: 1 | AN36: P21980 | AO36: P21980
A37: TGM2 | C37: transglutaminase 2 | D37: P21980 | E37: Non-Modified | G37: Human | K37: =IF(A37=N37,"TRUE","FALSE") -> TRUE | L37: Direct MRM | N37: TGM2 | P37: transglutaminase 2 | Q37: Pending | R37: X | S37: CPTAC3-PredictionModel | T37: YLLNLNLEPFSEK | U37: YLLNLNLEPFSEK | V37: YLLNLNLEPFSEK | W37: GTK.YLLNLNLEPFSEK.SVPL | AF37: =_xlfn.XLOOKUP(U37,IO4_Jake!$D$2:$D$398,IO4_Jake!$D$2:$D$398) -> #N/A | AJ37: 1 | AN37: P21980 | AO37: P21980
A38: YWHAG | C38: tyrosine 3-monooxygenase/tryptophan 5-monooxygenase activation protein gamma | D38: P61981 | E38: Non-Modified | G38: Human | K38: =IF(A38=N38,"TRUE","FALSE") -> TRUE | L38: Direct MRM | N38: YWHAG | P38: tyrosine 3-monooxygenase/tryptophan 5-monooxygenase activation protein gamma | Q38: Pending | R38: X | S38: CPTAC3-PredictionModel | T38: AYSEAHEISK | U38: AYSEAHEISK | V38: AYSEAHEISK | W38: SEK.AYSEAHEISK.EHM | AF38: =_xlfn.XLOOKUP(U38,IO4_Jake!$D$2:$D$398,IO4_Jake!$D$2:$D$398) -> #N/A | AJ38: 1 | AN38: P61981 | AO38: P61981
AE39: =COUNTA(AE4:AE38) -> 1

Sheet Jake_predictorCL3
A1: Panel | B1: Protein Name | C1: Peptide Sequence | D1: LLOQ | E1: Endo | F1: Gene symbol | G1: Description | H1: Uniprot ID
A2: Predictor | B2: sp|O95831|AIFM1_HUMAN | C2: ISGLGLTPEQK | D2: 1 | E2: Yes | F2: AIFM1 | G2: apoptosis inducing factor mitochondria associated 1 | H2: O95831
A3: Predictor | B3: sp|O95831|AIFM1_HUMAN | C3: ELWFSDDPNVTK | D3: 1 | E3: Yes | F3: AIFM1 | G3: apoptosis inducing factor mitochondria associated 1 | H3: O95831
A4: Predictor | B4: sp|O95831|AIFM1_HUMAN | C4: LNDGSQITYEK | D4: 1 | E4: Yes | F4: AIFM1 | G4: apoptosis inducing factor mitochondria associated 1 | H4: O95831
A5: Predictor | B5: sp|O95831|AIFM1_HUMAN | C5: SLSAIDR | D5: 1 | E5: Yes | F5: AIFM1 | G5: apoptosis inducing factor mitochondria associated 1 | H5: O95831
A6: Predictor | B6: sp|O95831|AIFM1_HUMAN | C6: VNAELQAR | D6: 1 | E6: Yes | F6: AIFM1 | G6: apoptosis inducing factor mitochondria associated 1 | H6: O95831
A7: Predictor | B7: sp|Q07817|B2CL1_HUMAN | C7: EAGDEFELR | D7: 1 | E7: Yes | F7: BCL2L1 | G7: BCL2 like 1 | H7: Q07817
A8: Predictor | B8: sp|O00154|BACH_HUMAN | C8: CVAALAR | D8: 1 | E8: Yes | F8: ACOT7 | G8: acyl-CoA thioesterase 7 | H8: O00154
A9: Predictor | B9: sp|O00154|BACH_HUMAN | C9: VLEVPPVVYSR | D9: 1 | E9: Yes | F9: ACOT7 | G9: acyl-CoA thioesterase 7 | H9: O00154
A10: Predictor | B10: sp|P07203|GPX1_HUMAN | C10: GLVVLGFPCNQFGHQENAK | D10: 1 | E10: Yes | F10: GPX1 | G10: glutathione peroxidase 1 | H10: P07203
A11: Predictor | B11: sp|P07203|GPX1_HUMAN | C11: YVRPGGGFEPNFMLFEK | D11: 1 | E11: Yes | F11: GPX1 | G11: glutathione peroxidase 1 | H11: P07203
A12: Predictor | B12: sp|P07203|GPX1_HUMAN | C12: EALPAPSDDATALMTDPK | D12: 1 | E12: Yes | F12: GPX1 | G12: glutathione peroxidase 1 | H12: P07203
A13: Predictor | B13: sp|P07203|GPX1_HUMAN | C13: LITWSPVCR | D13: 1 | E13: Yes | F13: GPX1 | G13: glutathione peroxidase 1 | H13: P07203
... A30: Predictor | B30: sp|P09382|LEG1_HUMAN | C30: LPDGYEFK | D30: 1 | E30: Yes | F30: LGALS1 | G30: galectin 1 | H30: P09382
A31: Predictor | B31: sp|P09382|LEG1_HUMAN | C31: LNLEAINYMAADGDFK | D31: N/A | E31: No | F31: LGALS1 | G31: galectin 1 | H31: P09382
A32: Predictor | B32: sp|P09960|LKHA4_HUMAN | C32: SLVLDTK | D32: 1 | E32: Yes | F32: LTA4H | G32: leukotriene A4 hydrolase | H32: P09960
A33: Predictor | B33: sp|P09960|LKHA4_HUMAN | C33: TLVWSEK | D33: 1 | E33: Yes | F33: LTA4H | G33: leukotriene A4 hydrolase | H33: P09960
A34: Predictor | B34: sp|P09960|LKHA4_HUMAN | C34: TFGETHPFTK | D34: 1 | E34: Yes | F34: LTA4H | G34: leukotriene A4 hydrolase | H34: P09960
A35: Predictor | B35: sp|P09960|LKHA4_HUMAN | C35: FTRPLFK | D35: 10 | E35: Marginal | F35: LTA4H | G35: leukotriene A4 hydrolase | H35: P09960
A36: Predictor | B36: sp|P09960|LKHA4_HUMAN | C36: DLAAFDK | D36: 1 | E36: Yes | F36: LTA4H | G36: leukotriene A4 hydrolase | H36: P09960
A37: Predictor | B37: sp|Q04206|TF65_HUMAN | C37: QVAIVFR | D37: 1 | E37: Yes | F37: RELA | G37: RELA proto-oncogene, NF-kB subunit | H37: Q04206
A38: Predictor | B38: sp|P02786|TFR1_HUMAN | C38: LTVSNVLK | D38: 1 | E38: Yes | F38: TFRC | G38: transferrin receptor | H38: P02786
A39: Predictor | B39: sp|P02786|TFR1_HUMAN | C39: LTTDFGNAEK | D39: 1 | E39: Yes | F39: TFRC | G39: transferrin receptor | H39: P02786
A40: Predictor | B40: sp|P21980|TGM2_HUMAN | C40: SLIVGLK | D40: 1 | E40: Yes | F40: TGM2 | G40: transglutaminase 2 | H40: P21980
A41: Predictor | B41: sp|P21980|TGM2_HUMAN | C41: TVSYNGILGPECGTK | D41: 1 | E41: Yes | F41: TGM2 | G41: transglutaminase 2 | H41: P21980
A42: Predictor | B42: sp|P21980|TGM2_HUMAN | C42: YLLNLNLEPFSEK | D42: 1 | E42: Yes | F42: TGM2 | G42: transglutaminase 2 | H42: P21980
A43: Predictor | B43: sp|P21980|TGM2_HUMAN | C43: TVEIPDPVEAGEEVK | D43: 1 | E43: Yes | F43: TGM2 | G43: transglutaminase 2 | H43: P21980
... A85: Cluster 3 | B85: sp|P36542|ATPG_HUMAN | C85: THSDQFLVAFK | D85: 1 | E85: Yes | F85: ATP5F1C | G85: ATP Synthase F1 Subunit Gamma | H85: P36542
